BEGIN:VCALENDAR
VERSION:2.0
PRODID:-//Nature&#039;s Remedy Cannabis - ECPv6.15.20//NONSGML v1.0//EN
CALSCALE:GREGORIAN
METHOD:PUBLISH
X-ORIGINAL-URL:https://www.naturesremedycannabis.com
X-WR-CALDESC:Events for Nature&#039;s Remedy Cannabis
REFRESH-INTERVAL;VALUE=DURATION:PT1H
X-Robots-Tag:noindex
X-PUBLISHED-TTL:PT1H
BEGIN:VTIMEZONE
TZID:America/Detroit
BEGIN:DAYLIGHT
TZOFFSETFROM:-0500
TZOFFSETTO:-0400
TZNAME:EDT
DTSTART:20220313T070000
END:DAYLIGHT
BEGIN:STANDARD
TZOFFSETFROM:-0400
TZOFFSETTO:-0500
TZNAME:EST
DTSTART:20221106T060000
END:STANDARD
BEGIN:DAYLIGHT
TZOFFSETFROM:-0500
TZOFFSETTO:-0400
TZNAME:EDT
DTSTART:20230312T070000
END:DAYLIGHT
BEGIN:STANDARD
TZOFFSETFROM:-0400
TZOFFSETTO:-0500
TZNAME:EST
DTSTART:20231105T060000
END:STANDARD
BEGIN:DAYLIGHT
TZOFFSETFROM:-0500
TZOFFSETTO:-0400
TZNAME:EDT
DTSTART:20240310T070000
END:DAYLIGHT
BEGIN:STANDARD
TZOFFSETFROM:-0400
TZOFFSETTO:-0500
TZNAME:EST
DTSTART:20241103T060000
END:STANDARD
END:VTIMEZONE
BEGIN:VEVENT
DTSTART;TZID=America/Detroit:20230929T170000
DTEND;TZID=America/Detroit:20230929T230000
DTSTAMP:20260422T125631
CREATED:20230915T185251Z
LAST-MODIFIED:20230915T185251Z
UID:10000012-1696006800-1696028400@www.naturesremedycannabis.com
SUMMARY:Smoketoberfest at Batch Brewing
DESCRIPTION:The follow-up to our big Oktoberfest event. This time around\, the focus is aimed at the food. Although\, there will definitely be plenty of beer to pair with all the smoked meats and veggies. \nYou can expect special menu items\, great beer\, live music\, and games. We hope to see you there! \n\n\n\nCome checkout the NRC Booth at this event\, with cannabis prizes\, CBD and so much more!
URL:https://www.naturesremedycannabis.com/event/smoketoberfest-at-batch-brewing/
LOCATION:Batch Brewing\, 1400 PORTER ST\, DETROIT\, MI\, 48216\, United States
ATTACH;FMTTYPE=image/png:https://www.naturesremedycannabis.com/wp-content/uploads/2023/09/Screenshot-2023-09-15-at-2.42.15-PM.png
END:VEVENT
END:VCALENDAR