BEGIN:VCALENDAR
VERSION:2.0
PRODID:-//Nature&#039;s Remedy Cannabis - ECPv6.15.20//NONSGML v1.0//EN
CALSCALE:GREGORIAN
METHOD:PUBLISH
X-WR-CALNAME:Nature&#039;s Remedy Cannabis
X-ORIGINAL-URL:https://www.naturesremedycannabis.com
X-WR-CALDESC:Events for Nature&#039;s Remedy Cannabis
REFRESH-INTERVAL;VALUE=DURATION:PT1H
X-Robots-Tag:noindex
X-PUBLISHED-TTL:PT1H
BEGIN:VTIMEZONE
TZID:America/Detroit
BEGIN:DAYLIGHT
TZOFFSETFROM:-0500
TZOFFSETTO:-0400
TZNAME:EDT
DTSTART:20220313T070000
END:DAYLIGHT
BEGIN:STANDARD
TZOFFSETFROM:-0400
TZOFFSETTO:-0500
TZNAME:EST
DTSTART:20221106T060000
END:STANDARD
BEGIN:DAYLIGHT
TZOFFSETFROM:-0500
TZOFFSETTO:-0400
TZNAME:EDT
DTSTART:20230312T070000
END:DAYLIGHT
BEGIN:STANDARD
TZOFFSETFROM:-0400
TZOFFSETTO:-0500
TZNAME:EST
DTSTART:20231105T060000
END:STANDARD
BEGIN:DAYLIGHT
TZOFFSETFROM:-0500
TZOFFSETTO:-0400
TZNAME:EDT
DTSTART:20240310T070000
END:DAYLIGHT
BEGIN:STANDARD
TZOFFSETFROM:-0400
TZOFFSETTO:-0500
TZNAME:EST
DTSTART:20241103T060000
END:STANDARD
END:VTIMEZONE
BEGIN:VEVENT
DTSTART;TZID=America/Detroit:20231005T180000
DTEND;TZID=America/Detroit:20231005T220000
DTSTAMP:20260422T125327
CREATED:20230925T221325Z
LAST-MODIFIED:20230925T221325Z
UID:10000016-1696528800-1696543200@www.naturesremedycannabis.com
SUMMARY:Drifter After Dark: Live DJ & Karaoke Night
DESCRIPTION:🎤 Get ready to hit the stage at Drifter Coffee’s Karaoke Night on October 5th from 6-10 PM! 🌟\nUnleash your inner superstar as you sing your heart out with our live DJ\, groove with local vendors’ offerings\, and savor delectable FREE treats! 🎶🛍️ Hosted by the incredible Silk Swade and The Mile High Club\, this night promises unforgettable moments\, awesome music\, and good vibes. With goodie bags sponsored by Nature’s Remedy. Join us for a night of laughter\, music\, and community fun! 🎉☕
URL:https://www.naturesremedycannabis.com/event/drifter-after-dark-live-dj-karaoke-night-2/
LOCATION:Drifter Coffee\, 770 Woodward Heights\, Ferndale\, MI\, 48220\, United States
ATTACH;FMTTYPE=image/jpeg:https://www.naturesremedycannabis.com/wp-content/uploads/2023/09/DRIFTER-FLYER.jpeg
END:VEVENT
END:VCALENDAR