BEGIN:VCALENDAR
VERSION:2.0
PRODID:-//Nature&#039;s Remedy Cannabis - ECPv6.15.20//NONSGML v1.0//EN
CALSCALE:GREGORIAN
METHOD:PUBLISH
X-ORIGINAL-URL:https://www.naturesremedycannabis.com
X-WR-CALDESC:Events for Nature&#039;s Remedy Cannabis
REFRESH-INTERVAL;VALUE=DURATION:PT1H
X-Robots-Tag:noindex
X-PUBLISHED-TTL:PT1H
BEGIN:VTIMEZONE
TZID:America/Detroit
BEGIN:DAYLIGHT
TZOFFSETFROM:-0500
TZOFFSETTO:-0400
TZNAME:EDT
DTSTART:20220313T070000
END:DAYLIGHT
BEGIN:STANDARD
TZOFFSETFROM:-0400
TZOFFSETTO:-0500
TZNAME:EST
DTSTART:20221106T060000
END:STANDARD
BEGIN:DAYLIGHT
TZOFFSETFROM:-0500
TZOFFSETTO:-0400
TZNAME:EDT
DTSTART:20230312T070000
END:DAYLIGHT
BEGIN:STANDARD
TZOFFSETFROM:-0400
TZOFFSETTO:-0500
TZNAME:EST
DTSTART:20231105T060000
END:STANDARD
BEGIN:DAYLIGHT
TZOFFSETFROM:-0500
TZOFFSETTO:-0400
TZNAME:EDT
DTSTART:20240310T070000
END:DAYLIGHT
BEGIN:STANDARD
TZOFFSETFROM:-0400
TZOFFSETTO:-0500
TZNAME:EST
DTSTART:20241103T060000
END:STANDARD
END:VTIMEZONE
BEGIN:VEVENT
DTSTART;TZID=America/Detroit:20231022T160000
DTEND;TZID=America/Detroit:20231022T190000
DTSTAMP:20260422T125632
CREATED:20230928T164058Z
LAST-MODIFIED:20230928T164058Z
UID:10000017-1697990400-1698001200@www.naturesremedycannabis.com
SUMMARY:NRC Trunk or Treat Event
DESCRIPTION:👻🎃👻🎃 𝖘𝖕𝖔𝖔𝖐𝖞 𝖘𝖊𝖆𝖘𝖔𝖓 𝖎𝖘 𝖋𝖎𝖓𝖆𝖑𝖑𝖞 𝖚𝖕𝖔𝖓 𝖚𝖘😈 \nJoin us for our 2nd annual (adult) TRUNK OF TREAT on October 22nd!🍬 we’ve got all the treats..no tricks😏 free fun\, free spooks\, free food\, free candy\, & maybe even something green 🍃💨 stay tuned for updates & sponsor announcements! 😉
URL:https://www.naturesremedycannabis.com/event/nrc-trunk-or-treat-event/
LOCATION:Nature’s Remedy Cannabis\, 925 E Drayton St\, Ferndale\, MI\, 48220\, United States
ATTACH;FMTTYPE=image/jpeg:https://www.naturesremedycannabis.com/wp-content/uploads/2023/09/449C17F8-6F12-4FC5-987C-104A05BAF9CD.jpeg
ORGANIZER;CN="Nature's Remedy Cannabis":MAILTO:contact@nrcemails.com
END:VEVENT
END:VCALENDAR