BEGIN:VCALENDAR
VERSION:2.0
PRODID:-//Nature&#039;s Remedy Cannabis - ECPv6.15.20//NONSGML v1.0//EN
CALSCALE:GREGORIAN
METHOD:PUBLISH
X-ORIGINAL-URL:https://www.naturesremedycannabis.com
X-WR-CALDESC:Events for Nature&#039;s Remedy Cannabis
REFRESH-INTERVAL;VALUE=DURATION:PT1H
X-Robots-Tag:noindex
X-PUBLISHED-TTL:PT1H
BEGIN:VTIMEZONE
TZID:America/Detroit
BEGIN:DAYLIGHT
TZOFFSETFROM:-0500
TZOFFSETTO:-0400
TZNAME:EDT
DTSTART:20220313T070000
END:DAYLIGHT
BEGIN:STANDARD
TZOFFSETFROM:-0400
TZOFFSETTO:-0500
TZNAME:EST
DTSTART:20221106T060000
END:STANDARD
BEGIN:DAYLIGHT
TZOFFSETFROM:-0500
TZOFFSETTO:-0400
TZNAME:EDT
DTSTART:20230312T070000
END:DAYLIGHT
BEGIN:STANDARD
TZOFFSETFROM:-0400
TZOFFSETTO:-0500
TZNAME:EST
DTSTART:20231105T060000
END:STANDARD
BEGIN:DAYLIGHT
TZOFFSETFROM:-0500
TZOFFSETTO:-0400
TZNAME:EDT
DTSTART:20240310T070000
END:DAYLIGHT
BEGIN:STANDARD
TZOFFSETFROM:-0400
TZOFFSETTO:-0500
TZNAME:EST
DTSTART:20241103T060000
END:STANDARD
END:VTIMEZONE
BEGIN:VEVENT
DTSTART;TZID=America/Detroit:20231116T180000
DTEND;TZID=America/Detroit:20231116T230000
DTSTAMP:20260422T110958
CREATED:20230923T163852Z
LAST-MODIFIED:20231114T164732Z
UID:10000014-1700157600-1700175600@www.naturesremedycannabis.com
SUMMARY:Sensi Night
DESCRIPTION:Sensi Night is a neighborhood party and expo hybrid celebrating local businesses and one of the fastest growing industries in the country…cannabis! \nConnect with some of the best brands throughout Michigan\, shake hands with the crafters of your favorite edibles and learn about the best cannabis products Michigan has to offer. \nLaugh some\, learn some\, and leave happy with new like-minded friends! Along with the brand exhibitors\, Sensi Night features some of city’s best live artists and performers\, music\, food\, health and wellness stations including education\, free promo items\, and much more. \n  \nCome visit the NRC Booth for free goodies!
URL:https://www.naturesremedycannabis.com/event/sensi-night-cannacon-official-kickoff-party/
LOCATION:The Eastern Detroit\, 3434 Russell Street\, Suite 501\, Detroit\, MI\, 48207\, United States
ATTACH;FMTTYPE=image/png:https://www.naturesremedycannabis.com/wp-content/uploads/2023/09/Screenshot-2023-11-09-at-2.13.19-PM.png
END:VEVENT
END:VCALENDAR