BEGIN:VCALENDAR
VERSION:2.0
PRODID:-//Nature&#039;s Remedy Cannabis - ECPv6.15.20//NONSGML v1.0//EN
CALSCALE:GREGORIAN
METHOD:PUBLISH
X-WR-CALNAME:Nature&#039;s Remedy Cannabis
X-ORIGINAL-URL:https://www.naturesremedycannabis.com
X-WR-CALDESC:Events for Nature&#039;s Remedy Cannabis
REFRESH-INTERVAL;VALUE=DURATION:PT1H
X-Robots-Tag:noindex
X-PUBLISHED-TTL:PT1H
BEGIN:VTIMEZONE
TZID:America/Detroit
BEGIN:DAYLIGHT
TZOFFSETFROM:-0500
TZOFFSETTO:-0400
TZNAME:EDT
DTSTART:20230312T070000
END:DAYLIGHT
BEGIN:STANDARD
TZOFFSETFROM:-0400
TZOFFSETTO:-0500
TZNAME:EST
DTSTART:20231105T060000
END:STANDARD
BEGIN:DAYLIGHT
TZOFFSETFROM:-0500
TZOFFSETTO:-0400
TZNAME:EDT
DTSTART:20240310T070000
END:DAYLIGHT
BEGIN:STANDARD
TZOFFSETFROM:-0400
TZOFFSETTO:-0500
TZNAME:EST
DTSTART:20241103T060000
END:STANDARD
BEGIN:DAYLIGHT
TZOFFSETFROM:-0500
TZOFFSETTO:-0400
TZNAME:EDT
DTSTART:20250309T070000
END:DAYLIGHT
BEGIN:STANDARD
TZOFFSETFROM:-0400
TZOFFSETTO:-0500
TZNAME:EST
DTSTART:20251102T060000
END:STANDARD
END:VTIMEZONE
BEGIN:VEVENT
DTSTART;TZID=America/Detroit:20240204T160000
DTEND;TZID=America/Detroit:20240204T200000
DTSTAMP:20260422T055036
CREATED:20231110T010203Z
LAST-MODIFIED:20240125T195115Z
UID:10000019-1707062400-1707076800@www.naturesremedycannabis.com
SUMMARY:**SOLD OUT* Sunday Dinner With the Fam - Cannabis Infused Dinner
DESCRIPTION:Step into a world where fine dining meets cannabis magic! Our mission is clear: to create a transformative experience that unites you with others\, nature\, and the incredible cannabis plant. Join us for an immersive event that’s all about community\, exceptional food\, and good vibes. \nWhat’s in store with your ticket: \n🍽️ Indulge in 4 Courses of Cannabis-Infused Fine Dining \n\nCannabis Preroll and a “Sippable” Soup\nSavor Potato Gnocchi with Pomodoro Sauce infused with 710 Labs Persy Rosin \nHalibut with brown butter sauce infused with 710 Labs Persy Rosin and braised greens (vegetarian option available)\nCBD-Infused Lemon Cheesecake\n\nVegan / Vegetarian Options Available for main course! \n  \n🎁 Exclusive Goodie Bag ($400+ Retail Value) \nA curated selection of cannabis products and swag from your favorite brands \n\nPick your FREE Gram of 710 Labs Persy Rosin\, Badder\, Sauce\, or Water Hash from a specially curated menu.\n1 8th of Fear of Boof Flower\n3 8ths of NRC Flower\n6 NRC Prerolls\n3 NRC 200mg Gummies\n1 8th Of Hypha Flower\n1 Pack of 10 Hypha Prerolls\nTHC Products from Light Sky Farms\, Glorious Cannabis Co.\, Nura Cannabis\, Choice Labs\nNRC Pin\, Matches\, Cones x2\, Promo Card\, Stickers\, T-Shirt\, Grafitti Syndicase\n\n🍹 Mocktail & Dab Bar \n\nEnjoy CBD & THC-Infused Mocktails from top cannabis brands\nElevate your experience at the dab bar with the finest concentrates from 710 Labs\n\n🎨 Immerse Yourself in Art \n\nDive into captivating artwork installations before\, during\, and after dinner\n\n🌿 Open Consumption (of provided products) \n\nEnjoy your cannabis openly within the venue\, no worries!\n\n🎁 Personalized Gift \n\nReceive a special token of appreciation to cherish for years\n\nDon’t miss out on the details: \n📢 Stay tuned for sponsor announcements and exact location on our Instagram pages: @Naturesremedy.Cannabis & @GroovyGalzMedia \n❗ Substitutions won’t be accepted\, but we’ll do our best to accommodate your needs \n🍽️ Notify us of allergies/dietary restrictions in advance \n📄 Complete the consumption waiver ahead of time for quicker entry. Click HERE to complete it now! \n🚫 No outside cannabis items or food allowed \n  \nAbout the Hosts: \n👨‍🍳 Chef Blake \n\nA culinary mastermind with a passion for mouthwatering cuisine and community\n\n🌿 Nature’s Remedy Cannabis \n\nYour go-to hub for cannabis education and premium products\n\n🌈 Groovy Galz \n\nTransforming marketing into a groovy adventure to uplift your brand’s journey\n\nJoin us for an unforgettable evening of food\, connections\, and cannabis enlightenment. Get your tickets now and be part of something truly special! 🌿🍽️🌟 \n 
URL:https://www.naturesremedycannabis.com/event/sunday-dinner-with-the-fam-cannabis-infused-dinner/
LOCATION:Detroit\, Detroit\, MI\, United States
ATTACH;FMTTYPE=image/jpeg:https://www.naturesremedycannabis.com/wp-content/uploads/2023/11/join-us-for-a-Warm-evening-out-of-the-cold-5-scaled.jpg
END:VEVENT
END:VCALENDAR