BEGIN:VCALENDAR
VERSION:2.0
PRODID:-//Nature&#039;s Remedy Cannabis - ECPv6.15.20//NONSGML v1.0//EN
CALSCALE:GREGORIAN
METHOD:PUBLISH
X-WR-CALNAME:Nature&#039;s Remedy Cannabis
X-ORIGINAL-URL:https://www.naturesremedycannabis.com
X-WR-CALDESC:Events for Nature&#039;s Remedy Cannabis
REFRESH-INTERVAL;VALUE=DURATION:PT1H
X-Robots-Tag:noindex
X-PUBLISHED-TTL:PT1H
BEGIN:VTIMEZONE
TZID:America/Detroit
BEGIN:DAYLIGHT
TZOFFSETFROM:-0500
TZOFFSETTO:-0400
TZNAME:EDT
DTSTART:20230312T070000
END:DAYLIGHT
BEGIN:STANDARD
TZOFFSETFROM:-0400
TZOFFSETTO:-0500
TZNAME:EST
DTSTART:20231105T060000
END:STANDARD
BEGIN:DAYLIGHT
TZOFFSETFROM:-0500
TZOFFSETTO:-0400
TZNAME:EDT
DTSTART:20240310T070000
END:DAYLIGHT
BEGIN:STANDARD
TZOFFSETFROM:-0400
TZOFFSETTO:-0500
TZNAME:EST
DTSTART:20241103T060000
END:STANDARD
BEGIN:DAYLIGHT
TZOFFSETFROM:-0500
TZOFFSETTO:-0400
TZNAME:EDT
DTSTART:20250309T070000
END:DAYLIGHT
BEGIN:STANDARD
TZOFFSETFROM:-0400
TZOFFSETTO:-0500
TZNAME:EST
DTSTART:20251102T060000
END:STANDARD
END:VTIMEZONE
BEGIN:VEVENT
DTSTART;TZID=America/Detroit:20240326T180000
DTEND;TZID=America/Detroit:20240326T210000
DTSTAMP:20260422T041749
CREATED:20240308T173746Z
LAST-MODIFIED:20240308T174346Z
UID:10000025-1711476000-1711486800@www.naturesremedycannabis.com
SUMMARY:🎲Terpology 101: Game Night Addition
DESCRIPTION:Join us on March 26th\, 2024\, from 6:00 to 9:00pm for one of the most enlightening & engaging experiences at “Terpology 101: Game Night Addition” presented by Mrs. Vicius and Groovy Galz Media. This event is the perfect mix of education & a good ole fashion game night! We are dedicated to helping expanding community knowledge about the fascinating world of terpenes and the molecules found in both cannabis & mushrooms. Terpology is here to help you understand how to use terpenes to elevate your overall experience with plant medicine. The evening promises a unique blend of learning and amusement! Come and play your favorite childhood classics… but with a twist… and our original terpene game created by Mrs.Vicius! Don’t miss this opportunity to explore the realms of cannabis\, mushrooms\, and wellness in a vibrant and inclusive setting. See you there! \n  \n– Hosted by the Esteemed Mrs. Vicius and Groovy Galz Media \n– Title Sponsor: Nature’s Remedy Cannabis \n– Date: March 26th\, 2024 \n– Time: 6:00 PM to 9:00 PM \n– Venue: Ferndale\, MI. Address will be sent 24 hours prior. \n– Key Themes: A Scholarly Exploration of Microdosing\, Cannabis\, and Mushroom Terpenes. \nNotable Features: \n– Unlimited access to modified board game classics. \n– Light snacks & beverages. \n– Exclusive educational content about your favorite brands. \n– A deep dive educational take home handbook on cannabis & mushrooms. \n– An opportunity for collective enlightenment and an open space to ask all questions about cannabis and mushrooms! \n– Take home terpene tasting kit that will be available for pick up after the event at Nature’s Remedy Cannabis. \n\nTICKET INFO:\nTerpene Game Night Pass – $30.00\n– Unlimited access to modified board game classics. \n– Light snacks & beverages. \n– Exclusive educational content about your favorite brands. \n– A deep dive educational take home handbook on cannabis & mushrooms. \n– An opportunity for collective enlightenment and an open space to ask all questions about cannabis and mushrooms! \n– Take home terpene tasting kit that will be available for pick up after the event at Nature’s Remedy Cannabis. \n=======\nSPONSOR INFO:\n\nEducational Booklet Sponsor – $750.00\nBe apart of an evening our guests won’t forget! \nSponsorship Includes: \n-1 Board Game Modified to educate guests on your brand specifically. \n-Logo included on all advertisements & social posts for the event. \n-ONE front & back page in our “Terpology 101” take home terpene guide. \n-Two tickets to the event itself for company representatives to interact with guests in 1:1 conversations about your brand. \n-Branded “Terpene Game” table. \n-The ability to provide samples for our take home terpene tasting kits distributed at Nature’s Remedy after the event. \nSPONSORSHIPS CLOSE 03/18 \nFor any questions please email: \nrachkret@groovygalzmedia.com \n\nVenue Sponsor – $500.00\nBe apart of an evening our guests won’t forget! \nSponsorship Includes: \n-1 Board Game Modified to educate guests on your brand specifically. \n-Logo included on all advertisements & social posts for the event. \n-A half page in our “Terpology 101” take home terpene guide. \n-Two tickets to the event itself for company representatives to interact with guests in 1:1 conversations about your brand. \n-Branded game table. \n-The ability to provide samples for our take home terpene tasting kits distributed at Nature’s Remedy after the event. \nSPONSORSHIPS CLOSE 03/18 \nFor any questions please email: \nrachkret@groovygalzmedia.com \n\nFood & Beverage Sponsor – $500.00\nBe apart of an evening our guests won’t forget! \nSponsorship Includes: \n-1 Board Game Modified to educate guests on your brand specifically. \n-Logo included on all advertisements & social posts for the event. \n-A half page in our “Terpology 101” take home terpene guide. \n-Two tickets to the event itself for company representatives to interact with guests in 1:1 conversations about your brand. \n-Branded food & beverage table. \n-The ability to provide samples for our take home terpene tasting kits distributed at Nature’s Remedy after the event. \nSPONSORSHIPS CLOSE 03/18 \nFor any questions please email: \nrachkret@groovygalzmedia.com \n\nTake Home Tasting Kit Sponsor – $200.00\n\nBe apart of an evening our guests won’t forget! \nSponsorship Includes: \n-Logo included on all advertisements & social posts for the event. \n-Logo on our “Terpology 101” take home terpene guide. \n-Ability to have exclusive educational information about your brand at the event. \n-Provide samples for our take home terpene tasting kits distributed at Nature’s Remedy after the event. \nSPONSORSHIPS CLOSE 03/18 \nFor any questions please email: \nrachkret@groovygalzmedia.com \n================
URL:https://www.naturesremedycannabis.com/event/terpology-101-game-night-addition/
LOCATION:Drifter Coffee\, 770 Woodward Heights\, Ferndale\, MI\, 48220\, United States
ATTACH;FMTTYPE=image/jpeg:https://www.naturesremedycannabis.com/wp-content/uploads/2024/03/Terpology-920-x-1080-1.jpg
END:VEVENT
END:VCALENDAR