BEGIN:VCALENDAR
VERSION:2.0
PRODID:-//Nature&#039;s Remedy Cannabis - ECPv6.15.20//NONSGML v1.0//EN
CALSCALE:GREGORIAN
METHOD:PUBLISH
X-ORIGINAL-URL:https://www.naturesremedycannabis.com
X-WR-CALDESC:Events for Nature&#039;s Remedy Cannabis
REFRESH-INTERVAL;VALUE=DURATION:PT1H
X-Robots-Tag:noindex
X-PUBLISHED-TTL:PT1H
BEGIN:VTIMEZONE
TZID:America/Detroit
BEGIN:DAYLIGHT
TZOFFSETFROM:-0500
TZOFFSETTO:-0400
TZNAME:EDT
DTSTART:20230312T070000
END:DAYLIGHT
BEGIN:STANDARD
TZOFFSETFROM:-0400
TZOFFSETTO:-0500
TZNAME:EST
DTSTART:20231105T060000
END:STANDARD
BEGIN:DAYLIGHT
TZOFFSETFROM:-0500
TZOFFSETTO:-0400
TZNAME:EDT
DTSTART:20240310T070000
END:DAYLIGHT
BEGIN:STANDARD
TZOFFSETFROM:-0400
TZOFFSETTO:-0500
TZNAME:EST
DTSTART:20241103T060000
END:STANDARD
BEGIN:DAYLIGHT
TZOFFSETFROM:-0500
TZOFFSETTO:-0400
TZNAME:EDT
DTSTART:20250309T070000
END:DAYLIGHT
BEGIN:STANDARD
TZOFFSETFROM:-0400
TZOFFSETTO:-0500
TZNAME:EST
DTSTART:20251102T060000
END:STANDARD
END:VTIMEZONE
BEGIN:VEVENT
DTSTART;TZID=America/Detroit:20240330T090000
DTEND;TZID=America/Detroit:20240330T110000
DTSTAMP:20260422T041902
CREATED:20240309T182858Z
LAST-MODIFIED:20240318T160951Z
UID:10000026-1711789200-1711796400@www.naturesremedycannabis.com
SUMMARY:🏎️Revved Up & Ready: Cars & Coffee at NRC Parking Lot Party!
DESCRIPTION:Rev up your engines and join us at Cars & Coffee! A good ole fashioned NRC parking lot party/ car meet up located at 925 E Drayton St\, Ferndale\, MI\, on March 30th from 9:00-11:00 am. Bring out your unique wheels and receive a reward 🥵– we’ll be serving up coffee & offering mouthwatering breakfast sandwiches (for purchase) AND we’re even gifting certain products based on your car’s style😎 Don’t miss the chance to help make it a monthly tradition every last Sunday of the month! Stay tuned for more details 👀😈🏁 \n  \nPROMOS: \nBring out your… \n-Classic Car\, Get a 100mg MKX Gummy \n-Muscle Car\, Get a Mary’s Medicinals Transdermal Patch \n-Modern / Luxury Car\, Get a Fresh Coast Splash Gummy  \n-Sports Car\, Get a LSF Pre-Roll \n-Modified Car\, Get a KAI Pre-Roll \n  \nSpecial Tip: share the excitement on social media for a chance at additional surprises!! 😉
URL:https://www.naturesremedycannabis.com/event/%f0%9f%8f%8e%ef%b8%8frevved-up-ready-cars-coffee-at-nrc-parking-lot-party/
LOCATION:Nature’s Remedy Cannabis\, 925 E Drayton St\, Ferndale\, MI\, 48220\, United States
ATTACH;FMTTYPE=image/png:https://www.naturesremedycannabis.com/wp-content/uploads/2024/03/cars-coffee-5x7-1.png
ORGANIZER;CN="Nature's Remedy Cannabis":MAILTO:contact@nrcemails.com
END:VEVENT
END:VCALENDAR