BEGIN:VCALENDAR
VERSION:2.0
PRODID:-//Nature&#039;s Remedy Cannabis - ECPv6.15.20//NONSGML v1.0//EN
CALSCALE:GREGORIAN
METHOD:PUBLISH
X-ORIGINAL-URL:https://www.naturesremedycannabis.com
X-WR-CALDESC:Events for Nature&#039;s Remedy Cannabis
REFRESH-INTERVAL;VALUE=DURATION:PT1H
X-Robots-Tag:noindex
X-PUBLISHED-TTL:PT1H
BEGIN:VTIMEZONE
TZID:America/Detroit
BEGIN:DAYLIGHT
TZOFFSETFROM:-0500
TZOFFSETTO:-0400
TZNAME:EDT
DTSTART:20230312T070000
END:DAYLIGHT
BEGIN:STANDARD
TZOFFSETFROM:-0400
TZOFFSETTO:-0500
TZNAME:EST
DTSTART:20231105T060000
END:STANDARD
BEGIN:DAYLIGHT
TZOFFSETFROM:-0500
TZOFFSETTO:-0400
TZNAME:EDT
DTSTART:20240310T070000
END:DAYLIGHT
BEGIN:STANDARD
TZOFFSETFROM:-0400
TZOFFSETTO:-0500
TZNAME:EST
DTSTART:20241103T060000
END:STANDARD
BEGIN:DAYLIGHT
TZOFFSETFROM:-0500
TZOFFSETTO:-0400
TZNAME:EDT
DTSTART:20250309T070000
END:DAYLIGHT
BEGIN:STANDARD
TZOFFSETFROM:-0400
TZOFFSETTO:-0500
TZNAME:EST
DTSTART:20251102T060000
END:STANDARD
END:VTIMEZONE
BEGIN:VEVENT
DTSTART;TZID=America/Detroit:20240413T120000
DTEND;TZID=America/Detroit:20240413T150000
DTSTAMP:20260422T024754
CREATED:20240411T234510Z
LAST-MODIFIED:20240411T234510Z
UID:10000034-1713009600-1713020400@www.naturesremedycannabis.com
SUMMARY:Peninsula Gardens Vendor Day BOGO
DESCRIPTION:Peninsula Gradens will physically be at our location for a vendor day. the B2G1 deal is for the whole day on all Peninsula Gradens Prepackaged 8ths of flower.
URL:https://www.naturesremedycannabis.com/event/peninsula-gardens-vendor-day-bogo/
LOCATION:Nature’s Remedy Cannabis\, 925 E Drayton St\, Ferndale\, MI\, 48220\, United States
ATTACH;FMTTYPE=image/png:https://www.naturesremedycannabis.com/wp-content/uploads/2024/04/PeninsulaGardens_BW.png
END:VEVENT
BEGIN:VEVENT
DTSTART;TZID=America/Detroit:20240413T160000
DTEND;TZID=America/Detroit:20240413T190000
DTSTAMP:20260422T024754
CREATED:20240411T231155Z
LAST-MODIFIED:20240411T231155Z
UID:10000029-1713024000-1713034800@www.naturesremedycannabis.com
SUMMARY:STIIIZY Vendor Day BOGO
DESCRIPTION:STIIIZY will physically be at our location for a vendor day. The bogo deal is for the whole day on all STIIIZY\nProducts
URL:https://www.naturesremedycannabis.com/event/stiiizy-vendor-day-bogo/
LOCATION:Nature’s Remedy Cannabis\, 925 E Drayton St\, Ferndale\, MI\, 48220\, United States
ATTACH;FMTTYPE=image/jpeg:https://www.naturesremedycannabis.com/wp-content/uploads/2024/04/1712688070-1711640918-abstract20.jpg
ORGANIZER;CN="Nature's Remedy Cannabis":MAILTO:contact@nrcemails.com
END:VEVENT
END:VCALENDAR