BEGIN:VCALENDAR
VERSION:2.0
PRODID:-//Nature&#039;s Remedy Cannabis - ECPv6.15.20//NONSGML v1.0//EN
CALSCALE:GREGORIAN
METHOD:PUBLISH
X-ORIGINAL-URL:https://www.naturesremedycannabis.com
X-WR-CALDESC:Events for Nature&#039;s Remedy Cannabis
REFRESH-INTERVAL;VALUE=DURATION:PT1H
X-Robots-Tag:noindex
X-PUBLISHED-TTL:PT1H
BEGIN:VTIMEZONE
TZID:America/Detroit
BEGIN:DAYLIGHT
TZOFFSETFROM:-0500
TZOFFSETTO:-0400
TZNAME:EDT
DTSTART:20230312T070000
END:DAYLIGHT
BEGIN:STANDARD
TZOFFSETFROM:-0400
TZOFFSETTO:-0500
TZNAME:EST
DTSTART:20231105T060000
END:STANDARD
BEGIN:DAYLIGHT
TZOFFSETFROM:-0500
TZOFFSETTO:-0400
TZNAME:EDT
DTSTART:20240310T070000
END:DAYLIGHT
BEGIN:STANDARD
TZOFFSETFROM:-0400
TZOFFSETTO:-0500
TZNAME:EST
DTSTART:20241103T060000
END:STANDARD
BEGIN:DAYLIGHT
TZOFFSETFROM:-0500
TZOFFSETTO:-0400
TZNAME:EDT
DTSTART:20250309T070000
END:DAYLIGHT
BEGIN:STANDARD
TZOFFSETFROM:-0400
TZOFFSETTO:-0500
TZNAME:EST
DTSTART:20251102T060000
END:STANDARD
END:VTIMEZONE
BEGIN:VEVENT
DTSTART;TZID=America/Detroit:20240420T090000
DTEND;TZID=America/Detroit:20240420T120000
DTSTAMP:20260422T024759
CREATED:20240307T194816Z
LAST-MODIFIED:20240412T150915Z
UID:10000024-1713603600-1713614400@www.naturesremedycannabis.com
SUMMARY:🎁Join Us for the Ultimate Goodie Bag Giveaway!
DESCRIPTION:DIGITAL EVENT GUIDE – CLICK HERE\nGet ready for an exclusive opportunity to snag some incredible goodies at our 4/20 Goodie Bag Giveaway event! We’re rolling out the red carpet with goodie bags packed with premium cannabis products and accessories\, valued between $200 to $250 each. \nGoodie Bag Details: \n\nEach bag is carefully curated to include a variety of products\, ensuring all your cannabis needs are covered. From top-quality flower and prerolls to delectable edibles\, potent concentrates\, sleek vapes\, and stylish accessories/swag\, you’re in for a treat!\n\nExclusive Offer: \n\n9 am Goodie Bags: The first wave of lucky customers will have the chance to claim their exclusive goodie bags at 9 am. These bags are filled with handpicked products that promise to elevate your cannabis experience. To qualify for a free goodie bag at 9 am\, customers must spend $100 before tax and after discounts.\n12 pm Goodie Bags: Can’t make it for the early giveaway? Don’t worry! Join us at 12 pm for another round of fantastic goodie bags. These bags are equally as amazing and will ensure you don’t miss out on the fun. To qualify for a free goodie bag at 12 pm\, customers must spend $100 before tax and after discounts.\n\nParty and Amenities: \n\nAll customers are also invited to stay and enjoy our epic 4/20 party! Immerse yourself in the festivities and take advantage of our amenities\, including vendor booths\, a Bocce Ball Court\, and our exclusive NRC Merch Table.\n\nGiveaways and More: \n\nAs an added bonus\, customers who spend $50 or more throughout the day will have the chance to win exciting giveaways every 2 hours! It’s our way of saying thank you for joining us and celebrating this special occasion.\n\nMark Your Calendars: \nDon’t miss out on this incredible opportunity to score some premium cannabis products and accessories. Mark your calendars\, set your alarms\, and get ready to join us for a day filled with fun\, giveaways\, and unforgettable experiences! \nStay tuned for more updates and surprises as we get closer to the event date. \nSTAY UPDATED: \nCLICK HERE
URL:https://www.naturesremedycannabis.com/event/%f0%9f%8c%b8blaze-into-spring-our-epic-4-20-celebration/
LOCATION:Nature’s Remedy Cannabis\, 925 E Drayton St\, Ferndale\, MI\, 48220\, United States
ATTACH;FMTTYPE=image/png:https://www.naturesremedycannabis.com/wp-content/uploads/2024/03/4.20.NR_.sticker.png
ORGANIZER;CN="Nature's Remedy Cannabis":MAILTO:contact@nrcemails.com
END:VEVENT
BEGIN:VEVENT
DTSTART;TZID=America/Detroit:20240420T120000
DTEND;TZID=America/Detroit:20240420T190000
DTSTAMP:20260422T024759
CREATED:20240312T203259Z
LAST-MODIFIED:20240412T150900Z
UID:10000027-1713614400-1713639600@www.naturesremedycannabis.com
SUMMARY:🌸Blaze into Spring: Our Epic 4/20 Celebration!
DESCRIPTION:DIGITAL EVENT GUIDE – CLICK HERE\nJoin us for the ultimate 4/20 extravaganza\, where we’re pulling out all the stops to make this our biggest party yet! Get ready to immerse yourself in a day filled with excitement and entertainment\, featuring: \nAmenities: \n\nExplore a variety of vendor booths showcasing the latest and greatest products.\nTest your skills on our Bocce Ball Court.\nDon’t miss out on exclusive NRC Merchandise at our Merch Table.\n\nEntertainment: \n\nGroove to the beats with DJ CoCo spinning the hottest tracks.\nKick up your heels and join Kamm for some lively Line Dancing.\nStep into our unique Bowling Truck for a game like no other.\n\nFood: \n\nIndulge in delicious offerings from multiple food trucks stationed onsite.\nEnjoy a sweet treat on us! Get a FREE Ice Cream “Blizzard” with every $25 cannabis purchase\, with the option to add CBD Sprinkles for just $1.\nNeed something savory? Grab your FREE Popcorn OR Cotton Candy with every $25 cannabis purchase.\n\nSpecial Offer: Be among the first in line to receive our exclusive goodie bags! Spend $100 before tax and after discounts at 9 am or 12 pm\, and claim your goodie bag packed with surprises. Lines for the 9 am giveaway start as early as 7 am\, so don’t miss out! \nStay tuned as we’ll be adding more exciting surprises and announcements as we get closer to the event date! \nMark your calendars and join us for a day filled with unforgettable experiences and celebrations. See you there! \nSTAY UPDATED:\nCLICK HERE
URL:https://www.naturesremedycannabis.com/event/%f0%9f%8c%b8blaze-into-spring-our-epic-4-20-celebration-2/
LOCATION:Nature’s Remedy Cannabis\, 925 E Drayton St\, Ferndale\, MI\, 48220\, United States
ATTACH;FMTTYPE=image/jpeg:https://www.naturesremedycannabis.com/wp-content/uploads/2024/03/DO-NOT-TOUCH-Logo-Template-11.jpg
ORGANIZER;CN="Nature's Remedy Cannabis":MAILTO:contact@nrcemails.com
END:VEVENT
END:VCALENDAR