BEGIN:VCALENDAR
VERSION:2.0
PRODID:-//Nature&#039;s Remedy Cannabis - ECPv6.15.20//NONSGML v1.0//EN
CALSCALE:GREGORIAN
METHOD:PUBLISH
X-ORIGINAL-URL:https://www.naturesremedycannabis.com
X-WR-CALDESC:Events for Nature&#039;s Remedy Cannabis
REFRESH-INTERVAL;VALUE=DURATION:PT1H
X-Robots-Tag:noindex
X-PUBLISHED-TTL:PT1H
BEGIN:VTIMEZONE
TZID:America/Detroit
BEGIN:DAYLIGHT
TZOFFSETFROM:-0500
TZOFFSETTO:-0400
TZNAME:EDT
DTSTART:20230312T070000
END:DAYLIGHT
BEGIN:STANDARD
TZOFFSETFROM:-0400
TZOFFSETTO:-0500
TZNAME:EST
DTSTART:20231105T060000
END:STANDARD
BEGIN:DAYLIGHT
TZOFFSETFROM:-0500
TZOFFSETTO:-0400
TZNAME:EDT
DTSTART:20240310T070000
END:DAYLIGHT
BEGIN:STANDARD
TZOFFSETFROM:-0400
TZOFFSETTO:-0500
TZNAME:EST
DTSTART:20241103T060000
END:STANDARD
BEGIN:DAYLIGHT
TZOFFSETFROM:-0500
TZOFFSETTO:-0400
TZNAME:EDT
DTSTART:20250309T070000
END:DAYLIGHT
BEGIN:STANDARD
TZOFFSETFROM:-0400
TZOFFSETTO:-0500
TZNAME:EST
DTSTART:20251102T060000
END:STANDARD
END:VTIMEZONE
BEGIN:VEVENT
DTSTART;TZID=America/Detroit:20240426T160000
DTEND;TZID=America/Detroit:20240426T190000
DTSTAMP:20260422T024755
CREATED:20240411T234823Z
LAST-MODIFIED:20240411T234823Z
UID:10000036-1714147200-1714158000@www.naturesremedycannabis.com
SUMMARY:Sauce Essentials Vendor Day - 2 For $50 Disposable Vapes
DESCRIPTION:Sauce Essentials will physically be at our location for a vendor day. the 2 For $50 deal is for the whole day on all Sauce Essentials Disposable Vapes
URL:https://www.naturesremedycannabis.com/event/sauce-essentials-vendor-day-2-for-50-disposable-vapes/
LOCATION:Nature’s Remedy Cannabis\, 925 E Drayton St\, Ferndale\, MI\, 48220\, United States
ATTACH;FMTTYPE=image/png:https://www.naturesremedycannabis.com/wp-content/uploads/2024/04/Screenshot-2024-04-11-at-7.48.06 PM.png
END:VEVENT
END:VCALENDAR