BEGIN:VCALENDAR
VERSION:2.0
PRODID:-//Nature&#039;s Remedy Cannabis - ECPv6.15.20//NONSGML v1.0//EN
CALSCALE:GREGORIAN
METHOD:PUBLISH
X-WR-CALNAME:Nature&#039;s Remedy Cannabis
X-ORIGINAL-URL:https://www.naturesremedycannabis.com
X-WR-CALDESC:Events for Nature&#039;s Remedy Cannabis
REFRESH-INTERVAL;VALUE=DURATION:PT1H
X-Robots-Tag:noindex
X-PUBLISHED-TTL:PT1H
BEGIN:VTIMEZONE
TZID:America/Detroit
BEGIN:DAYLIGHT
TZOFFSETFROM:-0500
TZOFFSETTO:-0400
TZNAME:EDT
DTSTART:20230312T070000
END:DAYLIGHT
BEGIN:STANDARD
TZOFFSETFROM:-0400
TZOFFSETTO:-0500
TZNAME:EST
DTSTART:20231105T060000
END:STANDARD
BEGIN:DAYLIGHT
TZOFFSETFROM:-0500
TZOFFSETTO:-0400
TZNAME:EDT
DTSTART:20240310T070000
END:DAYLIGHT
BEGIN:STANDARD
TZOFFSETFROM:-0400
TZOFFSETTO:-0500
TZNAME:EST
DTSTART:20241103T060000
END:STANDARD
BEGIN:DAYLIGHT
TZOFFSETFROM:-0500
TZOFFSETTO:-0400
TZNAME:EDT
DTSTART:20250309T070000
END:DAYLIGHT
BEGIN:STANDARD
TZOFFSETFROM:-0400
TZOFFSETTO:-0500
TZNAME:EST
DTSTART:20251102T060000
END:STANDARD
END:VTIMEZONE
BEGIN:VEVENT
DTSTART;VALUE=DATE:20240601
DTEND;VALUE=DATE:20240701
DTSTAMP:20260421T233452
CREATED:20240603T163555Z
LAST-MODIFIED:20240610T192313Z
UID:10000048-1717200000-1719791999@www.naturesremedycannabis.com
SUMMARY:🏳️‍🌈Pride Month $5\,000 Raffle🏳️‍🌈
DESCRIPTION:🏳️‍🌈$5\,000 Raffle🏳️‍🌈\n\nThree Lucky Winners!\n\nReceive a raffle ticket with every $50 purchase IN STORE ONLY. Additional tickets can be bought for $30 each.\n\n\n\nPrize Details:\n\n1st Place: $2500 Prize Pack (cannabis\, puffco products\, 710 labs products\, accessories\, swag\, coupons for local businesses)\n2nd Place: $1500 Prize Pack (cannabis\, puffco products\, 710 labs products\, accessories\, swag\, coupons for local businesses)\n3rd Place: $1000 Prize Pack (cannabis\, puffco products\, 710 labs products\, accessories\, swag\, coupons for local businesses)\n\nOne FREE ticket per person\, per transaction\, per day. You may purchase an unlimited amount of additional tickets. Winners chosen on July 1st \n  \nSTART SHOPPING BELOW\n  \nFeatured Flower – See All \n \n  \n  \nFeatured Sativa Products – See All \n \n  \n  \nFeatured Edibles – See All \n \n  \n  \nFeatured Drinks – See All \n \n 
URL:https://www.naturesremedycannabis.com/event/%f0%9f%8f%b3%ef%b8%8f%f0%9f%8c%88pride-month-5000-raffle%f0%9f%8f%b3%ef%b8%8f%f0%9f%8c%88/
LOCATION:Nature’s Remedy Cannabis\, 925 E Drayton St\, Ferndale\, MI\, 48220\, United States
ATTACH;FMTTYPE=image/png:https://www.naturesremedycannabis.com/wp-content/uploads/2024/06/1717779780744-728112.png
ORGANIZER;CN="Nature's Remedy Cannabis":MAILTO:contact@nrcemails.com
END:VEVENT
BEGIN:VEVENT
DTSTART;TZID=America/Detroit:20240614T140000
DTEND;TZID=America/Detroit:20240614T170000
DTSTAMP:20260421T233452
CREATED:20240610T174726Z
LAST-MODIFIED:20240610T174726Z
UID:10000050-1718373600-1718384400@www.naturesremedycannabis.com
SUMMARY:Fresh Coast Vendor Day
DESCRIPTION:Fresh Coast will physcially be at our location for a vendor day. They will have swag\, accessories\, education and much more! They will be running Buy 2 Get 1 FREE on all their products for the whole day  \n  \nAbout Fresh Coast \n\n\n\n\nFresh Coast started when a few friends from Northern Michigan with deep ties to the land and cannabis community came together to craft concentrates that are rich in flavor and experience. Drawing upon their heritage\, education and training\, they took a viticultural approach to the process\, creating concentrates that are representative of the harvest and are the truest expression of the plant’s native terpene profile. \nWhat started as an effort to craft simple\, flower-forward concentrates has developed into a grassroots collective of cultivators\, working with top industry artisans at one of Michigan’s leading hydrocarbon extraction facilities. We’re all makers at heart\, working to make accessible products for everyone in the state of Michigan\, while also doing some good in our community. \n\n\n\n\n\n\n\n\n\nShop Fresh Coast
URL:https://www.naturesremedycannabis.com/event/fresh-coast-vendor-day/
LOCATION:Nature’s Remedy Cannabis\, 925 E Drayton St\, Ferndale\, MI\, 48220\, United States
CATEGORIES:Vendor Days
ATTACH;FMTTYPE=image/jpeg:https://www.naturesremedycannabis.com/wp-content/uploads/2024/06/AdobeStock_248465004-scaled.jpeg
ORGANIZER;CN="Nature's Remedy Cannabis":MAILTO:contact@nrcemails.com
END:VEVENT
BEGIN:VEVENT
DTSTART;TZID=America/Detroit:20240614T140000
DTEND;TZID=America/Detroit:20240614T170000
DTSTAMP:20260421T233452
CREATED:20240610T175218Z
LAST-MODIFIED:20240610T175429Z
UID:10000051-1718373600-1718384400@www.naturesremedycannabis.com
SUMMARY:Light Sky Farms Vendor Day
DESCRIPTION:Light Sky Farms will physically be at our location for a vendor day. They will have swag\, accessories\, education and much more! They will be running Buy 2 Get 1 FREE on all their products for the whole day  \n  \nAbout Light Sky Farms  \nLightSky Farms was founded in 2013 in the legacy caregiver market\, and today\, is one of Michigan’s most award-winning cannabis brands. From our award-winning concentrates and flower\, to our newest Bubble Hash Infused line\, LSF has something for everyone. Stop by LightSky Farms\, Burton to get your hands on our freshest and most exclusive offerings. \nLightSky Farms production facility is located in Burton\, MI. Our state-of-the-art facility is vertically integrated and was meticulously designed to create an ideal environment for our plants. We practice extensive bio-security measures to ensure we remain pest free without the use of harmful pesticides. Our Cultivation team regularly pheno-hunts and carries out rigorous testing to identify and address any anomalies early in the growth cycle. With extensive data collection throughout\, we can ensure we are only providing consumers with the cleanest and highest quality products in Michigan. \nShop Light Sky Farms  \n \n 
URL:https://www.naturesremedycannabis.com/event/light-sky-farms-vendor-day-2/
LOCATION:Nature’s Remedy Cannabis\, 925 E Drayton St\, Ferndale\, MI\, 48220\, United States
CATEGORIES:Vendor Days
ATTACH;FMTTYPE=image/jpeg:https://www.naturesremedycannabis.com/wp-content/uploads/2024/06/AdobeStock_248465004-scaled.jpeg
ORGANIZER;CN="Nature's Remedy Cannabis":MAILTO:contact@nrcemails.com
END:VEVENT
END:VCALENDAR