BEGIN:VCALENDAR
VERSION:2.0
PRODID:-//Nature&#039;s Remedy Cannabis - ECPv6.15.20//NONSGML v1.0//EN
CALSCALE:GREGORIAN
METHOD:PUBLISH
X-WR-CALNAME:Nature&#039;s Remedy Cannabis
X-ORIGINAL-URL:https://www.naturesremedycannabis.com
X-WR-CALDESC:Events for Nature&#039;s Remedy Cannabis
REFRESH-INTERVAL;VALUE=DURATION:PT1H
X-Robots-Tag:noindex
X-PUBLISHED-TTL:PT1H
BEGIN:VTIMEZONE
TZID:America/Detroit
BEGIN:DAYLIGHT
TZOFFSETFROM:-0500
TZOFFSETTO:-0400
TZNAME:EDT
DTSTART:20230312T070000
END:DAYLIGHT
BEGIN:STANDARD
TZOFFSETFROM:-0400
TZOFFSETTO:-0500
TZNAME:EST
DTSTART:20231105T060000
END:STANDARD
BEGIN:DAYLIGHT
TZOFFSETFROM:-0500
TZOFFSETTO:-0400
TZNAME:EDT
DTSTART:20240310T070000
END:DAYLIGHT
BEGIN:STANDARD
TZOFFSETFROM:-0400
TZOFFSETTO:-0500
TZNAME:EST
DTSTART:20241103T060000
END:STANDARD
BEGIN:DAYLIGHT
TZOFFSETFROM:-0500
TZOFFSETTO:-0400
TZNAME:EDT
DTSTART:20250309T070000
END:DAYLIGHT
BEGIN:STANDARD
TZOFFSETFROM:-0400
TZOFFSETTO:-0500
TZNAME:EST
DTSTART:20251102T060000
END:STANDARD
END:VTIMEZONE
BEGIN:VEVENT
DTSTART;VALUE=DATE:20240601
DTEND;VALUE=DATE:20240701
DTSTAMP:20260421T233451
CREATED:20240603T163555Z
LAST-MODIFIED:20240610T192313Z
UID:10000048-1717200000-1719791999@www.naturesremedycannabis.com
SUMMARY:🏳️‍🌈Pride Month $5\,000 Raffle🏳️‍🌈
DESCRIPTION:🏳️‍🌈$5\,000 Raffle🏳️‍🌈\n\nThree Lucky Winners!\n\nReceive a raffle ticket with every $50 purchase IN STORE ONLY. Additional tickets can be bought for $30 each.\n\n\n\nPrize Details:\n\n1st Place: $2500 Prize Pack (cannabis\, puffco products\, 710 labs products\, accessories\, swag\, coupons for local businesses)\n2nd Place: $1500 Prize Pack (cannabis\, puffco products\, 710 labs products\, accessories\, swag\, coupons for local businesses)\n3rd Place: $1000 Prize Pack (cannabis\, puffco products\, 710 labs products\, accessories\, swag\, coupons for local businesses)\n\nOne FREE ticket per person\, per transaction\, per day. You may purchase an unlimited amount of additional tickets. Winners chosen on July 1st \n  \nSTART SHOPPING BELOW\n  \nFeatured Flower – See All \n \n  \n  \nFeatured Sativa Products – See All \n \n  \n  \nFeatured Edibles – See All \n \n  \n  \nFeatured Drinks – See All \n \n 
URL:https://www.naturesremedycannabis.com/event/%f0%9f%8f%b3%ef%b8%8f%f0%9f%8c%88pride-month-5000-raffle%f0%9f%8f%b3%ef%b8%8f%f0%9f%8c%88/
LOCATION:Nature’s Remedy Cannabis\, 925 E Drayton St\, Ferndale\, MI\, 48220\, United States
ATTACH;FMTTYPE=image/png:https://www.naturesremedycannabis.com/wp-content/uploads/2024/06/1717779780744-728112.png
ORGANIZER;CN="Nature's Remedy Cannabis":MAILTO:contact@nrcemails.com
END:VEVENT
BEGIN:VEVENT
DTSTART;TZID=America/Detroit:20240622T130000
DTEND;TZID=America/Detroit:20240622T150000
DTSTAMP:20260421T233451
CREATED:20240610T193516Z
LAST-MODIFIED:20240618T152521Z
UID:10000055-1719061200-1719068400@www.naturesremedycannabis.com
SUMMARY:Hermosa Vendor Day
DESCRIPTION:Hermosa will physically be at our location for a vendor day. They will have swag\, accessories\, education and much more! \n  \nAbout Hermosa  \nCultivating Beauty🌸🌼❤️\nWorking with passionate gardeners to bring Michigan premium quality products. \nShop Hermosa Product \n \n 
URL:https://www.naturesremedycannabis.com/event/hermosa-vendor-day/
LOCATION:Nature’s Remedy Cannabis\, 925 E Drayton St\, Ferndale\, MI\, 48220\, United States
CATEGORIES:Vendor Days
ATTACH;FMTTYPE=image/avif:https://www.naturesremedycannabis.com/wp-content/uploads/2024/06/1712688252-1711642776-pattern10.avif
ORGANIZER;CN="Nature's Remedy Cannabis":MAILTO:contact@nrcemails.com
END:VEVENT
BEGIN:VEVENT
DTSTART;TZID=America/Detroit:20240622T150000
DTEND;TZID=America/Detroit:20240622T180000
DTSTAMP:20260421T233451
CREATED:20240610T185839Z
LAST-MODIFIED:20240618T152500Z
UID:10000054-1719068400-1719079200@www.naturesremedycannabis.com
SUMMARY:Vapin Ape Vendor Day
DESCRIPTION:Vapin Ape will physically be at our location for a vendor day. They will have swag\, accessories\, education and much more! They will be running a “Buy a disposable get a pack of Peachy hash rosin gummies” deal for the whole weekend \n  \nAbout Vapin Ape \nOUR PROPRIETARY OIL FORMULATIONS ARE UNIQUELY BLENDED TO ENSURE A CONSISTENT\, LASTING-HIGH. SOLVENTLESS\, HIGH-TERPENE EXTRACT IS THE DRIVER BEHIND THIS FULL SPECTRUM OIL THAT DELIVERS A “FLOWER-LIKE” EXPERIENCE FOR THE USER.BECAUSE EACH OF OUR VAPES ARE STAIN-SPECIFIC\, WITH UNIQUE TERPENE PROFILES\, THE CONSUMER HAS THE POWER TO CHOOSE THEIR EXPERIENCE. \nOUR EXTRACTS ARE PRODUCED FROM CANNABIS PLANTS HARVESTED AT PEAK RIPENESS AND PROCESSED WITHIN MINUTES TO PRESERVE EVERYTHING THAT MAKES UP THIS WONDERFUL PLANT! \n  \nShop Vapin Ape
URL:https://www.naturesremedycannabis.com/event/vapin-ape-vendor-day/
LOCATION:Nature’s Remedy Cannabis\, 925 E Drayton St\, Ferndale\, MI\, 48220\, United States
CATEGORIES:Vendor Days
ATTACH;FMTTYPE=image/avif:https://www.naturesremedycannabis.com/wp-content/uploads/2024/06/1712688363-1711644135-smoke2.avif
ORGANIZER;CN="Nature's Remedy Cannabis":MAILTO:contact@nrcemails.com
END:VEVENT
BEGIN:VEVENT
DTSTART;TZID=America/Detroit:20240622T150000
DTEND;TZID=America/Detroit:20240622T180000
DTSTAMP:20260421T233451
CREATED:20240610T193832Z
LAST-MODIFIED:20240618T152428Z
UID:10000056-1719068400-1719079200@www.naturesremedycannabis.com
SUMMARY:Wyld Vendor Day
DESCRIPTION:Wyld will physically be at our location for a vendor day. They will have swag\, accessories\, education and much more! They will be running buy one\, get one FREE on their 100mg products \n  \nAbout Wyld \nWyld was founded in 2016 to create best-in-class cannabis edibles using real fruit and natural flavors. What began as three college friends over a two-burner stove in a tiny farm building in Central Oregon is now America’s best-selling cannabis gummy brand. \nThe growth of Wyld from its humble beginnings to an international leader in the cannabis industry has been based on our commitment to quality\, operational excellence\, and direct partnership with our amazing community of retailers and budtenders. We have remained independent and progressive in our approach to growth\, allowing us to maintain our stringent standards for product quality and business practices. We act with integrity and intensity to keep Wyld true to its origins. \nThe popularity of Wyld has been built with flavors inspired by our love of nature\, high quality ingredients\, consistent dosing\, and one goal in mind: to produce the best tasting edibles in the world. Wyld has also built a reputation for providing trustworthy\, repeatable cannabis experiences which consumers can rely on. Not only do our gummies have great flavor\, they are designed and continuously improved by our team of food scientists and quality experts. We proudly offer our best in every package of Wyld. \n  \nShop Wyld
URL:https://www.naturesremedycannabis.com/event/wyld-vendor-day-2/
LOCATION:Nature’s Remedy Cannabis\, 925 E Drayton St\, Ferndale\, MI\, 48220\, United States
CATEGORIES:Vendor Days
ATTACH;FMTTYPE=image/avif:https://www.naturesremedycannabis.com/wp-content/uploads/2024/06/1712688245-1711642748-pattern7.avif
ORGANIZER;CN="Nature's Remedy Cannabis":MAILTO:contact@nrcemails.com
END:VEVENT
END:VCALENDAR