BEGIN:VCALENDAR
VERSION:2.0
PRODID:-//Nature&#039;s Remedy Cannabis - ECPv6.15.20//NONSGML v1.0//EN
CALSCALE:GREGORIAN
METHOD:PUBLISH
X-ORIGINAL-URL:https://www.naturesremedycannabis.com
X-WR-CALDESC:Events for Nature&#039;s Remedy Cannabis
REFRESH-INTERVAL;VALUE=DURATION:PT1H
X-Robots-Tag:noindex
X-PUBLISHED-TTL:PT1H
BEGIN:VTIMEZONE
TZID:America/Detroit
BEGIN:DAYLIGHT
TZOFFSETFROM:-0500
TZOFFSETTO:-0400
TZNAME:EDT
DTSTART:20230312T070000
END:DAYLIGHT
BEGIN:STANDARD
TZOFFSETFROM:-0400
TZOFFSETTO:-0500
TZNAME:EST
DTSTART:20231105T060000
END:STANDARD
BEGIN:DAYLIGHT
TZOFFSETFROM:-0500
TZOFFSETTO:-0400
TZNAME:EDT
DTSTART:20240310T070000
END:DAYLIGHT
BEGIN:STANDARD
TZOFFSETFROM:-0400
TZOFFSETTO:-0500
TZNAME:EST
DTSTART:20241103T060000
END:STANDARD
BEGIN:DAYLIGHT
TZOFFSETFROM:-0500
TZOFFSETTO:-0400
TZNAME:EDT
DTSTART:20250309T070000
END:DAYLIGHT
BEGIN:STANDARD
TZOFFSETFROM:-0400
TZOFFSETTO:-0500
TZNAME:EST
DTSTART:20251102T060000
END:STANDARD
END:VTIMEZONE
BEGIN:VEVENT
DTSTART;TZID=America/Detroit:20240710T090000
DTEND;TZID=America/Detroit:20240710T100000
DTSTAMP:20260421T220226
CREATED:20240706T231329Z
LAST-MODIFIED:20240706T231329Z
UID:10000066-1720602000-1720605600@www.naturesremedycannabis.com
SUMMARY:Light Sky Farms 7/10 Oil Day Pop-Up
DESCRIPTION:Light Sky Farms will be onsite for a vendor day in celebration of 7/10 Oil day\, they will have swag\, accessories\, information and a buy a concentrate\, get a 8th for free deal. Stop in during the second biggest cannabis holiday for a great experience with great people. \n  \nFeatured Light Sky Farms Products – See All
URL:https://www.naturesremedycannabis.com/event/light-sky-farms-7-10-oil-day-pop-up/
LOCATION:Nature’s Remedy Cannabis\, 925 E Drayton St\, Ferndale\, MI\, 48220\, United States
CATEGORIES:Vendor Days
ATTACH;FMTTYPE=image/avif:https://www.naturesremedycannabis.com/wp-content/uploads/2024/07/8276ec40-c2be-11ed-ab51-97ee14bc85ea.avif
ORGANIZER;CN="Nature's Remedy Cannabis":MAILTO:contact@nrcemails.com
END:VEVENT
BEGIN:VEVENT
DTSTART;TZID=America/Detroit:20240710T113000
DTEND;TZID=America/Detroit:20240710T133000
DTSTAMP:20260421T220226
CREATED:20240706T193542Z
LAST-MODIFIED:20240706T193940Z
UID:10000060-1720611000-1720618200@www.naturesremedycannabis.com
SUMMARY:710 Labs 7/10 Oil Day Pop-Up
DESCRIPTION:710 Labs will be onsite for a vendor day in celebration of 7/10 Oil day\, they will have swag\, accessories\, information and of course deals on their products. Stop in during the second biggest cannabis holiday for a great experience with great people. \n  \nFeatured 710 Labs Products – See All
URL:https://www.naturesremedycannabis.com/event/710-labs-7-10-oil-day-pop-up/
LOCATION:Nature’s Remedy Cannabis\, 925 E Drayton St\, Ferndale\, MI\, 48220\, United States
CATEGORIES:Vendor Days
ATTACH;FMTTYPE=image/jpeg:https://www.naturesremedycannabis.com/wp-content/uploads/2024/07/78PyilexRTugBLfpO5N7_9db6b422-9088-4a2a-aad2-76beb79dc185-600x600-1.jpg
ORGANIZER;CN="Nature's Remedy Cannabis x 710 Labs":MAILTO:contact@nrcemails.com
END:VEVENT
BEGIN:VEVENT
DTSTART;TZID=America/Detroit:20240710T120000
DTEND;TZID=America/Detroit:20240710T150000
DTSTAMP:20260421T220226
CREATED:20240706T194754Z
LAST-MODIFIED:20240706T194815Z
UID:10000061-1720612800-1720623600@www.naturesremedycannabis.com
SUMMARY:Peninsula Gardens 7/10 Oil Day Pop-Up
DESCRIPTION:Peninsula Gardens will be onsite for a vendor day in celebration of 7/10 Oil day\, we will be dropping their new Rosin Concentrate and Rosin Disposables. They will have swag\, accessories\, information and of course deals on their products. Stop in during the second biggest cannabis holiday for a great experience with great people. \n  \nFeatured Peninsula Gardens Products – See All
URL:https://www.naturesremedycannabis.com/event/peninsula-gardens-7-10-oil-day-pop-up/
LOCATION:Nature’s Remedy Cannabis\, 925 E Drayton St\, Ferndale\, MI\, 48220\, United States
CATEGORIES:Vendor Days
ATTACH;FMTTYPE=image/jpeg:https://www.naturesremedycannabis.com/wp-content/uploads/2024/07/PENINSULA.jpg
ORGANIZER;CN="Nature's Remedy Cannabis":MAILTO:contact@nrcemails.com
END:VEVENT
BEGIN:VEVENT
DTSTART;TZID=America/Detroit:20240710T143000
DTEND;TZID=America/Detroit:20240710T160000
DTSTAMP:20260421T220226
CREATED:20240706T230751Z
LAST-MODIFIED:20240706T230751Z
UID:10000065-1720621800-1720627200@www.naturesremedycannabis.com
SUMMARY:Wojo 7/10 Oil Day Pop-Up
DESCRIPTION:Wojo will be onsite for a vendor day in celebration of 7/10 Oil day\, they will have swag\, accessories\, information and of course deals on their products. Stop in during the second biggest cannabis holiday for a great experience with great people. \n  \nFeatured Wojo Products – See All \n \n 
URL:https://www.naturesremedycannabis.com/event/wojo-7-10-oil-day-pop-up/
LOCATION:Nature’s Remedy Cannabis\, 925 E Drayton St\, Ferndale\, MI\, 48220\, United States
CATEGORIES:Vendor Days
ATTACH;FMTTYPE=image/png:https://www.naturesremedycannabis.com/wp-content/uploads/2024/07/Screenshot-2024-07-06-at-7.06.22 PM.png
ORGANIZER;CN="Nature's Remedy Cannabis":MAILTO:contact@nrcemails.com
END:VEVENT
BEGIN:VEVENT
DTSTART;TZID=America/Detroit:20240710T150000
DTEND;TZID=America/Detroit:20240710T180000
DTSTAMP:20260421T220226
CREATED:20240706T225035Z
LAST-MODIFIED:20240706T230243Z
UID:10000062-1720623600-1720634400@www.naturesremedycannabis.com
SUMMARY:Fresh Coast 710 Oil Day Pop-Up
DESCRIPTION:Fresh Coast will be onsite for a vendor day in celebration of 7/10 Oil day\, they will have swag\, accessories\, information and Buy one\, Get one free on all their products. Stop in during the second biggest cannabis holiday for a great experience with great people. \n  \nFeatured Fresh Coast Products – See All
URL:https://www.naturesremedycannabis.com/event/fresh-coast-710-oil-day-pop-up/
LOCATION:Nature’s Remedy Cannabis\, 925 E Drayton St\, Ferndale\, MI\, 48220\, United States
CATEGORIES:Vendor Days
ATTACH;FMTTYPE=image/png:https://www.naturesremedycannabis.com/wp-content/uploads/2024/07/58a8ab99-9939-456d-92d2-72d375f3e194.png
ORGANIZER;CN="Nature's Remedy Cannabis":MAILTO:contact@nrcemails.com
END:VEVENT
BEGIN:VEVENT
DTSTART;TZID=America/Detroit:20240710T150000
DTEND;TZID=America/Detroit:20240710T180000
DTSTAMP:20260421T220226
CREATED:20240706T225412Z
LAST-MODIFIED:20240706T225640Z
UID:10000063-1720623600-1720634400@www.naturesremedycannabis.com
SUMMARY:Emerald Canning 7/10 Oil Day Pop-Up
DESCRIPTION:Emerald Canning (Pleasantea\, CQ\, Highly Casual) will be onsite for a vendor day in celebration of 7/10 Oil day\, they will have swag\, accessories\, information and 20% off their products. Stop in during the second biggest cannabis holiday for a great experience with great people. \n  \nFeatured Emerald Canning Products – See All
URL:https://www.naturesremedycannabis.com/event/emerald-canning-7-10-oil-day-pop-up/
LOCATION:Nature’s Remedy Cannabis\, 925 E Drayton St\, Ferndale\, MI\, 48220\, United States
CATEGORIES:Vendor Days
ATTACH;FMTTYPE=image/jpeg:https://www.naturesremedycannabis.com/wp-content/uploads/2024/07/ECP-Logos_Final-Matt-McAlpine-copy-2-pdf.jpg
ORGANIZER;CN="Nature's Remedy Cannabis":MAILTO:contact@nrcemails.com
END:VEVENT
BEGIN:VEVENT
DTSTART;TZID=America/Detroit:20240710T150000
DTEND;TZID=America/Detroit:20240710T180000
DTSTAMP:20260421T220226
CREATED:20240706T230108Z
LAST-MODIFIED:20240706T230321Z
UID:10000064-1720623600-1720634400@www.naturesremedycannabis.com
SUMMARY:Bloom 7/10 Oil Day Pop-Up
DESCRIPTION:Bloom will be onsite for a vendor day in celebration of 7/10 Oil day\, they will have swag\, accessories\, information and Buy one\, Get one Free on their products. Stop in during the second biggest cannabis holiday for a great experience with great people. \n  \nFeatured Bloom Products – See All \n \n 
URL:https://www.naturesremedycannabis.com/event/bloom-7-10-oil-day-pop-up/
LOCATION:Nature’s Remedy Cannabis\, 925 E Drayton St\, Ferndale\, MI\, 48220\, United States
CATEGORIES:Vendor Days
ATTACH;FMTTYPE=image/png:https://www.naturesremedycannabis.com/wp-content/uploads/2024/07/Screenshot-2024-07-06-at-7.00.04 PM.png
ORGANIZER;CN="Nature's Remedy Cannabis":MAILTO:contact@nrcemails.com
END:VEVENT
END:VCALENDAR