BEGIN:VCALENDAR
VERSION:2.0
PRODID:-//Nature&#039;s Remedy Cannabis - ECPv6.15.20//NONSGML v1.0//EN
CALSCALE:GREGORIAN
METHOD:PUBLISH
X-ORIGINAL-URL:https://www.naturesremedycannabis.com
X-WR-CALDESC:Events for Nature&#039;s Remedy Cannabis
REFRESH-INTERVAL;VALUE=DURATION:PT1H
X-Robots-Tag:noindex
X-PUBLISHED-TTL:PT1H
BEGIN:VTIMEZONE
TZID:America/Detroit
BEGIN:DAYLIGHT
TZOFFSETFROM:-0500
TZOFFSETTO:-0400
TZNAME:EDT
DTSTART:20230312T070000
END:DAYLIGHT
BEGIN:STANDARD
TZOFFSETFROM:-0400
TZOFFSETTO:-0500
TZNAME:EST
DTSTART:20231105T060000
END:STANDARD
BEGIN:DAYLIGHT
TZOFFSETFROM:-0500
TZOFFSETTO:-0400
TZNAME:EDT
DTSTART:20240310T070000
END:DAYLIGHT
BEGIN:STANDARD
TZOFFSETFROM:-0400
TZOFFSETTO:-0500
TZNAME:EST
DTSTART:20241103T060000
END:STANDARD
BEGIN:DAYLIGHT
TZOFFSETFROM:-0500
TZOFFSETTO:-0400
TZNAME:EDT
DTSTART:20250309T070000
END:DAYLIGHT
BEGIN:STANDARD
TZOFFSETFROM:-0400
TZOFFSETTO:-0500
TZNAME:EST
DTSTART:20251102T060000
END:STANDARD
END:VTIMEZONE
BEGIN:VEVENT
DTSTART;TZID=America/Detroit:20240803T090000
DTEND;TZID=America/Detroit:20240803T210000
DTSTAMP:20260421T220225
CREATED:20240713T161952Z
LAST-MODIFIED:20240730T163236Z
UID:10000070-1722675600-1722718800@www.naturesremedycannabis.com
SUMMARY:Celebrate Three Years of Cannabis Excellence with Nature's Remedy's Anniversary Bash on August 3rd!
DESCRIPTION:Ferndale MI– Nature’s Remedy Cannabis\, the premier provider of top-quality cannabis products\, is excited to announce its highly anticipated third-anniversary celebration on Saturday\, August 3rd! This milestone event promises an unforgettable experience\, featuring an array of thrilling activities\, mouthwatering food\, unbeatable deals\, fabulous giveaways\, a diverse lineup of vendors\, and captivating entertainment that will delight all attendees. \n  \nEvent Details:\nDate: Saturday\, August 3rd\nTime: 12:00 PM – 7:00 PM\nLocation: Nature’s Remedy Cannabis\, 925 E Drayton St. Ferndale Mi 48220 \n  \nThe celebration begins bright and early at 9:00 AM with an exclusive opportunity for the first 50 enthusiastic shoppers who spend $200 or more. These lucky guests will receive an incredible $250 goodie bag filled with exciting cannabis products and surprises\, making it a must-attend event for loyal customers and newcomers alike. After 12pm\, until close\, customers can also enjoy double loyalty points on all purchases! \n  \nFeatured Event Promos \n-Goodie bag for the first 50 people that spend $200 or more before tax and after discounts\, rec only\, goodie bag worth $350+ \n-Double loyalty points from 12-9 (8/3 only) \n-Spend $200 or more for a chance to win 750 loyalty points\, 3 winners (must be opted into app notifications and nrc perks\, 8/3 only) \n-Buy a $125 e-gift card online\, get a $25 bonus gift card free! (Fri\, 8/2 – Sun\, 8/4 only) \n  \nEvent Highlights: \nUnbeatable Deals & Promos: Take advantage of special anniversary discounts and promotions on our latest and most popular cannabis products. Don’t miss out on this chance to score big savings as well as free products\, swag and accessories! \n  \nExciting Raffle: Throughout the day\, lucky guests will have the chance to enter a raffle filled with exciting prizes. Keep an eye out for announcements and don’t forget to ask your budtender how to enter the raffle. \n  \nVendors Galore: Explore a diverse range of vendors showcasing unique products and services from the local cannabis community. Discover hidden gems and support small businesses. \n  \nDelicious Food: Indulge in a delectable selection of culinary delights from renowned local food vendors. From savory to sweet\, there’s something for every palate. \n  \nCaptivating Entertainment: Enjoy music\, and other surprises that will keep the party atmosphere buzzing all day long. \n  \n“We are incredibly grateful for the support and trust our customers and community have shown us over the past three years. We look forward to welcoming new faces and supporting our loyal customers in the months and years to come!”\, said Wally Manju\, the founder and CEO of Nature’s Remedy Cannabis. “This anniversary celebration is our way of giving back and showing our appreciation for everyone who has been part of our journey.”\, he also added. \nBe sure to mark your calendars for August 3rd and join us for an unforgettable day of festivities. Follow us on social media @NaturesRemedy.Cannabis for updates and sneak peeks of what’s in store! \n  \nWhat’s in The Goodie Bag? \nProducts from: \nNRC\, LSF\, Roses\, Vanilla Sunshine\, Fatty’s\, Dixie\, Marys\, Camino\, Glo\, Mojo\, Simper Daze\, Information Entropy\, Grown Rogue\, Peachy\, Wyld\, Flos\, Highly casual\, Shimmerwoods\, Level\, Daily grind\, Vessel \n  \n  \nAll Participating Vendors: \nJointly\, Vessel\, 710 labs\, Level\, Grown rogue\, Roses\, LSF\, Stiiizy\, Fattys\, Vanilla Sunshine\, Mojo\, Glo\, Glorious\, Choice\, Highly casual\, Vaping Ape\, Earthbound\, Wojo\, Peninsula\, Wyld\, Camino\, Information Entropy\, Mary\, Dixie\, Nrc\, Giving Tree \n  \n  \nAbout Nature’s Remedy Cannabis:\nNature’s Remedy Cannabis is a leading cannabis company dedicated to providing top-quality cannabis products including tinctures\, gummies\, chocolates\, apparel\, and more. With a commitment to excellence and innovation\, we have become a leading name in the industry and take pride in serving our customers with the utmost care and attention. \n  \n  \nWant to start shopping now? Browse some of our popular products below\n  \nFeatured Drinks – See All \n \n  \nFeatured Flower – See All \n \n  \nFeatured Edibles – See All \n \n  \nFeatured Sativa Products – See All
URL:https://www.naturesremedycannabis.com/event/3yr-anniversary/
LOCATION:Nature’s Remedy Cannabis\, 925 E Drayton St\, Ferndale\, MI\, 48220\, United States
CATEGORIES:Anniversary,Party,Vendor Days
ATTACH;FMTTYPE=image/png:https://www.naturesremedycannabis.com/wp-content/uploads/2024/07/Untitled-design-23.png
ORGANIZER;CN="Nature's Remedy Cannabis":MAILTO:contact@nrcemails.com
END:VEVENT
END:VCALENDAR