BEGIN:VCALENDAR
VERSION:2.0
PRODID:-//Nature&#039;s Remedy Cannabis - ECPv6.15.20//NONSGML v1.0//EN
CALSCALE:GREGORIAN
METHOD:PUBLISH
X-WR-CALNAME:Nature&#039;s Remedy Cannabis
X-ORIGINAL-URL:https://www.naturesremedycannabis.com
X-WR-CALDESC:Events for Nature&#039;s Remedy Cannabis
REFRESH-INTERVAL;VALUE=DURATION:PT1H
X-Robots-Tag:noindex
X-PUBLISHED-TTL:PT1H
BEGIN:VTIMEZONE
TZID:America/Detroit
BEGIN:DAYLIGHT
TZOFFSETFROM:-0500
TZOFFSETTO:-0400
TZNAME:EDT
DTSTART:20230312T070000
END:DAYLIGHT
BEGIN:STANDARD
TZOFFSETFROM:-0400
TZOFFSETTO:-0500
TZNAME:EST
DTSTART:20231105T060000
END:STANDARD
BEGIN:DAYLIGHT
TZOFFSETFROM:-0500
TZOFFSETTO:-0400
TZNAME:EDT
DTSTART:20240310T070000
END:DAYLIGHT
BEGIN:STANDARD
TZOFFSETFROM:-0400
TZOFFSETTO:-0500
TZNAME:EST
DTSTART:20241103T060000
END:STANDARD
BEGIN:DAYLIGHT
TZOFFSETFROM:-0500
TZOFFSETTO:-0400
TZNAME:EDT
DTSTART:20250309T070000
END:DAYLIGHT
BEGIN:STANDARD
TZOFFSETFROM:-0400
TZOFFSETTO:-0500
TZNAME:EST
DTSTART:20251102T060000
END:STANDARD
END:VTIMEZONE
BEGIN:VEVENT
DTSTART;TZID=America/Detroit:20240913T120000
DTEND;TZID=America/Detroit:20240913T140000
DTSTAMP:20260421T190012
CREATED:20240902T173850Z
LAST-MODIFIED:20240902T173850Z
UID:10000075-1726228800-1726236000@www.naturesremedycannabis.com
SUMMARY:Wyld / Good Tyde Vendor Day BOGO
DESCRIPTION:Wyld / Good Tyde will physically be at our location for a vendor day. They will have swag\, accessories\, education and much more! They will be running Buy one\, get one free on all their products all day.   \n  \nShop Wyld / Good Tyde Products Below – Or Shop All
URL:https://www.naturesremedycannabis.com/event/wyld-good-tyde-vendor-day-bogo/
LOCATION:Nature’s Remedy Cannabis\, 925 E Drayton St\, Ferndale\, MI\, 48220\, United States
CATEGORIES:Vendor Days
ATTACH;FMTTYPE=image/jpeg:https://www.naturesremedycannabis.com/wp-content/uploads/2024/09/DO-NOT-TOUCH-WEEDMAPS-DEAL-PAGE-TEMPLATE-6-scaled.jpg
ORGANIZER;CN="Nature's Remedy Cannabis":MAILTO:contact@nrcemails.com
END:VEVENT
BEGIN:VEVENT
DTSTART;TZID=America/Detroit:20240913T120000
DTEND;TZID=America/Detroit:20240913T150000
DTSTAMP:20260421T190012
CREATED:20240902T173434Z
LAST-MODIFIED:20240902T173434Z
UID:10000074-1726228800-1726239600@www.naturesremedycannabis.com
SUMMARY:Light Sky Farms Vendor Day BOGO
DESCRIPTION:Light Sky Farms will physically be at our location for a vendor day. They will have swag\, accessories\, education and much more! They will be running Buy one\, get one free on all their products all day.   \n  \nShop Light Sky Farms Products Below – Or Shop All
URL:https://www.naturesremedycannabis.com/event/light-sky-farms-vendor-day-bogo/
LOCATION:Nature’s Remedy Cannabis\, 925 E Drayton St\, Ferndale\, MI\, 48220\, United States
CATEGORIES:Vendor Days
ATTACH;FMTTYPE=image/jpeg:https://www.naturesremedycannabis.com/wp-content/uploads/2024/09/DO-NOT-TOUCH-WEEDMAPS-DEAL-PAGE-TEMPLATE-5-scaled.jpg
ORGANIZER;CN="Nature's Remedy Cannabis":MAILTO:contact@nrcemails.com
END:VEVENT
BEGIN:VEVENT
DTSTART;TZID=America/Detroit:20240913T153000
DTEND;TZID=America/Detroit:20240913T183000
DTSTAMP:20260421T190012
CREATED:20240902T174505Z
LAST-MODIFIED:20240902T174505Z
UID:10000076-1726241400-1726252200@www.naturesremedycannabis.com
SUMMARY:Vapin Ape Vendor Day B2G1
DESCRIPTION:Vapin Ape will physically be at our location for a vendor day. They will have swag\, accessories\, education and much more! They will be running Buy 2\, get one free on all their products all day.   \n  \nShop Vapin Ape Products Below – Or Shop All
URL:https://www.naturesremedycannabis.com/event/vapin-ape-vendor-day-b2g1/
LOCATION:Nature’s Remedy Cannabis\, 925 E Drayton St\, Ferndale\, MI\, 48220\, United States
CATEGORIES:Vendor Days
ATTACH;FMTTYPE=image/jpeg:https://www.naturesremedycannabis.com/wp-content/uploads/2024/09/DO-NOT-TOUCH-WEEDMAPS-DEAL-PAGE-TEMPLATE-7-scaled.jpg
ORGANIZER;CN="Nature's Remedy Cannabis":MAILTO:contact@nrcemails.com
END:VEVENT
END:VCALENDAR