BEGIN:VCALENDAR
VERSION:2.0
PRODID:-//Nature&#039;s Remedy Cannabis - ECPv6.15.20//NONSGML v1.0//EN
CALSCALE:GREGORIAN
METHOD:PUBLISH
X-ORIGINAL-URL:https://www.naturesremedycannabis.com
X-WR-CALDESC:Events for Nature&#039;s Remedy Cannabis
REFRESH-INTERVAL;VALUE=DURATION:PT1H
X-Robots-Tag:noindex
X-PUBLISHED-TTL:PT1H
BEGIN:VTIMEZONE
TZID:America/Detroit
BEGIN:DAYLIGHT
TZOFFSETFROM:-0500
TZOFFSETTO:-0400
TZNAME:EDT
DTSTART:20230312T070000
END:DAYLIGHT
BEGIN:STANDARD
TZOFFSETFROM:-0400
TZOFFSETTO:-0500
TZNAME:EST
DTSTART:20231105T060000
END:STANDARD
BEGIN:DAYLIGHT
TZOFFSETFROM:-0500
TZOFFSETTO:-0400
TZNAME:EDT
DTSTART:20240310T070000
END:DAYLIGHT
BEGIN:STANDARD
TZOFFSETFROM:-0400
TZOFFSETTO:-0500
TZNAME:EST
DTSTART:20241103T060000
END:STANDARD
BEGIN:DAYLIGHT
TZOFFSETFROM:-0500
TZOFFSETTO:-0400
TZNAME:EDT
DTSTART:20250309T070000
END:DAYLIGHT
BEGIN:STANDARD
TZOFFSETFROM:-0400
TZOFFSETTO:-0500
TZNAME:EST
DTSTART:20251102T060000
END:STANDARD
END:VTIMEZONE
BEGIN:VEVENT
DTSTART;TZID=America/Detroit:20241109T150000
DTEND;TZID=America/Detroit:20241109T180000
DTSTAMP:20260421T160127
CREATED:20241105T234815Z
LAST-MODIFIED:20241105T234815Z
UID:10000093-1731164400-1731175200@www.naturesremedycannabis.com
SUMMARY:FLOs Vendor Day
DESCRIPTION:🌿✨ It’s FLOs Vendor Day at Nature’s Remedy! ✨🌿 \nJoin us today from 3-6 PM to explore FLOs incredible lineup of strains and score some amazing deals! For just $99\, you can pick up 4 quarters of top-shelf flower\, featuring these popular strains: \n🍧 Snowcone – Frosty\, smooth\, and full of flavor\n✍️ Permanent Marker #5 – Potent and memorable\, it leaves its mark\n🌄 Sahara Mist – Uplifting with earthy\, calming notes\n🐯 Animal Face – Bold\, balanced\, and ready to impress \nWhether you’re a seasoned connoisseur or new to FLO\, this is your chance to stock up on fan-favorite strains! Swing by and take advantage of these exclusive savings while they last. \nShop FLOs Products Below – Or Shop All
URL:https://www.naturesremedycannabis.com/event/flos-vendor-day/
LOCATION:Nature’s Remedy Cannabis\, 925 E Drayton St\, Ferndale\, MI\, 48220\, United States
ATTACH;FMTTYPE=image/jpeg:https://www.naturesremedycannabis.com/wp-content/uploads/2024/11/DO-NOT-TOUCH-WEEDMAPS-DEAL-PAGE-TEMPLATE.jpg
ORGANIZER;CN="Nature's Remedy Cannabis":MAILTO:contact@nrcemails.com
END:VEVENT
END:VCALENDAR