BEGIN:VCALENDAR
VERSION:2.0
PRODID:-//Nature&#039;s Remedy Cannabis - ECPv6.15.20//NONSGML v1.0//EN
CALSCALE:GREGORIAN
METHOD:PUBLISH
X-ORIGINAL-URL:https://www.naturesremedycannabis.com
X-WR-CALDESC:Events for Nature&#039;s Remedy Cannabis
REFRESH-INTERVAL;VALUE=DURATION:PT1H
X-Robots-Tag:noindex
X-PUBLISHED-TTL:PT1H
BEGIN:VTIMEZONE
TZID:America/Detroit
BEGIN:DAYLIGHT
TZOFFSETFROM:-0500
TZOFFSETTO:-0400
TZNAME:EDT
DTSTART:20230312T070000
END:DAYLIGHT
BEGIN:STANDARD
TZOFFSETFROM:-0400
TZOFFSETTO:-0500
TZNAME:EST
DTSTART:20231105T060000
END:STANDARD
BEGIN:DAYLIGHT
TZOFFSETFROM:-0500
TZOFFSETTO:-0400
TZNAME:EDT
DTSTART:20240310T070000
END:DAYLIGHT
BEGIN:STANDARD
TZOFFSETFROM:-0400
TZOFFSETTO:-0500
TZNAME:EST
DTSTART:20241103T060000
END:STANDARD
BEGIN:DAYLIGHT
TZOFFSETFROM:-0500
TZOFFSETTO:-0400
TZNAME:EDT
DTSTART:20250309T070000
END:DAYLIGHT
BEGIN:STANDARD
TZOFFSETFROM:-0400
TZOFFSETTO:-0500
TZNAME:EST
DTSTART:20251102T060000
END:STANDARD
END:VTIMEZONE
BEGIN:VEVENT
DTSTART;TZID=America/Detroit:20241127T090000
DTEND;TZID=America/Detroit:20241201T210000
DTSTAMP:20260421T184016
CREATED:20241102T163050Z
LAST-MODIFIED:20241102T163050Z
UID:10000090-1732698000-1733086800@www.naturesremedycannabis.com
SUMMARY:Black Friday Sales Event at Nature's Remedy Cannabis
DESCRIPTION:Get ready for our biggest sale of the year! Nature’s Remedy Cannabis is kicking off Black Friday with over 100 incredible deals and a 30% blowout discount on select items. From Wednesday\, November 27th through Sunday\, December 1st\, stock up on your favorite products with exclusive savings throughout the week. \nSpecial Online Gift Card Promo: Buy a $100 e-gift card and get a $20 bonus e-gift card! This deal runs from November 27th through November 30th and is the perfect gift for friends\, family\, or even yourself to enjoy the holiday season. \nWhen:\nBlack Friday Event: November 29th – December 1st\nExtended Deals: November 27th – December 1st\nGift Card Promo: November 27th – November 30th \nWhere:\nNature’s Remedy Cannabis\nFerndale\, Michigan & Online \nDetails: \n\nOver 100 exclusive Black Friday deals\n30% off blowout discount on select items\nBuy a $100 e-gift card\, receive a $20 bonus e-gift card (online only)\nMost deals begin early on Wednesday\, November 27th\n\nDon’t miss the cannabis event of the season! Visit us in-store or online to take advantage of these unbeatable savings.
URL:https://www.naturesremedycannabis.com/event/black-friday-sales-event-at-natures-remedy-cannabis/
LOCATION:Nature’s Remedy Cannabis\, 925 E Drayton St\, Ferndale\, MI\, 48220\, United States
CATEGORIES:Promo Event
ATTACH;FMTTYPE=image/jpeg:https://www.naturesremedycannabis.com/wp-content/uploads/2024/11/NRC-EMAIL-BANNER-11.jpg
ORGANIZER;CN="Nature's Remedy Cannabis":MAILTO:contact@nrcemails.com
END:VEVENT
BEGIN:VEVENT
DTSTART;TZID=America/Detroit:20241129T090000
DTEND;TZID=America/Detroit:20241129T210000
DTSTAMP:20260421T184016
CREATED:20241116T210027Z
LAST-MODIFIED:20241116T210027Z
UID:10000094-1732870800-1732914000@www.naturesremedycannabis.com
SUMMARY:Black Friday Goodie Bag Giveaway with High Hello
DESCRIPTION:This Black Friday\, Nature’s Remedy Cannabis is teaming up with High Hello to bring you an exclusive giveaway you won’t want to miss! On Friday\, November 29th\, the first 100 customers who spend $100 or more (pre-tax) will receive a goodie bag valued at over $200! \nPacked with premium cannabis products and special surprises\, these goodie bags are the perfect way to kick off the holiday season in style. Don’t wait—this offer is first come\, first served\, and the excitement starts when we open our doors at 9 AM. \nWhen:\nBlack Friday – November 29th\, starting at 9 AM \nWhere:\nNature’s Remedy Cannabis\nFerndale\, Michigan \nDetails: \n\nFirst 100 customers who spend $100+ (pre-tax) receive a goodie bag worth $200+\nLimited to the first 100 customers only\nMust be 21+ to participate\n\nCelebrate Black Friday with amazing savings and an exclusive High Hello giveaway. Be sure to arrive early—these goodie bags won’t last long!
URL:https://www.naturesremedycannabis.com/event/black-friday-goodie-bag-giveaway-with-high-hello/
LOCATION:Nature’s Remedy Cannabis\, 925 E Drayton St\, Ferndale\, MI\, 48220\, United States
CATEGORIES:Promo Event
ATTACH;FMTTYPE=image/png:https://www.naturesremedycannabis.com/wp-content/uploads/2024/11/HH-EMAIL-BANNER.png
ORGANIZER;CN="Nature's Remedy Cannabis":MAILTO:contact@nrcemails.com
END:VEVENT
END:VCALENDAR