BEGIN:VCALENDAR
VERSION:2.0
PRODID:-//Nature&#039;s Remedy Cannabis - ECPv6.15.20//NONSGML v1.0//EN
CALSCALE:GREGORIAN
METHOD:PUBLISH
X-ORIGINAL-URL:https://www.naturesremedycannabis.com
X-WR-CALDESC:Events for Nature&#039;s Remedy Cannabis
REFRESH-INTERVAL;VALUE=DURATION:PT1H
X-Robots-Tag:noindex
X-PUBLISHED-TTL:PT1H
BEGIN:VTIMEZONE
TZID:America/Detroit
BEGIN:DAYLIGHT
TZOFFSETFROM:-0500
TZOFFSETTO:-0400
TZNAME:EDT
DTSTART:20240310T070000
END:DAYLIGHT
BEGIN:STANDARD
TZOFFSETFROM:-0400
TZOFFSETTO:-0500
TZNAME:EST
DTSTART:20241103T060000
END:STANDARD
BEGIN:DAYLIGHT
TZOFFSETFROM:-0500
TZOFFSETTO:-0400
TZNAME:EDT
DTSTART:20250309T070000
END:DAYLIGHT
BEGIN:STANDARD
TZOFFSETFROM:-0400
TZOFFSETTO:-0500
TZNAME:EST
DTSTART:20251102T060000
END:STANDARD
BEGIN:DAYLIGHT
TZOFFSETFROM:-0500
TZOFFSETTO:-0400
TZNAME:EDT
DTSTART:20260308T070000
END:DAYLIGHT
BEGIN:STANDARD
TZOFFSETFROM:-0400
TZOFFSETTO:-0500
TZNAME:EST
DTSTART:20261101T060000
END:STANDARD
END:VTIMEZONE
BEGIN:VEVENT
DTSTART;TZID=America/Detroit:20250201T090000
DTEND;TZID=America/Detroit:20250228T210000
DTSTAMP:20260421T111803
CREATED:20250128T164755Z
LAST-MODIFIED:20250128T164755Z
UID:10000102-1738400400-1740776400@www.naturesremedycannabis.com
SUMMARY:$1000 Puffco Raffle
DESCRIPTION:This February\, Nature’s Remedy Cannabis is giving you the chance to elevate your sesh with the ultimate Puffco bundle! 🌬️✨ From February 1st to February 28th\, earn 1 raffle entry for every $100 spent on Puffco products—with no limit on entries. \n🎁 What You Could Win 🎁\nA Puffco Prize Pack valued at $1\,000+\, including: \n\nPuffco Peak Pro 1.0 (Black)\nPuffco Plus Pen 2.0\nPuffco Plus Chamber\nPuffco Peak Pro Travel Pack\nPuffco Heated Loading Tool\nPuffco Travel Case\nPuffco Charging Dock (Black)\nPuffco Peak Pro 3D Chamber\nPuffco Ryan Fitt Recycler Glass\n\n📍 When: February 1st – February 28th\n📍 Where: Nature’s Remedy Cannabis (in store only) \nThe winner will be announced in early March! Don’t miss this opportunity to take home the ultimate Puffco setup. Stock up\, enter often\, and let luck be on your side! 🌿🔥 \n✨ Get your tickets in store only. Every $100 spent on Puffco products earns you an entry. Good luck! \n  \nSHOP PUFFCO PRODUCTS NOW:\n \n  \n 
URL:https://www.naturesremedycannabis.com/event/1000-puffco-raffle/
LOCATION:Nature’s Remedy Cannabis\, 925 E Drayton St\, Ferndale\, MI\, 48220\, United States
CATEGORIES:Party,Raffle
ATTACH;FMTTYPE=image/png:https://www.naturesremedycannabis.com/wp-content/uploads/2025/01/51.png
ORGANIZER;CN="Nature's Remedy Cannabis":MAILTO:contact@nrcemails.com
END:VEVENT
BEGIN:VEVENT
DTSTART;TZID=America/Detroit:20250207T090000
DTEND;TZID=America/Detroit:20250213T210000
DTSTAMP:20260421T111803
CREATED:20250128T160537Z
LAST-MODIFIED:20250128T160537Z
UID:10000101-1738918800-1739480400@www.naturesremedycannabis.com
SUMMARY:💕Cannabis Sweetheart Sale at Nature's Remedy💕
DESCRIPTION:Get ready to indulge in the sweet side of Valentine’s Day with Nature’s Remedy Cannabis! 💕 From Friday\, February 7th\, to Thursday\, February 13th\, enjoy 20% OFF all chocolate\, caramel\, peanut butter\, and honey products. 🍫🍯 \nWhether you’re planning a cozy night in or need the perfect gift for your favorite cannabis lover\, these sweet treats are sure to spark joy (and relaxation). 🌿💝 \n📍 When: February 7th – February 13th\n📍 Where: Nature’s Remedy Cannabis \n✨ Discount applied at checkout. Stock up before these goodies melt away! \nCelebrate the season of love with a deal that’s as sweet as it gets! ❤️ \n  \nShop Featured Chocolate Products
URL:https://www.naturesremedycannabis.com/event/%f0%9f%92%95cannabis-sweetheart-sale-at-natures-remedy%f0%9f%92%95/
LOCATION:Nature’s Remedy Cannabis\, 925 E Drayton St\, Ferndale\, MI\, 48220\, United States
CATEGORIES:Promo Event
ATTACH;FMTTYPE=image/png:https://www.naturesremedycannabis.com/wp-content/uploads/2025/01/49.png
ORGANIZER;CN="Nature's Remedy Cannabis":MAILTO:contact@nrcemails.com
END:VEVENT
BEGIN:VEVENT
DTSTART;TZID=America/Detroit:20250212T120000
DTEND;TZID=America/Detroit:20250212T150000
DTSTAMP:20260421T111803
CREATED:20250203T221528Z
LAST-MODIFIED:20250203T222233Z
UID:10000105-1739361600-1739372400@www.naturesremedycannabis.com
SUMMARY:STIIIZY Vendor Day
DESCRIPTION:🚀 STIIIZY Wednesday Takeover! 🚀 \n🔥 BOGO FREE on ALL STIIIZY products this Wednesday\, 2/12/2025! 💨💚 \n🛍️ Stock up on pods\, flower\, edibles & more—double up for FREE! 🎉 \n📅 When? 🗓️ Wednesday\, 2/12/2025\n🎁 Deal? 🎉 Buy One\, Get One FREE on all STIIIZY products!\n⏳ One day only—don’t sleep on this! ⏰ \nTag your STIIIZY squad & spread the love! 💨🔥 #STIIIZY #BOGO #CannabisDeals
URL:https://www.naturesremedycannabis.com/event/stiiizy-vendor-day/
LOCATION:Nature’s Remedy Cannabis\, 925 E Drayton St\, Ferndale\, MI\, 48220\, United States
ATTACH;FMTTYPE=image/jpeg:https://www.naturesremedycannabis.com/wp-content/uploads/2025/02/STIIIZY-Vendor-Day.jpg
ORGANIZER;CN="Nature's Remedy Cannabis":MAILTO:contact@nrcemails.com
END:VEVENT
END:VCALENDAR