BEGIN:VCALENDAR
VERSION:2.0
PRODID:-//Nature&#039;s Remedy Cannabis - ECPv6.15.20//NONSGML v1.0//EN
CALSCALE:GREGORIAN
METHOD:PUBLISH
X-WR-CALNAME:Nature&#039;s Remedy Cannabis
X-ORIGINAL-URL:https://www.naturesremedycannabis.com
X-WR-CALDESC:Events for Nature&#039;s Remedy Cannabis
REFRESH-INTERVAL;VALUE=DURATION:PT1H
X-Robots-Tag:noindex
X-PUBLISHED-TTL:PT1H
BEGIN:VTIMEZONE
TZID:America/Detroit
BEGIN:DAYLIGHT
TZOFFSETFROM:-0500
TZOFFSETTO:-0400
TZNAME:EDT
DTSTART:20240310T070000
END:DAYLIGHT
BEGIN:STANDARD
TZOFFSETFROM:-0400
TZOFFSETTO:-0500
TZNAME:EST
DTSTART:20241103T060000
END:STANDARD
BEGIN:DAYLIGHT
TZOFFSETFROM:-0500
TZOFFSETTO:-0400
TZNAME:EDT
DTSTART:20250309T070000
END:DAYLIGHT
BEGIN:STANDARD
TZOFFSETFROM:-0400
TZOFFSETTO:-0500
TZNAME:EST
DTSTART:20251102T060000
END:STANDARD
BEGIN:DAYLIGHT
TZOFFSETFROM:-0500
TZOFFSETTO:-0400
TZNAME:EDT
DTSTART:20260308T070000
END:DAYLIGHT
BEGIN:STANDARD
TZOFFSETFROM:-0400
TZOFFSETTO:-0500
TZNAME:EST
DTSTART:20261101T060000
END:STANDARD
END:VTIMEZONE
BEGIN:VEVENT
DTSTART;TZID=America/Detroit:20250201T090000
DTEND;TZID=America/Detroit:20250228T210000
DTSTAMP:20260421T110440
CREATED:20250128T164755Z
LAST-MODIFIED:20250128T164755Z
UID:10000102-1738400400-1740776400@www.naturesremedycannabis.com
SUMMARY:$1000 Puffco Raffle
DESCRIPTION:This February\, Nature’s Remedy Cannabis is giving you the chance to elevate your sesh with the ultimate Puffco bundle! 🌬️✨ From February 1st to February 28th\, earn 1 raffle entry for every $100 spent on Puffco products—with no limit on entries. \n🎁 What You Could Win 🎁\nA Puffco Prize Pack valued at $1\,000+\, including: \n\nPuffco Peak Pro 1.0 (Black)\nPuffco Plus Pen 2.0\nPuffco Plus Chamber\nPuffco Peak Pro Travel Pack\nPuffco Heated Loading Tool\nPuffco Travel Case\nPuffco Charging Dock (Black)\nPuffco Peak Pro 3D Chamber\nPuffco Ryan Fitt Recycler Glass\n\n📍 When: February 1st – February 28th\n📍 Where: Nature’s Remedy Cannabis (in store only) \nThe winner will be announced in early March! Don’t miss this opportunity to take home the ultimate Puffco setup. Stock up\, enter often\, and let luck be on your side! 🌿🔥 \n✨ Get your tickets in store only. Every $100 spent on Puffco products earns you an entry. Good luck! \n  \nSHOP PUFFCO PRODUCTS NOW:\n \n  \n 
URL:https://www.naturesremedycannabis.com/event/1000-puffco-raffle/
LOCATION:Nature’s Remedy Cannabis\, 925 E Drayton St\, Ferndale\, MI\, 48220\, United States
CATEGORIES:Party,Raffle
ATTACH;FMTTYPE=image/png:https://www.naturesremedycannabis.com/wp-content/uploads/2025/01/51.png
ORGANIZER;CN="Nature's Remedy Cannabis":MAILTO:contact@nrcemails.com
END:VEVENT
BEGIN:VEVENT
DTSTART;TZID=America/Detroit:20250214T090000
DTEND;TZID=America/Detroit:20250214T210000
DTSTAMP:20260421T110440
CREATED:20250127T211716Z
LAST-MODIFIED:20250127T211742Z
UID:10000100-1739523600-1739566800@www.naturesremedycannabis.com
SUMMARY:💝Valentine's Day Goodie Bag Giveaway💝
DESCRIPTION:Celebrate love this Valentine’s Day with Nature’s Remedy Cannabis! ❤️ On Friday\, February 14th\, the first 50 customers who spend $100 or more (before tax) will receive a FREE Valentine’s Day goodie bag packed with premium cannabis products and surprises valued at $150+! \nWhether you’re treating yourself or someone special\, this is the perfect chance to stock up and score some extra love in your bag. 🌿💘 \n📍 When: Friday\, February 14th\n📍 Where: Nature’s Remedy Cannabis\n📍 Time: Doors open at 9:00AM – arrive early to secure your spot! \n✨ Limited to the first 50 qualifying customers\, so don’t miss out! \nSpread the love and enjoy this sweet deal from all of us at Nature’s Remedy Cannabis! ❤️‍🔥
URL:https://www.naturesremedycannabis.com/event/%f0%9f%92%9dvalentines-day-goodie-bag-giveaway%f0%9f%92%9d/
LOCATION:Nature’s Remedy Cannabis\, 925 E Drayton St\, Ferndale\, MI\, 48220\, United States
CATEGORIES:Promo Event
ATTACH;FMTTYPE=image/png:https://www.naturesremedycannabis.com/wp-content/uploads/2025/01/50.png
ORGANIZER;CN="Nature's Remedy Cannabis":MAILTO:contact@nrcemails.com
END:VEVENT
BEGIN:VEVENT
DTSTART;TZID=America/Detroit:20250214T090000
DTEND;TZID=America/Detroit:20250214T210000
DTSTAMP:20260421T110440
CREATED:20250211T015157Z
LAST-MODIFIED:20250211T015157Z
UID:10000108-1739523600-1739566800@www.naturesremedycannabis.com
SUMMARY:💖 Valentine’s Day Vendor Event at Nature’s Remedy! 💖
DESCRIPTION:📅 When: Friday\, February 14\, 2025📍 Where: Nature’s Remedy \nJoin us for a sweet day of deals with top vendors and exclusive discounts! 🌿✨ \n💘 12:00 PM – 3:00 PM🔥 Freight Train Canna – 25% OFF🌹 Rose’s – 50% OFF \n💘 3:00 PM – 6:00 PM🛢 710 Labs – Spend $100 on 710 and get a FREE Persy Rosin\, Persy Doink\, or 1/8 Prepackaged Flower!🌱 Mary’s – B2G2 Dixie Gummies\, BOGO Mary’s Patches\, and 40% OFF ALL Mary’s Products! \nDon’t miss out on these love-filled savings and top-tier products! 💨💕 Tag your friends and spread the word! \n#ValentinesDayDeals #NaturesRemedy #710Labs #FreightTrainCanna #Roses #MarysMedicinals #DixieGummies #CannabisDeals
URL:https://www.naturesremedycannabis.com/event/%f0%9f%92%96-valentines-day-vendor-event-at-natures-remedy-%f0%9f%92%96/
LOCATION:Nature’s Remedy Cannabis\, 925 E Drayton St\, Ferndale\, MI\, 48220\, United States
CATEGORIES:Vendor Days
ATTACH;FMTTYPE=image/jpeg:https://www.naturesremedycannabis.com/wp-content/uploads/2025/02/Valentines-Day-Vendor.jpg
ORGANIZER;CN="Nature's Remedy Cannabis":MAILTO:contact@nrcemails.com
END:VEVENT
END:VCALENDAR