BEGIN:VCALENDAR
VERSION:2.0
PRODID:-//Nature&#039;s Remedy Cannabis - ECPv6.15.20//NONSGML v1.0//EN
CALSCALE:GREGORIAN
METHOD:PUBLISH
X-WR-CALNAME:Nature&#039;s Remedy Cannabis
X-ORIGINAL-URL:https://www.naturesremedycannabis.com
X-WR-CALDESC:Events for Nature&#039;s Remedy Cannabis
REFRESH-INTERVAL;VALUE=DURATION:PT1H
X-Robots-Tag:noindex
X-PUBLISHED-TTL:PT1H
BEGIN:VTIMEZONE
TZID:America/Detroit
BEGIN:DAYLIGHT
TZOFFSETFROM:-0500
TZOFFSETTO:-0400
TZNAME:EDT
DTSTART:20240310T070000
END:DAYLIGHT
BEGIN:STANDARD
TZOFFSETFROM:-0400
TZOFFSETTO:-0500
TZNAME:EST
DTSTART:20241103T060000
END:STANDARD
BEGIN:DAYLIGHT
TZOFFSETFROM:-0500
TZOFFSETTO:-0400
TZNAME:EDT
DTSTART:20250309T070000
END:DAYLIGHT
BEGIN:STANDARD
TZOFFSETFROM:-0400
TZOFFSETTO:-0500
TZNAME:EST
DTSTART:20251102T060000
END:STANDARD
BEGIN:DAYLIGHT
TZOFFSETFROM:-0500
TZOFFSETTO:-0400
TZNAME:EDT
DTSTART:20260308T070000
END:DAYLIGHT
BEGIN:STANDARD
TZOFFSETFROM:-0400
TZOFFSETTO:-0500
TZNAME:EST
DTSTART:20261101T060000
END:STANDARD
END:VTIMEZONE
BEGIN:VEVENT
DTSTART;VALUE=DATE:20250509
DTEND;VALUE=DATE:20250510
DTSTAMP:20260421T061954
CREATED:20250509T144628Z
LAST-MODIFIED:20250509T145111Z
UID:10000127-1746748800-1746835199@www.naturesremedycannabis.com
SUMMARY:Dixie & Mary's Medicinals Vendor Day
DESCRIPTION:📍 Nature’s Remedy – Ferndale📅 Date: May 9tH\, 2025🕗 Time: 10:00AM – 12:00PM \nDixie Products & Mary’s Medicinal vendor Day only at Nature’s Remedy!  💚 \n🔥EXCLUSIVE PROMOTIONS!  🔥 \n\nBUY ONE GET ONE FREE ALL DIXIE GUMMIES!\nBUY ONE GET ONE FREE ALL MARY’S MEDICINAL PATCHES!\n20% OFF ALL MARY’S MEDICINAL TOPICALS!\nWhile supplies last.\n\n🎥 Meet the team\, learn about their craft\, snag a sweet deal and get some swag! \n💬 Got questions? Our budtenders will be online and in-store to help you get the most from this promo! \nDon’t miss it – stock up\, stay lifted\, and remember nature is the remedy! \n🏳️‍🌈Join us 5/31 for the ultimate PRIDE party in Ferndale! 🏳️‍🌈 \n\nEXCLUSIVE DEALS\nENTERTAINMENT\nFOOD\nART\n& MORE\n\nFirst 150 people in line that spend $150 – get a free goodie bag! \n\nWhile supplies last!
URL:https://www.naturesremedycannabis.com/event/dixie-marys-medicinals-vendor-day/
LOCATION:Nature’s Remedy Cannabis\, 925 E Drayton St\, Ferndale\, MI\, 48220\, United States
CATEGORIES:Vendor Days
ATTACH;FMTTYPE=image/png:https://www.naturesremedycannabis.com/wp-content/uploads/2025/05/Valentines-Day-Vendor-1-scaled.png
ORGANIZER;CN="Nature's Remedy Cannabis":MAILTO:contact@nrcemails.com
END:VEVENT
BEGIN:VEVENT
DTSTART;VALUE=DATE:20250509
DTEND;VALUE=DATE:20250512
DTSTAMP:20260421T061954
CREATED:20250509T013245Z
LAST-MODIFIED:20250509T014253Z
UID:10000123-1746748800-1747007999@www.naturesremedycannabis.com
SUMMARY:Mother's Day - 20% OFF All Flower\, Pre-rolls\, Edibles\, Topicals & Tinctures!
DESCRIPTION:📍 Nature’s Remedy – Ferndale📅 Date: May 9th – May 11th\, 2025🕗 Time: 9:00AM – 9:00PM \n🌸 Mother’s Day Weekend Sale at Nature’s Remedy! 🌸Treat the moms (and mom-figures!) in your life — or yourself 💁‍♀️ — with something special! \n💐 Enjoy 20% OFF all:🌿 Flower 🌸Pre-rolls🍬 Edibles🧴 Topicals💧 Tinctures \nBecause nothing says “I love you” like elevated relaxation 💚 \n💬 Got questions? Our budtenders will be online and in-store to help you get the most from this promo! \nDon’t miss it – stock up\, stay lifted\, and remember nature is the remedy! \nJoin us 5/31 for the ultimate PRIDE party in Ferndale! \n\nEXCLUSIVE DEALS\nENTERTAINMENT\nFOOD\nART\n& MORE\n\nFirst 150 people in line that spend $150 – get a free goodie bag! \n\nWhile supplies last!
URL:https://www.naturesremedycannabis.com/event/mothers-day-20-off-all-flower-pre-rolls-edibles-topicals-tinctures/
LOCATION:Nature’s Remedy Cannabis\, 925 E Drayton St\, Ferndale\, MI\, 48220\, United States
CATEGORIES:Promo Event
ATTACH;FMTTYPE=image/jpeg:https://www.naturesremedycannabis.com/wp-content/uploads/2025/05/DO-NOT-TOUCH-VENDOR-DAY-WEBSITE-GRAPHICS-2-scaled.jpg
ORGANIZER;CN="Nature's Remedy Cannabis":MAILTO:contact@nrcemails.com
END:VEVENT
END:VCALENDAR