BEGIN:VCALENDAR
VERSION:2.0
PRODID:-//Nature&#039;s Remedy Cannabis - ECPv6.15.20//NONSGML v1.0//EN
CALSCALE:GREGORIAN
METHOD:PUBLISH
X-WR-CALNAME:Nature&#039;s Remedy Cannabis
X-ORIGINAL-URL:https://www.naturesremedycannabis.com
X-WR-CALDESC:Events for Nature&#039;s Remedy Cannabis
REFRESH-INTERVAL;VALUE=DURATION:PT1H
X-Robots-Tag:noindex
X-PUBLISHED-TTL:PT1H
BEGIN:VTIMEZONE
TZID:America/Detroit
BEGIN:DAYLIGHT
TZOFFSETFROM:-0500
TZOFFSETTO:-0400
TZNAME:EDT
DTSTART:20240310T070000
END:DAYLIGHT
BEGIN:STANDARD
TZOFFSETFROM:-0400
TZOFFSETTO:-0500
TZNAME:EST
DTSTART:20241103T060000
END:STANDARD
BEGIN:DAYLIGHT
TZOFFSETFROM:-0500
TZOFFSETTO:-0400
TZNAME:EDT
DTSTART:20250309T070000
END:DAYLIGHT
BEGIN:STANDARD
TZOFFSETFROM:-0400
TZOFFSETTO:-0500
TZNAME:EST
DTSTART:20251102T060000
END:STANDARD
BEGIN:DAYLIGHT
TZOFFSETFROM:-0500
TZOFFSETTO:-0400
TZNAME:EDT
DTSTART:20260308T070000
END:DAYLIGHT
BEGIN:STANDARD
TZOFFSETFROM:-0400
TZOFFSETTO:-0500
TZNAME:EST
DTSTART:20261101T060000
END:STANDARD
END:VTIMEZONE
BEGIN:VEVENT
DTSTART;TZID=America/Detroit:20250531T090000
DTEND;TZID=America/Detroit:20250531T170000
DTSTAMP:20260419T095033
CREATED:20250508T000421Z
LAST-MODIFIED:20250526T195707Z
UID:10000122-1748682000-1748710800@www.naturesremedycannabis.com
SUMMARY:NRC x Ferndale Pride 2025
DESCRIPTION:SMOKE LOUD AND SHOP PROUD WITH NATURE’S REMEDY & FERNDALE PRIDE 2025! \nCelebrate love\, pride\, and community with us on May 31st\, 2025 at Ferndale Pride 2025!  \nWe’re bringing the good vibes and exclusive perks: \n5/31 ONLY:\n–Goodie bags for the first 150 people that spend $150 or more \n-Vendors & swag giveaways onsite at the store \n-CBD\, Accessories\, Swag\, Cold Drinks & Raffle tickets for sale at booth \nAnyone who makes a purchase of $20 or more gets to spin the prizewheel and also the opportunity to get a free Caricature Portrait drawn of them\, at our store. Non cannabis prizewheel rewards will be given out at the booth\, any the items won at the booth will have to be redeemed at the store. \n-Tye Dye Station at booth available for guests to want to the dye their white pride t-shirt. \n-Ordering Kiosk at booth\, customers will be able to place a pickup order at our booth to be picked up at our store. \n-First time client promo: (only available at our physical booth at the event) \n1. Signup using the form at the event (QR code) \n2. Spend $100 or more on your first in store visit (before taxes\, after discounts) \n3. Earn a $20 coupon for your second visit (expires 30 days after earning) \n\nLightsky Farms\n\nBOGO all products\n\n\n\n\nSauce\n\nBOGO all Sauce Reserve disposables\n\n\n\n\nFresh Coast\n\n25% off coupon on all Fresh Coast & Ritual purchases of $20 or more\n\n\nDixie / Mary’s\n\nDixie & Mary’s Medicinals\nBOGO Dixie Gummies\nBOGO Mary’s Medicinals Patches\n20% OFF Mary’s Medicinals Topicals\n\n\n\n\nPeninsula Gardens\n\nBOGO Peninsula Gummies\nBOGO Peninsula Gardens 3.5G Pre-packs\n20% OFF all Peninsula Rosin\n20% OFF all Peninsula Disposables\n20$ OFF all Peninsula Donuts\n\n\n\n  \nALL MONTH OF JUNE:\n-Promo for all clients \nSpend $500 or more (before tax) in the month of June and get a $50 coupon valid for the first week of July! \n-$3000 Pride Month Raffle – 3 Winners! (In store only)  \n\nEvery $100 spent in store from 5/31 – 6/30 earns 1 entry.\nor buy additional tickets for $25.\n\n\n1st place gets a $1500 prize pack\n2nd place gets a $1000 prize pack\n3rd place gets a $500 prize pack\n\n-($99) Pride Month Bundle ($128 Reg. Price) – Available starting 5/31 (no mix n match flavors) \n1- Breeze Neon Strawguava AIO \n1- Camino Pride Passionfruit Punch 200mg Gummies \n1- Hytek Rainbow Sangria Preroll \n1- Roses Long stem Nerds Infused Preroll \n1- Mitten Extracts Lemon Cherry Infused preroll \n1- Wana Peach Bellini 200mg Gummies \n1- Pot Pots 100mg Choice of Milk or Dark \n1- Fresh Coast rainbow Runtz Splash Live Resin Cart \n1- Mary Jones 100mg Soda choice of flavor \n1- Rays lemonade 100mg drink choice of flavor \nAdd on a NRC Limited Edition Pride T-Shirt for only $25! ($40 regular price)
URL:https://www.naturesremedycannabis.com/event/nrc-x-ferndale-pride-2025/
LOCATION:Nature’s Remedy Cannabis\, 925 E Drayton St\, Ferndale\, MI\, 48220\, United States
CATEGORIES:Festival,Party,Promo Event
ATTACH;FMTTYPE=image/jpeg:https://www.naturesremedycannabis.com/wp-content/uploads/2025/05/DO-NOT-TOUCH-VENDOR-DAY-WEBSITE-GRAPHICS-1-scaled.jpg
ORGANIZER;CN="Nature's Remedy Cannabis":MAILTO:contact@nrcemails.com
END:VEVENT
BEGIN:VEVENT
DTSTART;TZID=America/Detroit:20250531T090000
DTEND;TZID=America/Detroit:20250531T210000
DTSTAMP:20260419T095033
CREATED:20250509T221447Z
LAST-MODIFIED:20250509T221447Z
UID:10000135-1748682000-1748725200@www.naturesremedycannabis.com
SUMMARY:Dixie & Mary's Medicinals Vendor Day
DESCRIPTION:📍 Nature’s Remedy – Ferndale📅 Date: May 31st\, 2025🕗 Time: 2:00PM – 5:00PM \nDixie Products & Mary’s Medicinal vendor Day only at Nature’s Remedy!  💚 \n🔥EXCLUSIVE PROMOTIONS!  🔥 \n\nBUY ONE GET ONE FREE ALL DIXIE GUMMIES!\nBUY ONE GET ONE FREE ALL MARY’S MEDICINAL PATCHES!\n20% OFF ALL MARY’S MEDICINAL TOPICALS!\nWhile supplies last.\n\n🎥 Meet the team\, learn about their craft\, snag a sweet deal and get some swag! \n💬 Got questions? Our budtenders will be online and in-store to help you get the most from this promo! \nDon’t miss it – stock up\, stay lifted\, and remember nature is the remedy! \n🏳️‍🌈Join us 5/31 for the ultimate PRIDE party in Ferndale! 🏳️‍🌈 \n\nEXCLUSIVE DEALS\nENTERTAINMENT\nFOOD\nART\n& MORE\n\nFirst 150 people in line that spend $150 – get a free goodie bag! \n\nWhile supplies last!
URL:https://www.naturesremedycannabis.com/event/dixie-marys-medicinals-vendor-day-4/
LOCATION:Nature’s Remedy Cannabis\, 925 E Drayton St\, Ferndale\, MI\, 48220\, United States
CATEGORIES:Party,Promo Event,Vendor Days
ATTACH;FMTTYPE=image/jpeg:https://www.naturesremedycannabis.com/wp-content/uploads/2025/05/Valentines-Day-Vendor-7-scaled.jpg
ORGANIZER;CN="Nature's Remedy Cannabis":MAILTO:contact@nrcemails.com
END:VEVENT
BEGIN:VEVENT
DTSTART;TZID=America/Detroit:20250531T110000
DTEND;TZID=America/Detroit:20250531T140000
DTSTAMP:20260419T095033
CREATED:20250506T162335Z
LAST-MODIFIED:20250509T044418Z
UID:10000121-1748689200-1748700000@www.naturesremedycannabis.com
SUMMARY:Lightsky Farms Vendor Day
DESCRIPTION:📍 Nature’s Remedy – Ferndale📅 Date: May 31st\, 2025🕗 Time: 11:00AM – 2:00PM \nLightsky Farms vendor Day only at Nature’s Remedy!  💚 \n🔥EXCLUSIVE PROMOTIONS!  🔥 \n\nBUY ONE GET ONE FREE ALL PRODUCTS\nWhile supplies last.\n\n🎥 Meet the team\, learn about their craft\, snag a sweet deal and get some swag! \n💬 Got questions? Our budtenders will be online and in-store to help you get the most from this promo! \nDon’t miss it – stock up\, stay lifted\, and remember nature is the remedy! \n🏳️‍🌈Join us 5/31 for the ultimate PRIDE party in Ferndale! 🏳️‍🌈 \n\nEXCLUSIVE DEALS\nENTERTAINMENT\nFOOD\nART\n& MORE\n\nFirst 150 people in line that spend $150 – get a free goodie bag! \n\nWhile supplies last!
URL:https://www.naturesremedycannabis.com/event/lightsky-farms-vendor-day/
LOCATION:Nature’s Remedy Cannabis\, 925 E Drayton St\, Ferndale\, MI\, 48220\, United States
CATEGORIES:Party,Promo Event,Vendor Days
ATTACH;FMTTYPE=image/jpeg:https://www.naturesremedycannabis.com/wp-content/uploads/2025/05/LIGHT-SKY-FARMS-3-scaled.jpg
ORGANIZER;CN="Nature's Remedy Cannabis":MAILTO:contact@nrcemails.com
END:VEVENT
BEGIN:VEVENT
DTSTART;TZID=America/Detroit:20250531T110000
DTEND;TZID=America/Detroit:20250531T140000
DTSTAMP:20260419T095033
CREATED:20250509T015404Z
LAST-MODIFIED:20250509T021455Z
UID:10000125-1748689200-1748700000@www.naturesremedycannabis.com
SUMMARY:Sauce Vendor Day
DESCRIPTION:📍 Nature’s Remedy – Ferndale📅 Date: May 31st\, 2025🕗 Time: 11:00AM – 2:00PM \nSauce vendor day only at Nature’s Remedy!  💚 \n🔥EXCLUSIVE PROMOTIONS!  🔥 \n\nBUY ONE GET ONE FREE ALL RESERVE DISPOSABLES!\nWhile supplies last.\n\n🎥 Meet the team\, learn about their craft\, snag a sweet deal and get some swag! \n💬 Got questions? Our budtenders will be online and in-store to help you get the most from this promo! \nDon’t miss it – stock up\, stay lifted\, and remember nature is the remedy! \n🏳️‍🌈Join us 5/31 for the ultimate PRIDE party in Ferndale! 🏳️‍🌈 \n\nEXCLUSIVE DEALS\nENTERTAINMENT\nFOOD\nART\n& MORE\n\nFirst 150 people in line that spend $150 – get a free goodie bag! \n\nWhile supplies last!
URL:https://www.naturesremedycannabis.com/event/sauce-vendor-day-2/
LOCATION:Nature’s Remedy Cannabis\, 925 E Drayton St\, Ferndale\, MI\, 48220\, United States
CATEGORIES:Festival,Party,Promo Event,Vendor Days
ATTACH;FMTTYPE=image/jpeg:https://www.naturesremedycannabis.com/wp-content/uploads/2025/05/LIGHT-SKY-FARMS-4-scaled.jpg
ORGANIZER;CN="Nature's Remedy Cannabis":MAILTO:contact@nrcemails.com
END:VEVENT
BEGIN:VEVENT
DTSTART;TZID=America/Detroit:20250531T130000
DTEND;TZID=America/Detroit:20250531T170000
DTSTAMP:20260419T095033
CREATED:20250509T020802Z
LAST-MODIFIED:20250510T010712Z
UID:10000126-1748696400-1748710800@www.naturesremedycannabis.com
SUMMARY:John Rios - Live Caricature Artist
DESCRIPTION:📍 Nature’s Remedy – Ferndale📅 Date: May 31st\, 2025🕗 Time: 1:00PM – 5:00PM \nJOHN RIOS – AVAILABLE ONLY AT NATURE’S REMEDY FERNDALE!  💚 \n🔥FREE LIVE DRAWN PORTRAIT WITH PURCHASE!  🔥 \n🎥 Meet John\, see him in action\, and snag a sweet moment of the best PRIDE party in Ferndale! \n💬 Got questions? Our budtenders will be online and in-store to help you get the most from this promo! \nDon’t miss it – stock up\, stay lifted\, and remember nature is the remedy! \n🏳️‍🌈Join us 5/31 for the ultimate PRIDE party in Ferndale! 🏳️‍🌈 \n\nEXCLUSIVE DEALS\nENTERTAINMENT\nFOOD\nART\n& MORE\n\nFirst 150 people in line that spend $150 – get a free goodie bag! \n\nWhile supplies last!
URL:https://www.naturesremedycannabis.com/event/john-rios-live-caricature-artist/
LOCATION:Nature’s Remedy Cannabis\, 925 E Drayton St\, Ferndale\, MI\, 48220\, United States
CATEGORIES:Art,Festival,Party,Promo Event
ATTACH;FMTTYPE=image/jpeg:https://www.naturesremedycannabis.com/wp-content/uploads/2025/05/Fresh-Coast-Vendor-2-scaled.jpg
ORGANIZER;CN="Nature's Remedy Cannabis":MAILTO:contact@nrcemails.com
END:VEVENT
END:VCALENDAR