BEGIN:VCALENDAR
VERSION:2.0
PRODID:-//Nature&#039;s Remedy Cannabis - ECPv6.15.20//NONSGML v1.0//EN
CALSCALE:GREGORIAN
METHOD:PUBLISH
X-WR-CALNAME:Nature&#039;s Remedy Cannabis
X-ORIGINAL-URL:https://www.naturesremedycannabis.com
X-WR-CALDESC:Events for Nature&#039;s Remedy Cannabis
REFRESH-INTERVAL;VALUE=DURATION:PT1H
X-Robots-Tag:noindex
X-PUBLISHED-TTL:PT1H
BEGIN:VTIMEZONE
TZID:America/Detroit
BEGIN:DAYLIGHT
TZOFFSETFROM:-0500
TZOFFSETTO:-0400
TZNAME:EDT
DTSTART:20260308T070000
END:DAYLIGHT
BEGIN:STANDARD
TZOFFSETFROM:-0400
TZOFFSETTO:-0500
TZNAME:EST
DTSTART:20261101T060000
END:STANDARD
BEGIN:DAYLIGHT
TZOFFSETFROM:-0500
TZOFFSETTO:-0400
TZNAME:EDT
DTSTART:20270314T070000
END:DAYLIGHT
BEGIN:STANDARD
TZOFFSETFROM:-0400
TZOFFSETTO:-0500
TZNAME:EST
DTSTART:20271107T060000
END:STANDARD
BEGIN:DAYLIGHT
TZOFFSETFROM:-0500
TZOFFSETTO:-0400
TZNAME:EDT
DTSTART:20280312T070000
END:DAYLIGHT
BEGIN:STANDARD
TZOFFSETFROM:-0400
TZOFFSETTO:-0500
TZNAME:EST
DTSTART:20281105T060000
END:STANDARD
END:VTIMEZONE
BEGIN:VEVENT
DTSTART;TZID=America/Detroit:20270917T090000
DTEND;TZID=America/Detroit:20270917T120000
DTSTAMP:20260425T111440
CREATED:20260323T200348Z
LAST-MODIFIED:20260424T193600Z
UID:10000768-1821171600-1821182400@www.naturesremedycannabis.com
SUMMARY:CARS & COFFEE ☕
DESCRIPTION:📍 Nature’s Remedy – Ferndale📅 Date: May 17th\, 2025🕗 Time: 9:00AM – 12:00PM \nJoin us for a morning of cars\, coffee\, community\, and more! Whether you’re a car enthusiast\, looking to network\, or just want to enjoy some good vibes with great people! We are brewing a community one ride at a time. \nAll are welcome to bring their cars to be showcased at Nature’s Remedy Cannabis in Ferndale! \n🌟 What to Expect\n\nA showcase of stunning cars & car enthusiasts\nFresh coffee\, snacks\, and great music\nLocal vendors & networking opportunities\nA fun and welcoming community atmosphere\n\n \n  \n 
URL:https://www.naturesremedycannabis.com/event/cars-coffee-%e2%98%95/2027-09-17/
LOCATION:Nature’s Remedy Cannabis\, 925 E Drayton St\, Ferndale\, MI\, 48220\, United States
CATEGORIES:Cars & Coffee,Party,Promo Event
ATTACH;FMTTYPE=image/jpeg:https://www.naturesremedycannabis.com/wp-content/uploads/2026/03/CARS-COFFEE-WEBSITE-EVENT-GRAPHIC-2-scaled.jpg
ORGANIZER;CN="Nature's Remedy Cannabis":MAILTO:contact@nrcemails.com
END:VEVENT
END:VCALENDAR