BEGIN:VCALENDAR
VERSION:2.0
PRODID:-//Nature&#039;s Remedy Cannabis - ECPv6.15.20//NONSGML v1.0//EN
CALSCALE:GREGORIAN
METHOD:PUBLISH
X-ORIGINAL-URL:https://www.naturesremedycannabis.com
X-WR-CALDESC:Events for Nature&#039;s Remedy Cannabis
REFRESH-INTERVAL;VALUE=DURATION:PT1H
X-Robots-Tag:noindex
X-PUBLISHED-TTL:PT1H
BEGIN:VTIMEZONE
TZID:America/Detroit
BEGIN:DAYLIGHT
TZOFFSETFROM:-0500
TZOFFSETTO:-0400
TZNAME:EDT
DTSTART:20220313T070000
END:DAYLIGHT
BEGIN:STANDARD
TZOFFSETFROM:-0400
TZOFFSETTO:-0500
TZNAME:EST
DTSTART:20221106T060000
END:STANDARD
BEGIN:DAYLIGHT
TZOFFSETFROM:-0500
TZOFFSETTO:-0400
TZNAME:EDT
DTSTART:20230312T070000
END:DAYLIGHT
BEGIN:STANDARD
TZOFFSETFROM:-0400
TZOFFSETTO:-0500
TZNAME:EST
DTSTART:20231105T060000
END:STANDARD
BEGIN:DAYLIGHT
TZOFFSETFROM:-0500
TZOFFSETTO:-0400
TZNAME:EDT
DTSTART:20240310T070000
END:DAYLIGHT
BEGIN:STANDARD
TZOFFSETFROM:-0400
TZOFFSETTO:-0500
TZNAME:EST
DTSTART:20241103T060000
END:STANDARD
END:VTIMEZONE
BEGIN:VEVENT
DTSTART;TZID=America/Detroit:20230927T170000
DTEND;TZID=America/Detroit:20230927T203000
DTSTAMP:20260422T125755
CREATED:20230915T172127Z
LAST-MODIFIED:20230915T172209Z
UID:10000011-1695834000-1695846600@www.naturesremedycannabis.com
SUMMARY:Smokey’s Patio Sesh & Pumpkin Painting
DESCRIPTION:We are taking the Patio Sesh to Gross Pointe with Smokey aka Rachel and we couldn’t be more excited. To be honest\, it was here that the Patio Sesh idea originated and we are back for more. \nCome chill with us in a relaxed backyard environment with women\, cannabis\, munchies\, and pumpkin painting. The series is an intimate\, low-key\, high vibe happy hour with queens. \nCome checkout the NRC Booth at this event\, with cannabis prizes\, CBD and so much more!
URL:https://www.naturesremedycannabis.com/event/smokeys-patio-sesh-pumpkin-painting/
LOCATION:Smokey Gross Pointe MI\, 1445 LakePointe St\, Grosse Pointe Park\, MI\, 48230\, United States
ATTACH;FMTTYPE=image/webp:https://www.naturesremedycannabis.com/wp-content/uploads/2023/09/Copy-of-Pink-Retro-Groovy-New-Arrival-Instagram-Story-1080-×-1320-px-Instagram-Post-Square.webp
END:VEVENT
BEGIN:VEVENT
DTSTART;TZID=America/Detroit:20230929T170000
DTEND;TZID=America/Detroit:20230929T230000
DTSTAMP:20260422T125755
CREATED:20230915T185251Z
LAST-MODIFIED:20230915T185251Z
UID:10000012-1696006800-1696028400@www.naturesremedycannabis.com
SUMMARY:Smoketoberfest at Batch Brewing
DESCRIPTION:The follow-up to our big Oktoberfest event. This time around\, the focus is aimed at the food. Although\, there will definitely be plenty of beer to pair with all the smoked meats and veggies. \nYou can expect special menu items\, great beer\, live music\, and games. We hope to see you there! \n\n\n\nCome checkout the NRC Booth at this event\, with cannabis prizes\, CBD and so much more!
URL:https://www.naturesremedycannabis.com/event/smoketoberfest-at-batch-brewing/
LOCATION:Batch Brewing\, 1400 PORTER ST\, DETROIT\, MI\, 48216\, United States
ATTACH;FMTTYPE=image/png:https://www.naturesremedycannabis.com/wp-content/uploads/2023/09/Screenshot-2023-09-15-at-2.42.15-PM.png
END:VEVENT
BEGIN:VEVENT
DTSTART;TZID=America/Detroit:20230930T100000
DTEND;TZID=America/Detroit:20230930T140000
DTSTAMP:20260422T125755
CREATED:20230918T225837Z
LAST-MODIFIED:20230918T230035Z
UID:10000013-1696068000-1696082400@www.naturesremedycannabis.com
SUMMARY:Lifted Fitness Trail Walk
DESCRIPTION:Join us for an guided elevated & interactive trail walk at Heritage Park \n  \nWe will meet at 10am at a designated location that will be emailed out the day before! \nAfter introductions and explanations\, we’ll begin our walk! \nWe’ll stop a couple times for rest as well for our journaling session and ending with breath work & meditation. Food & refreshments will be provided at the end of the walk 🙂 \n  \nRecommendations: \n\nwear long pants and/or long socks. Wear a long sleeve or bring a light jacket.\nClosed toe shoes that you don’t mind getting dirty\nA small bag to carry personal belongings (i.e fanny pack\, string book bag)\nA water bottle (we’ll have extra)\nBug spray & sunscreen (we’ll have extra)\nConsume consciously. Other people will be on the trail so be mindful of blowing smoke around other trail walkers.\nHydrate & eat beforehand!\nBring a friend but also come open minded to meet other beautiful people 🥰\n\nNature’s Remedy will be providing goodie bags for all participants and sponsoring the event to help pay for the food\, ect!
URL:https://www.naturesremedycannabis.com/event/lifted-fitness-trail-walk/
LOCATION:Heritage Park\, 24915 Farmington Rd\, Farmington Hills\, MI\, 48336\, United States
ATTACH;FMTTYPE=image/webp:https://www.naturesremedycannabis.com/wp-content/uploads/2023/09/eaa0de_d0931b77e9254902b8b2b265b9a4af6fmv2.webp
END:VEVENT
END:VCALENDAR