BEGIN:VCALENDAR
VERSION:2.0
PRODID:-//Nature&#039;s Remedy Cannabis - ECPv6.15.20//NONSGML v1.0//EN
CALSCALE:GREGORIAN
METHOD:PUBLISH
X-ORIGINAL-URL:https://www.naturesremedycannabis.com
X-WR-CALDESC:Events for Nature&#039;s Remedy Cannabis
REFRESH-INTERVAL;VALUE=DURATION:PT1H
X-Robots-Tag:noindex
X-PUBLISHED-TTL:PT1H
BEGIN:VTIMEZONE
TZID:America/Detroit
BEGIN:DAYLIGHT
TZOFFSETFROM:-0500
TZOFFSETTO:-0400
TZNAME:EDT
DTSTART:20220313T070000
END:DAYLIGHT
BEGIN:STANDARD
TZOFFSETFROM:-0400
TZOFFSETTO:-0500
TZNAME:EST
DTSTART:20221106T060000
END:STANDARD
BEGIN:DAYLIGHT
TZOFFSETFROM:-0500
TZOFFSETTO:-0400
TZNAME:EDT
DTSTART:20230312T070000
END:DAYLIGHT
BEGIN:STANDARD
TZOFFSETFROM:-0400
TZOFFSETTO:-0500
TZNAME:EST
DTSTART:20231105T060000
END:STANDARD
BEGIN:DAYLIGHT
TZOFFSETFROM:-0500
TZOFFSETTO:-0400
TZNAME:EDT
DTSTART:20240310T070000
END:DAYLIGHT
BEGIN:STANDARD
TZOFFSETFROM:-0400
TZOFFSETTO:-0500
TZNAME:EST
DTSTART:20241103T060000
END:STANDARD
END:VTIMEZONE
BEGIN:VEVENT
DTSTART;VALUE=DATE:20231224
DTEND;VALUE=DATE:20231225
DTSTAMP:20260422T073940
CREATED:20231216T202900Z
LAST-MODIFIED:20231216T203446Z
UID:10000023-1703376000-1703462399@www.naturesremedycannabis.com
SUMMARY:Christmas Eve Goodie Bags at Nature's Remedy Cannabis
DESCRIPTION:We are doing Christmas Eve Goodie bags for the first 100 guests that spend $100 before tax & after discounts on Christmas Eve\n\nWe open at 9AM but we have seen guests start lining up as early as 7AM for previous years.
URL:https://www.naturesremedycannabis.com/event/christmas-eve-goodie-bags-at-natures-remedy-cannabis/
LOCATION:Nature’s Remedy Cannabis\, 925 E Drayton St\, Ferndale\, MI\, 48220\, United States
ATTACH;FMTTYPE=image/png:https://www.naturesremedycannabis.com/wp-content/uploads/2023/12/PARTICIPATING-BRANDS.png
ORGANIZER;CN="Nature's Remedy Cannabis":MAILTO:contact@nrcemails.com
END:VEVENT
BEGIN:VEVENT
DTSTART;TZID=America/Detroit:20231228T180000
DTEND;TZID=America/Detroit:20231228T210000
DTSTAMP:20260422T073940
CREATED:20231209T224705Z
LAST-MODIFIED:20231221T222840Z
UID:10000022-1703786400-1703797200@www.naturesremedycannabis.com
SUMMARY:Terpology 101 - Mushroom & Cannabis Education Event
DESCRIPTION:CLICK HERE BUY TICKETS \nJoin us at “This Must Be The Place” in Detroit on December 22\, 2023\, from 6:00 to 9:00pm for an enlightening experience at “Terpology 101” presented by Mrs. Vicius and Nature’s Remedy Cannabis. This event is a celebration of education\, dedicated to expanding community knowledge about the fascinating world of microdosing and the terpenes found in both cannabis and mushrooms. \nThe evening promises a unique blend of learning and wellness\, featuring a 45-minute yoga and breathwork session. Additionally\, we’ve created a special space for women to come together\, where they can openly discuss and discover how cannabis & mushrooms can be used to aid their menstrual cycles. \nDon’t miss this opportunity to explore the realms of cannabis\, mushrooms\, and wellness in a vibrant and inclusive setting. Let’s embark on a journey of discovery together. See you there! \n– Hosted by the Esteemed Mrs. Vicius and Nature’s Remedy Cannabis\n– Date: December 28\, 2023\n– Time: 6:00 PM to 9:00 PM\n– Venue: The Elegant Setting of “That Must Be The Place”\n– Key Themes: A Scholarly Exploration of Microdosing\, Cannabis\, and Mushroom Terpenes \n– Notable Features:\n– A Tranquil 45-Minute Yoga and Breathwork Session\n– A Thoughtful Space for Women to Delve into the Benefits of Cannabis for Menstrual Health\n– An Exceptional Opportunity for Collective Enlightenment and Well-being\n– An Evening of Inclusivity and Refined Discourse Not to Be Missed! \nCLICK HERE BUY TICKETS
URL:https://www.naturesremedycannabis.com/event/terpology-101-mushroom-cannabis-education-event-2/
LOCATION:This Must Be The Place\, 8700 Mack Ave\, Detroit\, MI\, 48214\, United States
ATTACH;FMTTYPE=image/jpeg:https://www.naturesremedycannabis.com/wp-content/uploads/2023/12/terpology-banner-1388-x-529-px-1-1-scaled.jpg
END:VEVENT
END:VCALENDAR