BEGIN:VCALENDAR
VERSION:2.0
PRODID:-//Nature&#039;s Remedy Cannabis - ECPv6.15.20//NONSGML v1.0//EN
CALSCALE:GREGORIAN
METHOD:PUBLISH
X-WR-CALNAME:Nature&#039;s Remedy Cannabis
X-ORIGINAL-URL:https://www.naturesremedycannabis.com
X-WR-CALDESC:Events for Nature&#039;s Remedy Cannabis
REFRESH-INTERVAL;VALUE=DURATION:PT1H
X-Robots-Tag:noindex
X-PUBLISHED-TTL:PT1H
BEGIN:VTIMEZONE
TZID:America/Detroit
BEGIN:DAYLIGHT
TZOFFSETFROM:-0500
TZOFFSETTO:-0400
TZNAME:EDT
DTSTART:20230312T070000
END:DAYLIGHT
BEGIN:STANDARD
TZOFFSETFROM:-0400
TZOFFSETTO:-0500
TZNAME:EST
DTSTART:20231105T060000
END:STANDARD
BEGIN:DAYLIGHT
TZOFFSETFROM:-0500
TZOFFSETTO:-0400
TZNAME:EDT
DTSTART:20240310T070000
END:DAYLIGHT
BEGIN:STANDARD
TZOFFSETFROM:-0400
TZOFFSETTO:-0500
TZNAME:EST
DTSTART:20241103T060000
END:STANDARD
BEGIN:DAYLIGHT
TZOFFSETFROM:-0500
TZOFFSETTO:-0400
TZNAME:EDT
DTSTART:20250309T070000
END:DAYLIGHT
BEGIN:STANDARD
TZOFFSETFROM:-0400
TZOFFSETTO:-0500
TZNAME:EST
DTSTART:20251102T060000
END:STANDARD
END:VTIMEZONE
BEGIN:VEVENT
DTSTART;TZID=America/Detroit:20240511T150000
DTEND;TZID=America/Detroit:20240511T180000
DTSTAMP:20260421T233450
CREATED:20240509T161942Z
LAST-MODIFIED:20240509T162423Z
UID:10000037-1715439600-1715450400@www.naturesremedycannabis.com
SUMMARY:Franklin Fields Vendor Day
DESCRIPTION:Franklin Fields will physically be at our location for a vendor day. They will have swag\, accessories\, education and much more!\nSHOP FRANKLIN FIELDS PRODUCTS – CLICK HERE
URL:https://www.naturesremedycannabis.com/event/franklin-fields-vendor-day/
LOCATION:Nature’s Remedy Cannabis\, 925 E Drayton St\, Ferndale\, MI\, 48220\, United States
CATEGORIES:Vendor Days
ATTACH;FMTTYPE=image/png:https://www.naturesremedycannabis.com/wp-content/uploads/2024/05/Screenshot-2024-05-09-at-12.13.50 PM.png
ORGANIZER;CN="Nature's Remedy Cannabis":MAILTO:contact@nrcemails.com
END:VEVENT
BEGIN:VEVENT
DTSTART;TZID=America/Detroit:20240516T160000
DTEND;TZID=America/Detroit:20240516T190000
DTSTAMP:20260421T233450
CREATED:20240509T162404Z
LAST-MODIFIED:20240509T163214Z
UID:10000038-1715875200-1715886000@www.naturesremedycannabis.com
SUMMARY:Pleasantrees Vendor Day - Thirsty Thursday
DESCRIPTION:Pleasantrees will be onsite offering their entire line of THC & CBD Beverages. Deals & bundles on Seltzers\, Apple Ciders\, Teas\, and Drink Enhancers\nSHOP PLEASANTREES PRODUCTS – CLICK HERE
URL:https://www.naturesremedycannabis.com/event/pleasantrees-vendor-day/
LOCATION:Nature’s Remedy Cannabis\, 925 E Drayton St\, Ferndale\, MI\, 48220\, United States
CATEGORIES:Vendor Days
ATTACH;FMTTYPE=image/png:https://www.naturesremedycannabis.com/wp-content/uploads/2024/05/Screenshot-2024-05-09-at-12.21.48 PM.png
ORGANIZER;CN="Nature's Remedy Cannabis":MAILTO:contact@nrcemails.com
END:VEVENT
BEGIN:VEVENT
DTSTART;TZID=America/Detroit:20240517T140000
DTEND;TZID=America/Detroit:20240517T190000
DTSTAMP:20260421T233450
CREATED:20240509T162940Z
LAST-MODIFIED:20240509T162940Z
UID:10000039-1715954400-1715972400@www.naturesremedycannabis.com
SUMMARY:Light Sky Farms Vendor Day
DESCRIPTION:Light Sky Farms will physically be at our location for a vendor day. They will have swag\, acessories\, education and much more!\nSHOP LIGHT SKY FARMS PRODUCTS – CLICK HERE
URL:https://www.naturesremedycannabis.com/event/light-sky-farms-vendor-day/
LOCATION:Nature’s Remedy Cannabis\, 925 E Drayton St\, Ferndale\, MI\, 48220\, United States
CATEGORIES:Vendor Days
ATTACH;FMTTYPE=image/png:https://www.naturesremedycannabis.com/wp-content/uploads/2024/05/Screenshot-2024-05-09-at-12.28.04 PM.png
ORGANIZER;CN="Nature's Remedy Cannabis":MAILTO:contact@nrcemails.com
END:VEVENT
BEGIN:VEVENT
DTSTART;TZID=America/Detroit:20240523T160000
DTEND;TZID=America/Detroit:20240523T190000
DTSTAMP:20260421T233450
CREATED:20240509T163353Z
LAST-MODIFIED:20240509T163353Z
UID:10000040-1716480000-1716490800@www.naturesremedycannabis.com
SUMMARY:Pleasantrees Vendor Day - Thirsty Thursday
DESCRIPTION:Pleasantrees will be onsite offering their entire line of THC & CBD Beverages. Deals & bundles on Seltzers\, Apple Ciders\, Teas\, and Drink Enhancers\nSHOP PLEASANTREES PRODUCTS – CLICK HERE
URL:https://www.naturesremedycannabis.com/event/pleasantrees-vendor-day-thirsty-thursday/
LOCATION:Nature’s Remedy Cannabis\, 925 E Drayton St\, Ferndale\, MI\, 48220\, United States
CATEGORIES:Vendor Days
ATTACH;FMTTYPE=image/png:https://www.naturesremedycannabis.com/wp-content/uploads/2024/05/Screenshot-2024-05-09-at-12.21.48 PM.png
ORGANIZER;CN="Nature's Remedy Cannabis":MAILTO:contact@nrcemails.com
END:VEVENT
BEGIN:VEVENT
DTSTART;TZID=America/Detroit:20240524T150000
DTEND;TZID=America/Detroit:20240524T180000
DTSTAMP:20260421T233450
CREATED:20240509T163714Z
LAST-MODIFIED:20240509T163751Z
UID:10000041-1716562800-1716573600@www.naturesremedycannabis.com
SUMMARY:WYLD Vendor Day
DESCRIPTION:Wyld will physcially be at our location for a vendor day. There will be a BOGO deal on Wyld 100mg gummies for the whole day. They will have swag\, acessories\, education and much more!  \nSHOP WYLD PRODUCTS – CLICK HERE
URL:https://www.naturesremedycannabis.com/event/wyld-vendor-day/
LOCATION:Nature’s Remedy Cannabis\, 925 E Drayton St\, Ferndale\, MI\, 48220\, United States
CATEGORIES:Vendor Days
ATTACH;FMTTYPE=image/png:https://www.naturesremedycannabis.com/wp-content/uploads/2024/05/Screenshot-2024-05-09-at-12.35.34 PM.png
ORGANIZER;CN="Nature's Remedy Cannabis":MAILTO:contact@nrcemails.com
END:VEVENT
BEGIN:VEVENT
DTSTART;TZID=America/Detroit:20240525T150000
DTEND;TZID=America/Detroit:20240525T180000
DTSTAMP:20260421T233450
CREATED:20240509T164428Z
LAST-MODIFIED:20240509T164428Z
UID:10000042-1716649200-1716660000@www.naturesremedycannabis.com
SUMMARY:710 Labs Vendor Day
DESCRIPTION:7/10 Labs will physcially be at our location for a vendor day. They will have swag\, accessories\, education and much more!  \nSHOP 710 LABS PRODUCTS – CLICK HERE
URL:https://www.naturesremedycannabis.com/event/710-labs-vendor-day/
LOCATION:Nature’s Remedy Cannabis\, 925 E Drayton St\, Ferndale\, MI\, 48220\, United States
CATEGORIES:Vendor Days
ATTACH;FMTTYPE=image/png:https://www.naturesremedycannabis.com/wp-content/uploads/2024/05/Screenshot-2024-05-09-at-12.43.32 PM.png
ORGANIZER;CN="Nature's Remedy Cannabis":MAILTO:contact@nrcemails.com
END:VEVENT
BEGIN:VEVENT
DTSTART;TZID=America/Detroit:20240526T090000
DTEND;TZID=America/Detroit:20240526T110000
DTSTAMP:20260421T233450
CREATED:20240509T164901Z
LAST-MODIFIED:20240509T165053Z
UID:10000043-1716714000-1716721200@www.naturesremedycannabis.com
SUMMARY:Cars N Coffee
DESCRIPTION:Rev up your engines and join us at Cars & Coffee! A good ole fashioned NRC parking lot party/ car meet up located at Nature’s Remedy. Bring out your unique wheels and receive a reward 🥵– we’ll be serving up coffee & offering mouthwatering breakfast sandwiches (for purchase) AND we’re even gifting certain products based on your car’s style😎 Don’t miss the chance to help make it a monthly tradition every last Sunday of the month! Stay tuned for more details 👀😈🏁
URL:https://www.naturesremedycannabis.com/event/cars-n-coffee/
LOCATION:Nature’s Remedy Cannabis\, 925 E Drayton St\, Ferndale\, MI\, 48220\, United States
ATTACH;FMTTYPE=image/jpeg:https://www.naturesremedycannabis.com/wp-content/uploads/2024/05/DO-NOT-TOUCH-4-X-6-FLYERS-scaled.jpg
ORGANIZER;CN="Nature's Remedy Cannabis":MAILTO:contact@nrcemails.com
END:VEVENT
BEGIN:VEVENT
DTSTART;TZID=America/Detroit:20240526T090000
DTEND;TZID=America/Detroit:20240526T110000
DTSTAMP:20260421T233450
CREATED:20240509T165027Z
LAST-MODIFIED:20240509T165027Z
UID:10000044-1716714000-1716721200@www.naturesremedycannabis.com
SUMMARY:"Sir Duck" Food Truck
DESCRIPTION:Sir Duck Detroit Food Truck will be at our location offering food for purchase for our Vendor Day.
URL:https://www.naturesremedycannabis.com/event/sir-duck-food-truck-2/
LOCATION:Nature’s Remedy Cannabis\, 925 E Drayton St\, Ferndale\, MI\, 48220\, United States
ATTACH;FMTTYPE=image/jpeg:https://www.naturesremedycannabis.com/wp-content/uploads/2024/05/1712688177-1711642134-food3-1.jpg
ORGANIZER;CN="Nature's Remedy Cannabis":MAILTO:contact@nrcemails.com
END:VEVENT
BEGIN:VEVENT
DTSTART;TZID=America/Detroit:20240527T090000
DTEND;TZID=America/Detroit:20240527T210000
DTSTAMP:20260421T233450
CREATED:20240509T165607Z
LAST-MODIFIED:20240509T165607Z
UID:10000045-1716800400-1716843600@www.naturesremedycannabis.com
SUMMARY:20% OFF Memorial Day Promo
DESCRIPTION:We will be offering customers 20% off all non discounted items for Memorial Day use promo code: MEMORIAL20
URL:https://www.naturesremedycannabis.com/event/20-off-memorial-day-promo/
LOCATION:Nature’s Remedy Cannabis\, 925 E Drayton St\, Ferndale\, MI\, 48220\, United States
ATTACH;FMTTYPE=image/png:https://www.naturesremedycannabis.com/wp-content/uploads/2024/05/Screenshot-2024-05-09-at-12.53.25 PM.png
ORGANIZER;CN="Nature's Remedy Cannabis":MAILTO:contact@nrcemails.com
END:VEVENT
BEGIN:VEVENT
DTSTART;TZID=America/Detroit:20240530T160000
DTEND;TZID=America/Detroit:20240530T190000
DTSTAMP:20260421T233450
CREATED:20240509T165949Z
LAST-MODIFIED:20240509T165949Z
UID:10000046-1717084800-1717095600@www.naturesremedycannabis.com
SUMMARY:Pleasantrees Vendor Day - Thirsty Thursday
DESCRIPTION:Pleasantrees will be onsite offering their entire line of THC & CBD Beverages. Deals & bundles on Seltzers\, Apple Ciders\, Teas\, and Drink Enhancers\nSHOP PLEASANTREES PRODUCTS – CLICK HERE
URL:https://www.naturesremedycannabis.com/event/pleasantrees-vendor-day-thirsty-thursday-2/
LOCATION:Nature’s Remedy Cannabis\, 925 E Drayton St\, Ferndale\, MI\, 48220\, United States
CATEGORIES:Vendor Days
ATTACH;FMTTYPE=image/png:https://www.naturesremedycannabis.com/wp-content/uploads/2024/05/Screenshot-2024-05-09-at-12.21.48 PM.png
ORGANIZER;CN="Nature's Remedy Cannabis":MAILTO:contact@nrcemails.com
END:VEVENT
END:VCALENDAR