BEGIN:VCALENDAR
VERSION:2.0
PRODID:-//Nature&#039;s Remedy Cannabis - ECPv6.15.20//NONSGML v1.0//EN
CALSCALE:GREGORIAN
METHOD:PUBLISH
X-ORIGINAL-URL:https://www.naturesremedycannabis.com
X-WR-CALDESC:Events for Nature&#039;s Remedy Cannabis
REFRESH-INTERVAL;VALUE=DURATION:PT1H
X-Robots-Tag:noindex
X-PUBLISHED-TTL:PT1H
BEGIN:VTIMEZONE
TZID:America/Detroit
BEGIN:DAYLIGHT
TZOFFSETFROM:-0500
TZOFFSETTO:-0400
TZNAME:EDT
DTSTART:20230312T070000
END:DAYLIGHT
BEGIN:STANDARD
TZOFFSETFROM:-0400
TZOFFSETTO:-0500
TZNAME:EST
DTSTART:20231105T060000
END:STANDARD
BEGIN:DAYLIGHT
TZOFFSETFROM:-0500
TZOFFSETTO:-0400
TZNAME:EDT
DTSTART:20240310T070000
END:DAYLIGHT
BEGIN:STANDARD
TZOFFSETFROM:-0400
TZOFFSETTO:-0500
TZNAME:EST
DTSTART:20241103T060000
END:STANDARD
BEGIN:DAYLIGHT
TZOFFSETFROM:-0500
TZOFFSETTO:-0400
TZNAME:EDT
DTSTART:20250309T070000
END:DAYLIGHT
BEGIN:STANDARD
TZOFFSETFROM:-0400
TZOFFSETTO:-0500
TZNAME:EST
DTSTART:20251102T060000
END:STANDARD
END:VTIMEZONE
BEGIN:VEVENT
DTSTART;TZID=America/Detroit:20240906T100000
DTEND;TZID=America/Detroit:20240906T130000
DTSTAMP:20260421T173339
CREATED:20240902T171036Z
LAST-MODIFIED:20240902T171710Z
UID:10000071-1725616800-1725627600@www.naturesremedycannabis.com
SUMMARY:Fresh Coast Vendor Day B2G1
DESCRIPTION:Fresh Coast will physically be at our location for a vendor day. They will have swag\, accessories\, education and much more! They will be running buy 2\, get one FREE on all their products.  \n  \n  \nShop Fresh Coast Products Below – Or Shop All
URL:https://www.naturesremedycannabis.com/event/fresh-coast-vendor-day-b2g1/
LOCATION:Nature’s Remedy Cannabis\, 925 E Drayton St\, Ferndale\, MI\, 48220\, United States
CATEGORIES:Vendor Days
ATTACH;FMTTYPE=image/jpeg:https://www.naturesremedycannabis.com/wp-content/uploads/2024/09/DO-NOT-TOUCH-WEEDMAPS-DEAL-PAGE-TEMPLATE-2-scaled.jpg
ORGANIZER;CN="Nature's Remedy Cannabis":MAILTO:contact@nrcemails.com
END:VEVENT
BEGIN:VEVENT
DTSTART;TZID=America/Detroit:20240907T093000
DTEND;TZID=America/Detroit:20240907T103000
DTSTAMP:20260421T173339
CREATED:20240902T172451Z
LAST-MODIFIED:20240902T172735Z
UID:10000072-1725701400-1725705000@www.naturesremedycannabis.com
SUMMARY:Fattys Vendor Day
DESCRIPTION:Fattys will physically be at our location for a vendor day. They will have swag\, accessories\, education and much more! They will be running some type of deal on their products however it is TBD. Stop in to find out the deal for this vendor day! \n  \nShop Fattys Products Now
URL:https://www.naturesremedycannabis.com/event/fattys-vendor-day/
LOCATION:Nature’s Remedy Cannabis\, 925 E Drayton St\, Ferndale\, MI\, 48220\, United States
CATEGORIES:Vendor Days
ATTACH;FMTTYPE=image/jpeg:https://www.naturesremedycannabis.com/wp-content/uploads/2024/09/DO-NOT-TOUCH-WEEDMAPS-DEAL-PAGE-TEMPLATE-3-scaled.jpg
ORGANIZER;CN="Nature's Remedy Cannabis":MAILTO:contact@nrcemails.com
END:VEVENT
BEGIN:VEVENT
DTSTART;TZID=America/Detroit:20240911T120000
DTEND;TZID=America/Detroit:20240911T130000
DTSTAMP:20260421T173339
CREATED:20240902T173019Z
LAST-MODIFIED:20240902T173019Z
UID:10000073-1726056000-1726059600@www.naturesremedycannabis.com
SUMMARY:STIIIZY Vendor Day BOGO
DESCRIPTION:STIIIZY will physically be at our location for a vendor day. They will have swag\, accessories\, education and much more! They will be running Buy one\, get one free on all their products besides the batteries.  \n  \nShop STIIIZY Products Below – Or Shop All
URL:https://www.naturesremedycannabis.com/event/stiiizy-vendor-day-bogo-2/
LOCATION:Nature’s Remedy Cannabis\, 925 E Drayton St\, Ferndale\, MI\, 48220\, United States
ATTACH;FMTTYPE=image/jpeg:https://www.naturesremedycannabis.com/wp-content/uploads/2024/09/DO-NOT-TOUCH-WEEDMAPS-DEAL-PAGE-TEMPLATE-4-scaled.jpg
ORGANIZER;CN="Nature's Remedy Cannabis":MAILTO:contact@nrcemails.com
END:VEVENT
BEGIN:VEVENT
DTSTART;TZID=America/Detroit:20240913T120000
DTEND;TZID=America/Detroit:20240913T140000
DTSTAMP:20260421T173339
CREATED:20240902T173850Z
LAST-MODIFIED:20240902T173850Z
UID:10000075-1726228800-1726236000@www.naturesremedycannabis.com
SUMMARY:Wyld / Good Tyde Vendor Day BOGO
DESCRIPTION:Wyld / Good Tyde will physically be at our location for a vendor day. They will have swag\, accessories\, education and much more! They will be running Buy one\, get one free on all their products all day.   \n  \nShop Wyld / Good Tyde Products Below – Or Shop All
URL:https://www.naturesremedycannabis.com/event/wyld-good-tyde-vendor-day-bogo/
LOCATION:Nature’s Remedy Cannabis\, 925 E Drayton St\, Ferndale\, MI\, 48220\, United States
CATEGORIES:Vendor Days
ATTACH;FMTTYPE=image/jpeg:https://www.naturesremedycannabis.com/wp-content/uploads/2024/09/DO-NOT-TOUCH-WEEDMAPS-DEAL-PAGE-TEMPLATE-6-scaled.jpg
ORGANIZER;CN="Nature's Remedy Cannabis":MAILTO:contact@nrcemails.com
END:VEVENT
BEGIN:VEVENT
DTSTART;TZID=America/Detroit:20240913T120000
DTEND;TZID=America/Detroit:20240913T150000
DTSTAMP:20260421T173339
CREATED:20240902T173434Z
LAST-MODIFIED:20240902T173434Z
UID:10000074-1726228800-1726239600@www.naturesremedycannabis.com
SUMMARY:Light Sky Farms Vendor Day BOGO
DESCRIPTION:Light Sky Farms will physically be at our location for a vendor day. They will have swag\, accessories\, education and much more! They will be running Buy one\, get one free on all their products all day.   \n  \nShop Light Sky Farms Products Below – Or Shop All
URL:https://www.naturesremedycannabis.com/event/light-sky-farms-vendor-day-bogo/
LOCATION:Nature’s Remedy Cannabis\, 925 E Drayton St\, Ferndale\, MI\, 48220\, United States
CATEGORIES:Vendor Days
ATTACH;FMTTYPE=image/jpeg:https://www.naturesremedycannabis.com/wp-content/uploads/2024/09/DO-NOT-TOUCH-WEEDMAPS-DEAL-PAGE-TEMPLATE-5-scaled.jpg
ORGANIZER;CN="Nature's Remedy Cannabis":MAILTO:contact@nrcemails.com
END:VEVENT
BEGIN:VEVENT
DTSTART;TZID=America/Detroit:20240913T153000
DTEND;TZID=America/Detroit:20240913T183000
DTSTAMP:20260421T173339
CREATED:20240902T174505Z
LAST-MODIFIED:20240902T174505Z
UID:10000076-1726241400-1726252200@www.naturesremedycannabis.com
SUMMARY:Vapin Ape Vendor Day B2G1
DESCRIPTION:Vapin Ape will physically be at our location for a vendor day. They will have swag\, accessories\, education and much more! They will be running Buy 2\, get one free on all their products all day.   \n  \nShop Vapin Ape Products Below – Or Shop All
URL:https://www.naturesremedycannabis.com/event/vapin-ape-vendor-day-b2g1/
LOCATION:Nature’s Remedy Cannabis\, 925 E Drayton St\, Ferndale\, MI\, 48220\, United States
CATEGORIES:Vendor Days
ATTACH;FMTTYPE=image/jpeg:https://www.naturesremedycannabis.com/wp-content/uploads/2024/09/DO-NOT-TOUCH-WEEDMAPS-DEAL-PAGE-TEMPLATE-7-scaled.jpg
ORGANIZER;CN="Nature's Remedy Cannabis":MAILTO:contact@nrcemails.com
END:VEVENT
BEGIN:VEVENT
DTSTART;TZID=America/Detroit:20240914T150000
DTEND;TZID=America/Detroit:20240914T170000
DTSTAMP:20260421T173339
CREATED:20240906T214732Z
LAST-MODIFIED:20240906T214803Z
UID:10000077-1726326000-1726333200@www.naturesremedycannabis.com
SUMMARY:Light Sky Farms Vendor Day BOGO
DESCRIPTION:Light Sky Farms will physically be at our location for a vendor day. They will have swag\, accessories\, education and much more! They will be running Buy 1\, get one free on all their products all day.   \n  \nShop Light Sky Farms Products Below – Or Shop All
URL:https://www.naturesremedycannabis.com/event/light-sky-farms-vendor-day-bogo-2/
LOCATION:Nature’s Remedy Cannabis\, 925 E Drayton St\, Ferndale\, MI\, 48220\, United States
CATEGORIES:Vendor Days
ATTACH;FMTTYPE=image/jpeg:https://www.naturesremedycannabis.com/wp-content/uploads/2024/09/DO-NOT-TOUCH-WEEDMAPS-DEAL-PAGE-TEMPLATE-8-scaled.jpg
ORGANIZER;CN="Nature's Remedy Cannabis":MAILTO:contact@nrcemails.com
END:VEVENT
BEGIN:VEVENT
DTSTART;TZID=America/Detroit:20240914T150000
DTEND;TZID=America/Detroit:20240914T170000
DTSTAMP:20260421T173339
CREATED:20240906T220047Z
LAST-MODIFIED:20240906T220405Z
UID:10000078-1726326000-1726333200@www.naturesremedycannabis.com
SUMMARY:30% OFF H.L.F (Kiva\, Terra\, Petra Camino\, Wana) Vendor Day Deal
DESCRIPTION:High Life Farms (Kiva\, Terra\, Petra Camino\, Wana) will physically be at our location for a vendor day. They will have swag\, accessories\, education and much more! They will be running 30% off on all their products all day.   \n  \nShop Kiva Products Below – Or Shop All \n \n  \nShop Wana Products Below – Or Shop All \n \n  \nShop Camino Products Below – Or Shop All \n \n  \n  \n  \n 
URL:https://www.naturesremedycannabis.com/event/30-off-h-l-f-kiva-terra-petra-camino-wana-vendor-day-deal/
LOCATION:Nature’s Remedy Cannabis\, 925 E Drayton St\, Ferndale\, MI\, 48220\, United States
CATEGORIES:Vendor Days
ATTACH;FMTTYPE=image/jpeg:https://www.naturesremedycannabis.com/wp-content/uploads/2024/09/DO-NOT-TOUCH-WEEDMAPS-DEAL-PAGE-TEMPLATE-9-scaled.jpg
ORGANIZER;CN="Nature's Remedy Cannabis":MAILTO:contact@nrcemails.com
END:VEVENT
BEGIN:VEVENT
DTSTART;TZID=America/Detroit:20240917T113000
DTEND;TZID=America/Detroit:20240917T143000
DTSTAMP:20260421T173339
CREATED:20240906T223220Z
LAST-MODIFIED:20240906T223220Z
UID:10000079-1726572600-1726583400@www.naturesremedycannabis.com
SUMMARY:Cousins Main Lobster Food Truck
DESCRIPTION:Cousins Main Lobster Food Truck will be at our location offering fresh food for purchase. Please see a sample menu below\, please note these items can change at any time. \n  \n\n\n\nRolls\n\n\n\nMaine\n$23.00\nMaine lobster\, served chilled\, touch of mayo\, on a New England Roll \n\n\n\nConnecticut\n$23.00\nMaine lobster\, served warm with butter and lemon\, on a New England roll \n\n\n\nCrab\n$19.00\nNorth Atlantic crab\, served ME or CT-style\, on a New England roll \n\n\n\n\nMake it a Combo\n\n\n\nCombo #1\n$4.00\n+ Chips & drink \n\n\n\nCombo #2\n$5.00\n+ Tots & drink \n\n\n\nCombo #3\n$5.00\n+ Whoopie pie & drink \n\n\n\n\nSpecialties\n\n\n\nLobster Grilled Cheese\n$17.00\nMaine lobster\, pepper jack & cheddar cheeses\, on Texas style toast \n\n\n\nLobster Tots\n$19.00\nTater tots served with warmed Maine lobster\, cilantro lime sauce\, pico de gallo \n\n\n\nLobster Tacos (3)\n$21.00\n\nGF SWAP FLOUR FOR CORN\n\nMaine lobster\, served with cabbage\, pico de gallo\, cilantro lime sauce\, on flour tortillas \n\n\n\nShrimp Tacos (3)\n$15.00\n\nGF SWAP FLOUR FOR CORN\n\nNorth Atlantic shrimp\, served with cabbage\, pico de gallo\, cilantro lime sauce\, on flour tortillas \n\n\n\nLobster Tail & Tots\n$22.00\nMaine’s ultimate luxury\, 4-5oz lobster tail in shell\, served with drawn butter and a side of tater tots \n\n\n\nLobster Quesadilla\n$19.00\nMaine lobster\, shredded cheese\, pico de gallo\, cilantro lime sauce\, on a flour tortilla \n\n\n\n\n\n\n\n\nBisque/Chowder\nAdd a cup to any entrée for $6! \n\n\n\nLobster Bisque\nCUP/BOWL $7.00/$9.00 \n\nGF\n\n\nMaine lobster in a roux-thickened stock\, complemented with Spanish sherry\, a light cream\, and a dash of white pepper \n\n\n\nNew England Clam Chowder\nCUP/BOWL $7.00/$9.00 \n\nGF\n\n\nHand-shucked Maine clams in a rich\, roux-thickened fish stock\, with tempered light cream\, rendered salt pork\, sautéed onions\, and tender potatoes \n\n\n\n\nKids Meal\n\n\n\nGrilled Cheese or Cheese Quesadilla\n$9.00\nServed with tots \n\n\n\n\nExtras\n\n\n\nTots\n$4.00\n\n\n\nCape Cod Chips\n$3.00\n\n\n\nExtra Meat\n$7.00\n\n\n\nWhoopie Pie\n$4.00\n\n\n\nMaine Root Soda\n$4.00\n\n\n\nCanned Soda\n$2.00\n\n\n\nBottled Water\n$2.00\n\n\n\n\nTake Home\n\n\n\nThe At-Home Lobster Roll Kit (1LB)\n$115.00\n1lb Maine lobster meat\, 6 New England split top rolls\, butter\, mayo\, and lemons. Everything you need to make our famous lobster rolls at home! \n\n\n\nThe At-Home Lobster Roll Kit (2LB)\n$225.00\n2lb Maine lobster meat\, 12 New England split top rolls\, butter\, mayo\, and lemons. Everything you need to make our famous lobster rolls at home! \n\n\n\n\n  \n\n\nGF GLUTEN FREE\n\nPrices and menu are subject to change and may vary by event and location
URL:https://www.naturesremedycannabis.com/event/cousins-main-lobster-food-truck/
LOCATION:Nature’s Remedy Cannabis\, 925 E Drayton St\, Ferndale\, MI\, 48220\, United States
CATEGORIES:Food Truck
ATTACH;FMTTYPE=image/jpeg:https://www.naturesremedycannabis.com/wp-content/uploads/2024/09/DO-NOT-TOUCH-WEEDMAPS-DEAL-PAGE-TEMPLATE-11-scaled.jpg
ORGANIZER;CN="Nature's Remedy Cannabis":MAILTO:contact@nrcemails.com
END:VEVENT
BEGIN:VEVENT
DTSTART;TZID=America/Detroit:20240928T120000
DTEND;TZID=America/Detroit:20240928T150000
DTSTAMP:20260421T173339
CREATED:20240907T173952Z
LAST-MODIFIED:20240907T173952Z
UID:10000084-1727524800-1727535600@www.naturesremedycannabis.com
SUMMARY:Sauce Vendor Day 2 for $50
DESCRIPTION:Sauce will physically be at our location for a vendor day. They will have swag\, accessories\, education and much more! They will be running Buy 2\, get one free on all their products all day.   \n  \nShop Sauce Products Below – Or Shop All
URL:https://www.naturesremedycannabis.com/event/sauce-vendor-day-2-for-50-2/
LOCATION:Nature’s Remedy Cannabis\, 925 E Drayton St\, Ferndale\, MI\, 48220\, United States
CATEGORIES:Vendor Days
ATTACH;FMTTYPE=image/jpeg:https://www.naturesremedycannabis.com/wp-content/uploads/2024/09/DO-NOT-TOUCH-WEEDMAPS-DEAL-PAGE-TEMPLATE-16-scaled.jpg
ORGANIZER;CN="Nature's Remedy Cannabis":MAILTO:contact@nrcemails.com
END:VEVENT
BEGIN:VEVENT
DTSTART;TZID=America/Detroit:20240928T150000
DTEND;TZID=America/Detroit:20240928T170000
DTSTAMP:20260421T173339
CREATED:20240907T175212Z
LAST-MODIFIED:20240907T175624Z
UID:10000085-1727535600-1727542800@www.naturesremedycannabis.com
SUMMARY:WoJo Vendor Day
DESCRIPTION:WoJo will physically be at our location for a vendor day. They will have swag\, accessories\, education and much more! They will be running Buy 2\, get one free on all their products all day.   \n  \nShop WoJo Products Below – Or Shop All
URL:https://www.naturesremedycannabis.com/event/wojo-vendor-day/
LOCATION:Nature’s Remedy Cannabis\, 925 E Drayton St\, Ferndale\, MI\, 48220\, United States
CATEGORIES:Vendor Days
ATTACH;FMTTYPE=image/jpeg:https://www.naturesremedycannabis.com/wp-content/uploads/2024/09/DO-NOT-TOUCH-WEEDMAPS-DEAL-PAGE-TEMPLATE-17-scaled.jpg
ORGANIZER;CN="Nature's Remedy Cannabis":MAILTO:contact@nrcemails.com
END:VEVENT
END:VCALENDAR