BEGIN:VCALENDAR
VERSION:2.0
PRODID:-//Nature&#039;s Remedy Cannabis - ECPv6.15.20//NONSGML v1.0//EN
CALSCALE:GREGORIAN
METHOD:PUBLISH
X-ORIGINAL-URL:https://www.naturesremedycannabis.com
X-WR-CALDESC:Events for Nature&#039;s Remedy Cannabis
REFRESH-INTERVAL;VALUE=DURATION:PT1H
X-Robots-Tag:noindex
X-PUBLISHED-TTL:PT1H
BEGIN:VTIMEZONE
TZID:America/Detroit
BEGIN:DAYLIGHT
TZOFFSETFROM:-0500
TZOFFSETTO:-0400
TZNAME:EDT
DTSTART:20230312T070000
END:DAYLIGHT
BEGIN:STANDARD
TZOFFSETFROM:-0400
TZOFFSETTO:-0500
TZNAME:EST
DTSTART:20231105T060000
END:STANDARD
BEGIN:DAYLIGHT
TZOFFSETFROM:-0500
TZOFFSETTO:-0400
TZNAME:EDT
DTSTART:20240310T070000
END:DAYLIGHT
BEGIN:STANDARD
TZOFFSETFROM:-0400
TZOFFSETTO:-0500
TZNAME:EST
DTSTART:20241103T060000
END:STANDARD
BEGIN:DAYLIGHT
TZOFFSETFROM:-0500
TZOFFSETTO:-0400
TZNAME:EDT
DTSTART:20250309T070000
END:DAYLIGHT
BEGIN:STANDARD
TZOFFSETFROM:-0400
TZOFFSETTO:-0500
TZNAME:EST
DTSTART:20251102T060000
END:STANDARD
END:VTIMEZONE
BEGIN:VEVENT
DTSTART;TZID=America/Detroit:20241127T090000
DTEND;TZID=America/Detroit:20241201T210000
DTSTAMP:20260421T125525
CREATED:20241102T163050Z
LAST-MODIFIED:20241102T163050Z
UID:10000090-1732698000-1733086800@www.naturesremedycannabis.com
SUMMARY:Black Friday Sales Event at Nature's Remedy Cannabis
DESCRIPTION:Get ready for our biggest sale of the year! Nature’s Remedy Cannabis is kicking off Black Friday with over 100 incredible deals and a 30% blowout discount on select items. From Wednesday\, November 27th through Sunday\, December 1st\, stock up on your favorite products with exclusive savings throughout the week. \nSpecial Online Gift Card Promo: Buy a $100 e-gift card and get a $20 bonus e-gift card! This deal runs from November 27th through November 30th and is the perfect gift for friends\, family\, or even yourself to enjoy the holiday season. \nWhen:\nBlack Friday Event: November 29th – December 1st\nExtended Deals: November 27th – December 1st\nGift Card Promo: November 27th – November 30th \nWhere:\nNature’s Remedy Cannabis\nFerndale\, Michigan & Online \nDetails: \n\nOver 100 exclusive Black Friday deals\n30% off blowout discount on select items\nBuy a $100 e-gift card\, receive a $20 bonus e-gift card (online only)\nMost deals begin early on Wednesday\, November 27th\n\nDon’t miss the cannabis event of the season! Visit us in-store or online to take advantage of these unbeatable savings.
URL:https://www.naturesremedycannabis.com/event/black-friday-sales-event-at-natures-remedy-cannabis/
LOCATION:Nature’s Remedy Cannabis\, 925 E Drayton St\, Ferndale\, MI\, 48220\, United States
CATEGORIES:Promo Event
ATTACH;FMTTYPE=image/jpeg:https://www.naturesremedycannabis.com/wp-content/uploads/2024/11/NRC-EMAIL-BANNER-11.jpg
ORGANIZER;CN="Nature's Remedy Cannabis":MAILTO:contact@nrcemails.com
END:VEVENT
BEGIN:VEVENT
DTSTART;TZID=America/Detroit:20241201T090000
DTEND;TZID=America/Detroit:20241225T210000
DTSTAMP:20260421T125525
CREATED:20241205T195216Z
LAST-MODIFIED:20241205T200214Z
UID:10000097-1733043600-1735160400@www.naturesremedycannabis.com
SUMMARY:🎄 25 Days of Christmas Cannabis Deals at Nature’s Remedy Cannabis! 🎄
DESCRIPTION:🎄 25 Days of Christmas Cannabis Deals at Nature’s Remedy Cannabis! 🎄 \nThis holiday season\, Nature’s Remedy Cannabis in Ferndale\, MI\, is spreading cheer with 25 days of incredible deals from December 1st through December 25th! Each day brings something special\, with amazing savings and gifts to make your holidays merry and bright. \n✨ Daily Deals: ✨\n12/1-12/25: 5G for $25 – All Vanilla Sunshine\n12/2-12/25: 5G for $25 – All Flos\n12/3-12/25: 5G for $25 – All Elysium\n12/4-12/25: FREE Voyage Bloom Preroll w/ VB PP 8th\n12/5-12/25: FREE Giving Tree Preroll w/ Giving Tree Bulk 8th\n12/6-12/25: FREE NRC Preroll with any $30 purchase\n12/7-12/25: 2 for $45 Sauce AIO Vapes\n12/8-12/25: 20% OFF All Moonrock Infused Flower\n12/9-12/25: 20% OFF All Glorious\n12/10-12/25: 20% OFF All Roses\n12/11-12/25: 20% OFF All Fire Styx\n12/12-12/25: $120/OZ All Flos\n12/13-12/25: BOGO All Wyld Gummies\n12/14-12/25: 30% OFF Camino\n12/15-12/25: 30% OFF Wana\n12/16-12/25: FREE Peninsula Preroll w/ PG Rosin at Full Price\n12/17-12/25: 5 for $20 – 200mg TrapSnax\n12/18-12/25: BOGO All Dixie Gummies\n12/19-12/25: BOGO All Good Tide Gummies\n12/20-12/25: BOGO All Mary’s Medicinals Patches\n12/21-12/25: 20% OFF All Mary’s Medicinals Topicals\n12/22-12/25: 20% OFF Mushroom Tinctures\, Powders & Beverages\n12/23-12/25: Buy 2\, Get 1 FREE – All Peninsula PP 8ths\n12/24-12/25: 25% OFF 710 Labs Persy Products\n12/25: FREE 4g LSF 8th Jar w/ Any $20 Purchase \n🎁 Don’t miss these festive deals—stop by Nature’s Remedy Cannabis to stock up\, save big\, and celebrate the season in style! \n📍 Location: Nature’s Remedy Cannabis\, Ferndale\, MI\n📅 Dates: December 1st – December 25th\n⏰ Hours: 9am-9pm \n🎄 Happy Holidays from your friends at Nature’s Remedy Cannabis! 🎄
URL:https://www.naturesremedycannabis.com/event/%f0%9f%8e%84-25-days-of-christmas-cannabis-deals-at-natures-remedy-cannabis-%f0%9f%8e%84/
LOCATION:Nature’s Remedy Cannabis\, 925 E Drayton St\, Ferndale\, MI\, 48220\, United States
CATEGORIES:Promo Event
ATTACH;FMTTYPE=image/jpeg:https://www.naturesremedycannabis.com/wp-content/uploads/2024/12/19.jpg
ORGANIZER;CN="Nature's Remedy Cannabis":MAILTO:contact@nrcemails.com
END:VEVENT
BEGIN:VEVENT
DTSTART;TZID=America/Detroit:20241201T090000
DTEND;TZID=America/Detroit:20241231T210000
DTSTAMP:20260421T125525
CREATED:20241102T165218Z
LAST-MODIFIED:20241102T165218Z
UID:10000092-1733043600-1735678800@www.naturesremedycannabis.com
SUMMARY:Holiday Season Cannabis Extravaganza at Nature's Remedy Cannabis
DESCRIPTION:Celebrate the holiday season with Nature’s Remedy Cannabis and take advantage of our festive lineup of deals\, giveaways\, and promotions all month long! We’re bringing you 25 days of savings\, raffle prizes\, and rewards\, culminating in incredible year-end deals to ring in the New Year. \nPromotions:\n\n25 Days of Christmas (12/1 – 12/25): A new deal every day! Check back daily to see what exclusive offer is available.\nHoliday Raffle (12/3 – 12/23): Enter our $1000 holiday raffle! Get 1 ticket for every $150 spent or buy tickets for $20 each in-store only.\nChristmas Eve (12/24): The first 100 customers who spend $150+ (pre-tax) receive a goodie bag valued at over $200!\nChristmas Day (12/25): Celebrate with double rewards! Spend $200+ to earn double points\, or $400+ to earn triple points.\nOnline Gift Card Promo (12/24 – 12/31): Buy an $85 e-gift card and receive a $15 bonus e-gift card—perfect for gifting or stocking up!\nYear-End Blowout (12/26 – 12/31): Enjoy 30% off select items to wrap up the year with major savings.\nNew Year Bonus (12/26 – 12/31): Spend $250 or more during this time and receive a $20 coupon for January (one per person).\n\nWhen:\nDecember 1st – December 31st \nWhere:\nNature’s Remedy Cannabis in-store & online \nDetails: \n\nDaily deals from December 1st through December 25th\nIn-store holiday raffle with tickets based on purchases\nExclusive gift card promos\, discounts\, and bonus point opportunities\nYear-end blowout sale and January coupon offer\n\nCelebrate\, save\, and treat yourself this holiday season at Nature’s Remedy Cannabis. Happy holidays from our family to yours!
URL:https://www.naturesremedycannabis.com/event/holiday-season-cannabis-extravaganza-at-natures-remedy-cannabis/
LOCATION:Nature’s Remedy Cannabis\, 925 E Drayton St\, Ferndale\, MI\, 48220\, United States
CATEGORIES:Promo Event
ATTACH;FMTTYPE=image/jpeg:https://www.naturesremedycannabis.com/wp-content/uploads/2024/11/NRC-EMAIL-BANNER-14.jpg
ORGANIZER;CN="Nature's Remedy Cannabis":MAILTO:contact@nrcemails.com
END:VEVENT
BEGIN:VEVENT
DTSTART;TZID=America/Detroit:20241202T090000
DTEND;TZID=America/Detroit:20241202T210000
DTSTAMP:20260421T125525
CREATED:20241102T163817Z
LAST-MODIFIED:20241102T163902Z
UID:10000091-1733130000-1733173200@www.naturesremedycannabis.com
SUMMARY:Cyber Monday Online Cannabis Sale at Nature's Remedy Cannabis
DESCRIPTION:This Cyber Monday\, shop Nature’s Remedy Cannabis from anywhere and enjoy unbeatable savings! On Monday\, December 2nd\, get 15% off all online orders and receive up to 4 free items with qualifying purchases. This promotion applies to all online orders\, including in-store pickup\, curbside pickup\, and delivery—making it easier than ever to get what you need. \nFree Item Tiers: \n\nSpend $100+ — Receive 1 free item\nSpend $250+ — Receive 2 free items\nSpend $400+ — Receive 3 free items\nSpend $550+ — Receive 4 free items\n\nWhen:\nCyber Monday – December 2nd\, all day \nWhere:\nOnline at Nature’s Remedy Cannabis\, with options for in-store pickup\, curbside pickup\, and delivery \nDetails: \n\n15% off all online orders\nUp to 4 free items based on order value\nMust be 21+ to participate\n\nShop our best online deals of the year and choose the pickup or delivery option that’s right for you! Don’t miss out on exclusive discounts and free items with Nature’s Remedy Cannabis this Cyber Monday.
URL:https://www.naturesremedycannabis.com/event/cyber-monday-online-cannabis-sale-at-natures-remedy-cannabis/
LOCATION:Nature’s Remedy Cannabis\, 925 E Drayton St\, Ferndale\, MI\, 48220\, United States
CATEGORIES:Promo Event
ATTACH;FMTTYPE=image/jpeg:https://www.naturesremedycannabis.com/wp-content/uploads/2024/11/NRC-EMAIL-BANNER-12.jpg
ORGANIZER;CN="Nature's Remedy Cannabis":MAILTO:contact@nrcemails.com
END:VEVENT
BEGIN:VEVENT
DTSTART;TZID=America/Detroit:20241203T080000
DTEND;TZID=America/Detroit:20241225T170000
DTSTAMP:20260421T125525
CREATED:20241205T194531Z
LAST-MODIFIED:20241205T200158Z
UID:10000095-1733212800-1735146000@www.naturesremedycannabis.com
SUMMARY:🎄 $1000 Cannabis Christmas Raffle 🎄
DESCRIPTION:Dates: December 3rd – December 25th\nLocation: In-store only \n🌟 Grand Prize: $1000 in cannabis\, accessories\, mushroom products\, and more! 🌟 \nCelebrate the holiday season with Nature’s Remedy! From December 3rd to December 25th\, every $150 you spend earns you 1 entry into our exclusive Christmas 2024 Raffle. There’s no limit to how many entries you can earn! \nWant even more chances to win?\n🎟️ Additional tickets are available for purchase at just $20 each. Look for the item: “Christmas 2024 Raffle Ticket” in the system to buy yours. \nHow to Enter: \n\nEarn tickets through purchases or buy extras.\nFill out your name and phone number on your ticket.\nPlace it in the gold raffle tumbler behind the register.\n\nWe’ll draw the lucky winner on December 25th! Don’t miss your chance to take home this incredible holiday prize. \nRules: \n\nTickets are non-discountable.\nPlease ensure you fill out your ticket before placing it in the tumbler.\nThe duplicate copy of the ticket will not be retained.\n\nGood luck\, and happy holidays from Nature’s Remedy Cannabis!
URL:https://www.naturesremedycannabis.com/event/%f0%9f%8e%84-1000-cannabis-christmas-raffle-%f0%9f%8e%84/
LOCATION:Nature’s Remedy Cannabis\, 925 E Drayton St\, Ferndale\, MI\, 48220\, United States
CATEGORIES:Promo Event
ATTACH;FMTTYPE=image/jpeg:https://www.naturesremedycannabis.com/wp-content/uploads/2024/12/WEBSTE-HERO-SLIDER-1-scaled.jpg
ORGANIZER;CN="Nature's Remedy Cannabis":MAILTO:contact@nrcemails.com
END:VEVENT
BEGIN:VEVENT
DTSTART;TZID=America/Detroit:20241224T090000
DTEND;TZID=America/Detroit:20241224T210000
DTSTAMP:20260421T125525
CREATED:20241205T200051Z
LAST-MODIFIED:20241205T200051Z
UID:10000099-1735030800-1735074000@www.naturesremedycannabis.com
SUMMARY:🎄 Exclusive Holiday Cheer for the First 100 Customers! 🎄
DESCRIPTION:🎄 Exclusive Holiday Cheer for the First 100 Customers! 🎄 \nThis Christmas Eve\, Nature’s Remedy Cannabis in Ferndale\, MI\, is spreading the holiday spirit with an incredible Goodie Bag Giveaway! \n✨ Here’s the deal: \n\nBe one of the first 100 customers to spend $150 or more (before tax and after discounts).\nReceive a FREE Goodie Bag valued at $250+!\n\nPacked with premium cannabis products and holiday treats\, this exclusive goodie bag is our way of saying thank you for making Nature’s Remedy your trusted dispensary. \n🛒 Hurry – supplies are limited to the first 100 customers! \n📍 Location: Nature’s Remedy Cannabis\, Ferndale\, MI\n📅 Date: Christmas Eve – December 24th\n⏰ Hours: 9am-9pm \n🎁 Don’t miss this chance to grab a holiday gift from us to you—while supplies last! Happy Holidays from Nature’s Remedy Cannabis! 🎁
URL:https://www.naturesremedycannabis.com/event/%f0%9f%8e%84-exclusive-holiday-cheer-for-the-first-100-customers-%f0%9f%8e%84/
LOCATION:Nature’s Remedy Cannabis\, 925 E Drayton St\, Ferndale\, MI\, 48220\, United States
CATEGORIES:Promo Event
ATTACH;FMTTYPE=image/jpeg:https://www.naturesremedycannabis.com/wp-content/uploads/2024/12/18.jpg
ORGANIZER;CN="Nature's Remedy Cannabis":MAILTO:contact@nrcemails.com
END:VEVENT
BEGIN:VEVENT
DTSTART;TZID=America/Detroit:20241224T113000
DTEND;TZID=America/Detroit:20241224T143000
DTSTAMP:20260421T125525
CREATED:20240906T230732Z
LAST-MODIFIED:20240906T230732Z
UID:10000083-1735039800-1735050600@www.naturesremedycannabis.com
SUMMARY:Cousins Main Lobster Food Truck
DESCRIPTION:Cousins Main Lobster Food Truck will be at our location offering fresh food for purchase. Please see a sample menu below\, please note these items can change at any time. \n  \n\n\n\nRolls\n\n\n\nMaine\n$23.00 \n\nMaine lobster\, served chilled\, touch of mayo\, on a New England Roll \n\n\n\nConnecticut\n$23.00 \n\nMaine lobster\, served warm with butter and lemon\, on a New England roll \n\n\n\nCrab\n$19.00 \n\nNorth Atlantic crab\, served ME or CT-style\, on a New England roll \n\n\n\n\nMake it a Combo\n\n\n\nCombo #1\n$4.00 \n\n+ Chips & drink \n\n\n\nCombo #2\n$5.00 \n\n+ Tots & drink \n\n\n\nCombo #3\n$5.00 \n\n+ Whoopie pie & drink \n\n\n\n\nSpecialties\n\n\n\nLobster Grilled Cheese\n$17.00 \n\nMaine lobster\, pepper jack & cheddar cheeses\, on Texas style toast \n\n\n\nLobster Tots\n$19.00 \n\nTater tots served with warmed Maine lobster\, cilantro lime sauce\, pico de gallo \n\n\n\nLobster Tacos (3)\n$21.00 \n\n\nGF SWAP FLOUR FOR CORN\n\nMaine lobster\, served with cabbage\, pico de gallo\, cilantro lime sauce\, on flour tortillas \n\n\n\nShrimp Tacos (3)\n$15.00 \n\n\nGF SWAP FLOUR FOR CORN\n\nNorth Atlantic shrimp\, served with cabbage\, pico de gallo\, cilantro lime sauce\, on flour tortillas \n\n\n\nLobster Tail & Tots\n$22.00 \n\nMaine’s ultimate luxury\, 4-5oz lobster tail in shell\, served with drawn butter and a side of tater tots \n\n\n\nLobster Quesadilla\n$19.00 \n\nMaine lobster\, shredded cheese\, pico de gallo\, cilantro lime sauce\, on a flour tortilla \n\n\n\n\n\n\n\n\nBisque/Chowder\nAdd a cup to any entrée for $6! \n\n\n\nLobster Bisque\nCUP/BOWL $7.00/$9.00 \n\nGF\n\n\nMaine lobster in a roux-thickened stock\, complemented with Spanish sherry\, a light cream\, and a dash of white pepper \n\n\n\nNew England Clam Chowder\nCUP/BOWL $7.00/$9.00 \n\nGF\n\n\nHand-shucked Maine clams in a rich\, roux-thickened fish stock\, with tempered light cream\, rendered salt pork\, sautéed onions\, and tender potatoes \n\n\n\n\nKids Meal\n\n\n\nGrilled Cheese or Cheese Quesadilla\n$9.00 \n\nServed with tots \n\n\n\n\nExtras\n\n\n\nTots\n$4.00 \n\n\n\n\nCape Cod Chips\n$3.00 \n\n\n\n\nExtra Meat\n$7.00 \n\n\n\n\nWhoopie Pie\n$4.00 \n\n\n\n\nMaine Root Soda\n$4.00 \n\n\n\n\nCanned Soda\n$2.00 \n\n\n\n\nBottled Water\n$2.00 \n\n\n\n\n\nTake Home\n\n\n\nThe At-Home Lobster Roll Kit (1LB)\n$115.00 \n\n1lb Maine lobster meat\, 6 New England split top rolls\, butter\, mayo\, and lemons. Everything you need to make our famous lobster rolls at home! \n\n\n\nThe At-Home Lobster Roll Kit (2LB)\n$225.00 \n\n2lb Maine lobster meat\, 12 New England split top rolls\, butter\, mayo\, and lemons. Everything you need to make our famous lobster rolls at home! \n\n\n\n\n  \n\n\nGF GLUTEN FREE\n\nPrices and menu are subject to change and may vary by event and location
URL:https://www.naturesremedycannabis.com/event/cousins-main-lobster-food-truck-5/
LOCATION:Nature’s Remedy Cannabis\, 925 E Drayton St\, Ferndale\, MI\, 48220\, United States
CATEGORIES:Food Truck
ATTACH;FMTTYPE=image/jpeg:https://www.naturesremedycannabis.com/wp-content/uploads/2024/09/DO-NOT-TOUCH-WEEDMAPS-DEAL-PAGE-TEMPLATE-15-scaled.jpg
ORGANIZER;CN="Nature's Remedy Cannabis":MAILTO:contact@nrcemails.com
END:VEVENT
BEGIN:VEVENT
DTSTART;TZID=America/Detroit:20241225T090000
DTEND;TZID=America/Detroit:20241225T210000
DTSTAMP:20260421T125525
CREATED:20241205T195527Z
LAST-MODIFIED:20241205T200129Z
UID:10000098-1735117200-1735160400@www.naturesremedycannabis.com
SUMMARY:🎄 Celebrate Christmas with Extra Rewards! 🎄
DESCRIPTION:🎄 Celebrate Christmas with Extra Rewards! 🎄 \nThis December 25th\, Nature’s Remedy Cannabis in Ferndale\, MI\, is giving you the gift of bonus points for your holiday purchases! \n✨ Here’s how it works: \n\nSpend $200 or more: Get DOUBLE points on your purchase.\nSpend $400 or more: Get TRIPLE points on your purchase.\n\nWhether you’re treating yourself or shopping for the cannabis lover in your life\, this is the perfect opportunity to earn more while you spend! Use your points later for exclusive discounts and perks. \n📍 Location: Nature’s Remedy Cannabis\, Ferndale\, MI\n📅 Date: Christmas Day – December 25th\n⏰ Hours: 9am-9pm \n🎁 Let Nature’s Remedy Cannabis make your Christmas Day extra rewarding. Happy Holidays from our family to yours! 🎁
URL:https://www.naturesremedycannabis.com/event/%f0%9f%8e%84-celebrate-christmas-with-extra-rewards-%f0%9f%8e%84/
LOCATION:MI
CATEGORIES:Promo Event
ATTACH;FMTTYPE=image/jpeg:https://www.naturesremedycannabis.com/wp-content/uploads/2024/12/20.jpg
END:VEVENT
BEGIN:VEVENT
DTSTART;TZID=America/Detroit:20241226T080000
DTEND;TZID=America/Detroit:20241231T170000
DTSTAMP:20260421T125525
CREATED:20241205T194919Z
LAST-MODIFIED:20241205T195548Z
UID:10000096-1735200000-1735664400@www.naturesremedycannabis.com
SUMMARY:🌿 End-of-Year Blowout Sale – 30% Off Over 400 Items! 🌿
DESCRIPTION:🌿 End-of-Year Blowout Sale – 30% Off Over 400 Items! 🌿 \nAs the year comes to a close\, Nature’s Remedy Cannabis in Ferndale\, MI\, is here to help you ring in the new year with amazing deals! From December 26th through December 31st\, enjoy 30% off a huge selection of over 400 premium cannabis products. \nWhether you’re stocking up on your favorites or trying something new\, this is the perfect opportunity to elevate your experience without breaking the bank. Discover incredible savings on: \n\n🌱 Flower\n🍬 Edibles\n💧 Tinctures\n💨 Vapes\n…and much more!\n\nDon’t miss out—this is our biggest sale of the year\, and it’s only available for 6 days. Swing by Nature’s Remedy Cannabis in Ferndale and let us help you make this holiday season truly unforgettable. \n📍 Location: Nature’s Remedy Cannabis\, Ferndale\, MI\n📅 Dates: December 26th – December 31st\n⏰ Hours: 9am-9pm \n✨ Let Nature’s Remedy be your guide to ending the year on a high note—literally! ✨
URL:https://www.naturesremedycannabis.com/event/%f0%9f%8c%bf-end-of-year-blowout-sale-30-off-over-400-items-%f0%9f%8c%bf/
LOCATION:Nature’s Remedy Cannabis\, 925 E Drayton St\, Ferndale\, MI\, 48220\, United States
CATEGORIES:Promo Event
ATTACH;FMTTYPE=image/jpeg:https://www.naturesremedycannabis.com/wp-content/uploads/2024/12/21.jpg
ORGANIZER;CN="Nature's Remedy Cannabis":MAILTO:contact@nrcemails.com
END:VEVENT
END:VCALENDAR