BEGIN:VCALENDAR
VERSION:2.0
PRODID:-//Nature&#039;s Remedy Cannabis - ECPv6.15.20//NONSGML v1.0//EN
CALSCALE:GREGORIAN
METHOD:PUBLISH
X-WR-CALNAME:Nature&#039;s Remedy Cannabis
X-ORIGINAL-URL:https://www.naturesremedycannabis.com
X-WR-CALDESC:Events for Nature&#039;s Remedy Cannabis
REFRESH-INTERVAL;VALUE=DURATION:PT1H
X-Robots-Tag:noindex
X-PUBLISHED-TTL:PT1H
BEGIN:VTIMEZONE
TZID:America/Detroit
BEGIN:DAYLIGHT
TZOFFSETFROM:-0500
TZOFFSETTO:-0400
TZNAME:EDT
DTSTART:20240310T070000
END:DAYLIGHT
BEGIN:STANDARD
TZOFFSETFROM:-0400
TZOFFSETTO:-0500
TZNAME:EST
DTSTART:20241103T060000
END:STANDARD
BEGIN:DAYLIGHT
TZOFFSETFROM:-0500
TZOFFSETTO:-0400
TZNAME:EDT
DTSTART:20250309T070000
END:DAYLIGHT
BEGIN:STANDARD
TZOFFSETFROM:-0400
TZOFFSETTO:-0500
TZNAME:EST
DTSTART:20251102T060000
END:STANDARD
BEGIN:DAYLIGHT
TZOFFSETFROM:-0500
TZOFFSETTO:-0400
TZNAME:EDT
DTSTART:20260308T070000
END:DAYLIGHT
BEGIN:STANDARD
TZOFFSETFROM:-0400
TZOFFSETTO:-0500
TZNAME:EST
DTSTART:20261101T060000
END:STANDARD
END:VTIMEZONE
BEGIN:VEVENT
DTSTART;TZID=America/Detroit:20250321T090000
DTEND;TZID=America/Detroit:20250321T210000
DTSTAMP:20260421T075255
CREATED:20250319T170323Z
LAST-MODIFIED:20250319T170323Z
UID:10000110-1742547600-1742590800@www.naturesremedycannabis.com
SUMMARY:Peninsula Gardens Vendor Day
DESCRIPTION:🌿🔥 Peninsula Gardens Vendor Day at Nature’s Remedy! 🔥🌿 \n📅 Date: March 21st⏰ Time: 3:00 PM – 6:00 PM📍 Location: Nature’s Remedy \n🌟 Join us for an exciting Vendor Day with Peninsula Gardens at Nature’s Remedy! 🌟 \n💥 Exclusive Promotion: BUY 2️⃣ GET 1️⃣ FREE on eighths! 💨💚 \n🎉 What to Expect:✅ Amazing Deals 💰✨✅ Top-Quality Products 🌱🔥✅ Meet the Experts 👩‍🔬🗣️ \nCome stock up\, learn more\, and enjoy the best from Peninsula Gardens! Don’t miss out—see you there! 🚀🍃
URL:https://www.naturesremedycannabis.com/event/peninsula-gardens-vendor-day-3/
LOCATION:Nature’s Remedy Cannabis\, 925 E Drayton St\, Ferndale\, MI\, 48220\, United States
ATTACH;FMTTYPE=image/jpeg:https://www.naturesremedycannabis.com/wp-content/uploads/2025/03/Peninsula-Gardens-Vendor-Day-32125.jpg
ORGANIZER;CN="Nature's Remedy Cannabis":MAILTO:contact@nrcemails.com
END:VEVENT
BEGIN:VEVENT
DTSTART;TZID=America/Detroit:20250321T090000
DTEND;TZID=America/Detroit:20250321T210000
DTSTAMP:20260421T075255
CREATED:20250319T170931Z
LAST-MODIFIED:20250319T170931Z
UID:10000111-1742547600-1742590800@www.naturesremedycannabis.com
SUMMARY:Light Sky Farms Vendor Day
DESCRIPTION:🌞🌱 Light Sky Farms Vendor Day at Nature’s Remedy! 🌱🌞 \n📅 Date: March 21st⏰ Time: 11:00 AM – 2:00 PM📍 Location: Nature’s Remedy \n✨ Get ready for an amazing Vendor Day with Light Sky Farms at Nature’s Remedy! ✨ \n🔥 Exclusive Promotion: BUY 1️⃣ GET 1️⃣ FREE on ALL Light Sky Farms products! 🌿💨 \n🎉 What to Expect:✅ Unbeatable Deals 💰🔥✅ Top-Shelf Quality 🌱✨✅ Meet the Light Sky Farms Team 👨‍🌾🗣️ \nCome stock up on your favorite Light Sky Farms products\, chat with the experts\, and enjoy some amazing savings! Don’t miss out—see you there! 🚀🌿💚
URL:https://www.naturesremedycannabis.com/event/light-sky-farms-vendor-day-3/
LOCATION:Nature’s Remedy Cannabis\, 925 E Drayton St\, Ferndale\, MI\, 48220\, United States
CATEGORIES:Vendor Days
ATTACH;FMTTYPE=image/jpeg:https://www.naturesremedycannabis.com/wp-content/uploads/2025/03/Light-Sky-Farms-Vendor-Day-32125.jpg
ORGANIZER;CN="Nature's Remedy Cannabis":MAILTO:contact@nrcemails.com
END:VEVENT
BEGIN:VEVENT
DTSTART;TZID=America/Detroit:20250326T090000
DTEND;TZID=America/Detroit:20250326T210000
DTSTAMP:20260421T075255
CREATED:20250325T015227Z
LAST-MODIFIED:20250325T015330Z
UID:10000112-1742979600-1743022800@www.naturesremedycannabis.com
SUMMARY:STIIIZY Vendor Day
DESCRIPTION:🌞🌱 STIIIZY Vendor Day at Nature’s Remedy! 🌱🌞 \n📅 Date: March 26th⏰ Time: 4:00 PM – 7:00 PM📍 Location: Nature’s Remedy \n✨ Get ready for an amazing Vendor Day with STIIIZY at Nature’s Remedy! ✨ \n🔥 Exclusive Promotion: BUY 1️⃣ GET 1️⃣ FREE on ALL STIIIZY products! 🌿💨 \n🎉 What to Expect:✅ Unbeatable Deals 💰🔥✅ Top-Shelf Quality 🌱✨✅ Meet the STIIIZY Team 👨‍🌾🗣️ \nCome stock up on your favorite STIIIZY products\, chat with the experts\, and enjoy some amazing savings! Don’t miss out—see you there! 🚀🌿💚
URL:https://www.naturesremedycannabis.com/event/stiiizy-vendor-day-2/
LOCATION:MI
CATEGORIES:Vendor Days
ORGANIZER;CN="Nature's Remedy Cannabis":MAILTO:contact@nrcemails.com
END:VEVENT
END:VCALENDAR