BEGIN:VCALENDAR
VERSION:2.0
PRODID:-//Nature&#039;s Remedy Cannabis - ECPv6.15.20//NONSGML v1.0//EN
CALSCALE:GREGORIAN
METHOD:PUBLISH
X-WR-CALNAME:Nature&#039;s Remedy Cannabis
X-ORIGINAL-URL:https://www.naturesremedycannabis.com
X-WR-CALDESC:Events for Nature&#039;s Remedy Cannabis
REFRESH-INTERVAL;VALUE=DURATION:PT1H
X-Robots-Tag:noindex
X-PUBLISHED-TTL:PT1H
BEGIN:VTIMEZONE
TZID:America/Detroit
BEGIN:DAYLIGHT
TZOFFSETFROM:-0500
TZOFFSETTO:-0400
TZNAME:EDT
DTSTART:20240310T070000
END:DAYLIGHT
BEGIN:STANDARD
TZOFFSETFROM:-0400
TZOFFSETTO:-0500
TZNAME:EST
DTSTART:20241103T060000
END:STANDARD
BEGIN:DAYLIGHT
TZOFFSETFROM:-0500
TZOFFSETTO:-0400
TZNAME:EDT
DTSTART:20250309T070000
END:DAYLIGHT
BEGIN:STANDARD
TZOFFSETFROM:-0400
TZOFFSETTO:-0500
TZNAME:EST
DTSTART:20251102T060000
END:STANDARD
BEGIN:DAYLIGHT
TZOFFSETFROM:-0500
TZOFFSETTO:-0400
TZNAME:EDT
DTSTART:20260308T070000
END:DAYLIGHT
BEGIN:STANDARD
TZOFFSETFROM:-0400
TZOFFSETTO:-0500
TZNAME:EST
DTSTART:20261101T060000
END:STANDARD
END:VTIMEZONE
BEGIN:VEVENT
DTSTART;VALUE=DATE:20250416
DTEND;VALUE=DATE:20250425
DTSTAMP:20260421T061953
CREATED:20250415T230937Z
LAST-MODIFIED:20250415T230937Z
UID:10000114-1744761600-1745539199@www.naturesremedycannabis.com
SUMMARY:Kai Cannabis Virtual Vendor Day
DESCRIPTION:📍 Nature’s Remedy – Ferndale📅 Date: April 16th – April 24th\, 2025🕗 Time: 9:00AM – 9:00PM \nKai Cannabis virtual vendor Day at Nature’s Remedy!  💚 \n🔥BUY ANY EIGHTH 3.5G FULL PRICE – GET A THCA PRE-ROLL FOR ONLY $1 ! While supplies last. \n🎥 Meet the team virtually\, learn about their craft\, and snag a sweet deal from the comfort of home! \n💬 Got questions? Our budtenders will be online and in-store to help you get the most from this promo! \nDon’t miss it – stock up\, stay lifted\, and remember nature is the remedy!
URL:https://www.naturesremedycannabis.com/event/kai-cannabis-virtual-vendor-day/
LOCATION:Nature’s Remedy Cannabis\, 925 E Drayton St\, Ferndale\, MI\, 48220\, United States
CATEGORIES:Promo Event,Vendor Days
ATTACH;FMTTYPE=image/png:https://www.naturesremedycannabis.com/wp-content/uploads/2025/04/CBD-DEAL-.png
ORGANIZER;CN="Nature's Remedy Cannabis":MAILTO:contact@nrcemails.com
END:VEVENT
BEGIN:VEVENT
DTSTART;TZID=America/Detroit:20250416T090000
DTEND;TZID=America/Detroit:20250424T210000
DTSTAMP:20260421T061953
CREATED:20250415T225805Z
LAST-MODIFIED:20250415T230626Z
UID:10000113-1744794000-1745528400@www.naturesremedycannabis.com
SUMMARY:Emerald Canning Virtual Vendor Day
DESCRIPTION:📍 Nature’s Remedy – Ferndale📅 Date: April 16th – April 24th\, 2025🕗 Time: 9:00AM – 9:00PM \nGet ready to go green with 🌱 Emerald Canning during our Virtual Vendor Day at Nature’s Remedy! Join us online for exclusive deals\, brand info\, and chill vibes 💚 \n🔥 BOGO Special – Buy One\, Get One FREE on select Emerald Canning products! \n\nCQ Products\nHighly Casual Beverages\nMary Jones Products\nPleasanteas Drinks\n\nThat’s double the flavor\, double the fire – for half the price! 🔥🤑 \n🎥 Meet the team virtually\, learn about their craft\, and snag a sweet deal from the comfort of home! \n💬 Got questions? Our budtenders will be online and in-store to help you get the most from this promo! \nDon’t miss it – stock up\, stay lifted\, and experience the Emerald difference! 🌿💨
URL:https://www.naturesremedycannabis.com/event/%f0%9f%8c%bfemerald-canning-virtual-vendor-day%f0%9f%92%bb%e2%9c%a8/
LOCATION:Nature’s Remedy Cannabis\, 925 E Drayton St\, Ferndale\, MI\, 48220\, United States
CATEGORIES:Promo Event,Vendor Days
ATTACH;FMTTYPE=image/png:https://www.naturesremedycannabis.com/wp-content/uploads/2025/04/CBD-DEAL-.png
ORGANIZER;CN="Nature's Remedy Cannabis":MAILTO:contact@nrcemails.com
END:VEVENT
BEGIN:VEVENT
DTSTART;VALUE=DATE:20250419
DTEND;VALUE=DATE:20250420
DTSTAMP:20260421T061953
CREATED:20250415T232905Z
LAST-MODIFIED:20250415T233026Z
UID:10000115-1745020800-1745107199@www.naturesremedycannabis.com
SUMMARY:Fresh Coast Vendor Day
DESCRIPTION:📍 Nature’s Remedy – Ferndale📅 Date: April 19th\, 2025🕗 Time: 10:00AM – 12:00PM \nFresh Coast vendor Day only at Nature’s Remedy!  💚 \n🔥BUY TWO\, GET TWO ALL PRODUCTS!  🔥 \n\nExcludes Ritual Line\nWhile supplies last.\n\n🎥 Meet the team\, learn about their craft\, snag a sweet deal and get some swag! \n💬 Got questions? Our budtenders will be online and in-store to help you get the most from this promo! \nDon’t miss it – stock up\, stay lifted\, and remember nature is the remedy! \nJoin us 4/19 for the ultimate party in Ferndale! \n\nEXCLUSIVE DEALS\nENTERTAINMENT\nFOOD\nART\n& MORE\n\nFirst 150 people in line that spend $100 – get a free goodie bag! \n\nWhile supplies last!
URL:https://www.naturesremedycannabis.com/event/fresh-coast-vendor-day-2/
LOCATION:Nature’s Remedy Cannabis\, 925 E Drayton St\, Ferndale\, MI\, 48220\, United States
CATEGORIES:Party,Promo Event,Vendor Days
ORGANIZER;CN="Nature's Remedy Cannabis":MAILTO:contact@nrcemails.com
END:VEVENT
BEGIN:VEVENT
DTSTART;VALUE=DATE:20250419
DTEND;VALUE=DATE:20250420
DTSTAMP:20260421T061953
CREATED:20250415T233535Z
LAST-MODIFIED:20250415T233535Z
UID:10000116-1745020800-1745107199@www.naturesremedycannabis.com
SUMMARY:Roses Vendor Day
DESCRIPTION:📍 Nature’s Remedy – Ferndale📅 Date: April 19th\, 2025🕗 Time: 10:00AM – 12:00PM \nRoses vendor Day only at Nature’s Remedy!  💚 \n🔥40% OFF ALL ROSES INFUSED PRE-ROLLS!  🔥 \n\nWhile supplies last.\n\n🎥 Meet the team\, learn about their craft\, snag a sweet deal and get some swag! \n💬 Got questions? Our budtenders will be online and in-store to help you get the most from this promo! \nDon’t miss it – stock up\, stay lifted\, and remember nature is the remedy! \nJoin us 4/19 for the ultimate party in Ferndale! \n\nEXCLUSIVE DEALS\nENTERTAINMENT\nFOOD\nART\n& MORE\n\nFirst 150 people in line that spend $100 – get a free goodie bag! \n\nWhile supplies last!
URL:https://www.naturesremedycannabis.com/event/roses-vendor-day/
LOCATION:Nature’s Remedy Cannabis\, 925 E Drayton St\, Ferndale\, MI\, 48220\, United States
CATEGORIES:Party,Promo Event,Vendor Days
ORGANIZER;CN="Nature's Remedy Cannabis":MAILTO:contact@nrcemails.com
END:VEVENT
BEGIN:VEVENT
DTSTART;VALUE=DATE:20250419
DTEND;VALUE=DATE:20250420
DTSTAMP:20260421T061953
CREATED:20250415T234915Z
LAST-MODIFIED:20250415T234915Z
UID:10000117-1745020800-1745107199@www.naturesremedycannabis.com
SUMMARY:Light Sky Farms Vendor Day
DESCRIPTION:📍 Nature’s Remedy – Ferndale📅 Date: April 19th\, 2025🕗 Time: 12:00PM – 2:00PM \nLightsky Farms vendor Day only at Nature’s Remedy!  💚 \n🔥BUY ONE GET ONE ALL LIGHTSKY FARMS PRODUCTS!  🔥 \n\nWhile supplies last.\n\n🎥 Meet the team\, learn about their craft\, snag a sweet deal and get some swag! \n💬 Got questions? Our budtenders will be online and in-store to help you get the most from this promo! \nDon’t miss it – stock up\, stay lifted\, and remember nature is the remedy! \nJoin us 4/19 for the ultimate party in Ferndale! \n\nEXCLUSIVE DEALS\nENTERTAINMENT\nFOOD\nART\n& MORE\n\nFirst 150 people in line that spend $100 – get a free goodie bag! \n\nWhile supplies last!
URL:https://www.naturesremedycannabis.com/event/light-sky-farms-vendor-day-419/
LOCATION:Nature’s Remedy Cannabis\, 925 E Drayton St\, Ferndale\, MI\, 48220\, United States
CATEGORIES:Party,Promo Event,Vendor Days
ORGANIZER;CN="Nature's Remedy Cannabis":MAILTO:contact@nrcemails.com
END:VEVENT
BEGIN:VEVENT
DTSTART;VALUE=DATE:20250419
DTEND;VALUE=DATE:20250420
DTSTAMP:20260421T061953
CREATED:20250415T235111Z
LAST-MODIFIED:20250415T235111Z
UID:10000118-1745020800-1745107199@www.naturesremedycannabis.com
SUMMARY:Vapin Ape Vendor Day
DESCRIPTION:📍 Nature’s Remedy – Ferndale📅 Date: April 19th\, 2025🕗 Time: 1:00PM – 3:00PM \nVAPIN APE vendor Day only at Nature’s Remedy!  💚 \n🔥BUY ONE GET ONE FREE ALL VAPES!  🔥 \n\nWhile supplies last.\n\n🎥 Meet the team\, learn about their craft\, snag a sweet deal and get some swag! \n💬 Got questions? Our budtenders will be online and in-store to help you get the most from this promo! \nDon’t miss it – stock up\, stay lifted\, and remember nature is the remedy! \nJoin us 4/19 for the ultimate party in Ferndale! \n\nEXCLUSIVE DEALS\nENTERTAINMENT\nFOOD\nART\n& MORE\n\nFirst 150 people in line that spend $100 – get a free goodie bag! \n\nWhile supplies last!
URL:https://www.naturesremedycannabis.com/event/vapin-ape-vendor-day-2/
LOCATION:Nature’s Remedy Cannabis\, 925 E Drayton St\, Ferndale\, MI\, 48220\, United States
CATEGORIES:Party,Promo Event,Vendor Days
ORGANIZER;CN="Nature's Remedy Cannabis":MAILTO:contact@nrcemails.com
END:VEVENT
BEGIN:VEVENT
DTSTART;VALUE=DATE:20250419
DTEND;VALUE=DATE:20250420
DTSTAMP:20260421T061953
CREATED:20250415T235317Z
LAST-MODIFIED:20250415T235317Z
UID:10000119-1745020800-1745107199@www.naturesremedycannabis.com
SUMMARY:Giving Tree Vendor Day
DESCRIPTION:📍 Nature’s Remedy – Ferndale📅 Date: April 19th\, 2025🕗 Time: 4:00PM – 7:00PM \nGiving Tree vendor Day only at Nature’s Remedy!  💚 \n🔥EXCLUSIVE PROMOTIONS!  🔥 \n\nBULK FLOWER DEALS\n5 FOR $20 PRE-ROLLS 1G\nWhile supplies last.\n\n🎥 Meet the team\, learn about their craft\, snag a sweet deal and get some swag! \n💬 Got questions? Our budtenders will be online and in-store to help you get the most from this promo! \nDon’t miss it – stock up\, stay lifted\, and remember nature is the remedy! \nJoin us 4/19 for the ultimate party in Ferndale! \n\nEXCLUSIVE DEALS\nENTERTAINMENT\nFOOD\nART\n& MORE\n\nFirst 150 people in line that spend $100 – get a free goodie bag! \n\nWhile supplies last!
URL:https://www.naturesremedycannabis.com/event/giving-tree-vendor-day/
LOCATION:Nature’s Remedy Cannabis\, 925 E Drayton St\, Ferndale\, MI\, 48220\, United States
CATEGORIES:Party,Promo Event,Vendor Days
ORGANIZER;CN="Nature's Remedy Cannabis":MAILTO:contact@nrcemails.com
END:VEVENT
BEGIN:VEVENT
DTSTART;TZID=America/Detroit:20250419T090000
DTEND;TZID=America/Detroit:20250419T210000
DTSTAMP:20260421T061953
CREATED:20250220T221337Z
LAST-MODIFIED:20250304T202001Z
UID:10000109-1745053200-1745096400@www.naturesremedycannabis.com
SUMMARY:NRC 4/20 Celebration – Saturday 4/19!
DESCRIPTION:🌿 The biggest cannabis holiday of the year is here! 🌿 Since 4/20 falls on Easter Sunday\, we’re throwing the ultimate 4/20 Bash on Saturday\, April 19th—and you won’t want to miss it! \n🎉 Event Details:📅 Saturday\, April 19th🕘 Doors open at 9 AM – The first 150 people who spend $100+ (before tax & after discounts) get a FREE $200 Goodie Bag! (People start lining up as early as 7 AM!)🎊 Party from 12–5 PM – Enjoy food\, vendors\, raffles\, giveaways\, live DJ\, amazing deals\, and more! \n🔥 Exclusive 4/20 Promos:💳 Gift Card Bonus – Buy a $100 e-gift card (4/16 – 4/24) and get a $20 bonus gift card!💨 4/20 Bundle – Get $250 worth of products for just $149\, available all of April!💰 Massive 4/20 Deals – Our full lineup of deals runs from 4/16 – 4/24\, with exclusive\, one-day-only fire deals on 4/19!🎟️ $2\,000 April Raffle – Get 1 entry for every $200 spent or purchase additional entries for $25. \n🎁 Raffle Grand Prize Includes:Puffco Peak Pro | Hypha prerolls & half oz | NRC prerolls | Fear of Boof 8th | Peninsula 8ths & prerolls | 710 8th\, preroll & Persy Rosin | Vanilla Sunshine 8th | Raw Hoodie | Terpometer | Flower Mill Grinder | NRC papers\, lighter & lanyard | Grab n Go Wax\, preroll pack & gummies | Fresh Coast Gummies | Wyld Gummies | Growing Pains Vape | Voyage Bloom/KAI 8th | Giving Tree\, Glorious & Roses Prerolls \n🚀 Don’t miss the biggest 4/20 event of the year at Nature’s Remedy Cannabis! Mark your calendars\, bring your friends\, and let’s celebrate in style! \n#NaturesRemedy420 #420Celebration #StayLifted
URL:https://www.naturesremedycannabis.com/event/nrc-4-20-celebration-saturday-4-19/
LOCATION:Nature’s Remedy Cannabis\, 925 E Drayton St\, Ferndale\, MI\, 48220\, United States
CATEGORIES:Party,Promo Event,Raffle,Vendor Days
ATTACH;FMTTYPE=image/jpeg:https://www.naturesremedycannabis.com/wp-content/uploads/2025/02/HOUR-DETROIT-EMAIL-BANNER-3.jpg
ORGANIZER;CN="Nature's Remedy Cannabis":MAILTO:contact@nrcemails.com
END:VEVENT
END:VCALENDAR