BEGIN:VCALENDAR
VERSION:2.0
PRODID:-//Nature&#039;s Remedy Cannabis - ECPv6.15.20//NONSGML v1.0//EN
CALSCALE:GREGORIAN
METHOD:PUBLISH
X-ORIGINAL-URL:https://www.naturesremedycannabis.com
X-WR-CALDESC:Events for Nature&#039;s Remedy Cannabis
REFRESH-INTERVAL;VALUE=DURATION:PT1H
X-Robots-Tag:noindex
X-PUBLISHED-TTL:PT1H
BEGIN:VTIMEZONE
TZID:America/Detroit
BEGIN:DAYLIGHT
TZOFFSETFROM:-0500
TZOFFSETTO:-0400
TZNAME:EDT
DTSTART:20250309T070000
END:DAYLIGHT
BEGIN:STANDARD
TZOFFSETFROM:-0400
TZOFFSETTO:-0500
TZNAME:EST
DTSTART:20251102T060000
END:STANDARD
BEGIN:DAYLIGHT
TZOFFSETFROM:-0500
TZOFFSETTO:-0400
TZNAME:EDT
DTSTART:20260308T070000
END:DAYLIGHT
BEGIN:STANDARD
TZOFFSETFROM:-0400
TZOFFSETTO:-0500
TZNAME:EST
DTSTART:20261101T060000
END:STANDARD
BEGIN:DAYLIGHT
TZOFFSETFROM:-0500
TZOFFSETTO:-0400
TZNAME:EDT
DTSTART:20270314T070000
END:DAYLIGHT
BEGIN:STANDARD
TZOFFSETFROM:-0400
TZOFFSETTO:-0500
TZNAME:EST
DTSTART:20271107T060000
END:STANDARD
END:VTIMEZONE
BEGIN:VEVENT
DTSTART;TZID=America/Detroit:20260420T110000
DTEND;TZID=America/Detroit:20260420T130000
DTSTAMP:20260421T125215
CREATED:20260420T155504Z
LAST-MODIFIED:20260420T155704Z
UID:10000733-1776682800-1776690000@www.naturesremedycannabis.com
SUMMARY:Cousin's Maine Lobster Food Truck
DESCRIPTION:📍 Nature’s Remedy – Ferndale📅 Date: April 20th\, 2026 🕗 Time: 11:00AM – 1:00PM \nHAPPY 420!🔥 \nGet ready for a delicious 420 treat! Cousins Maine Lobster is rolling into Nature’s Remedy Cannabis – Ferndale on Monday\, April 20th\, 2026 from 11:00 AM to 1:00 PM. \nCome shop your favorite products\, then grab a fresh bite from one of the most-loved food trucks around — featuring lobster favorites like lobster rolls\, lobster tots\, and more! See their menu \nWhether you’re on your lunch break or making a midday stop\, this is the perfect way to kick off the 420 celebration. \n_____________________________________________________________________________ \n💲NEW DEALS EVERY FRIDAY💲\nENJOY DEALS\, GIVEAWAYS\, & MORE ONLY AT NATURE’S REMEDY CANNABIS ! \n\nNEW DEALS EVERY FRIDAY – Don’t miss out on our fresh offerings every week that cater to all preferences and budgets!\nSAVINGS EVERY SATURDAY – After the excitement of Friday\, enjoy more savings every Saturday with our special promotions!\nGIVEAWAYS EVERY MONTH – Join our monthly events for a chance to win fantastic prizes and exclusive products!\n& MORE – Stay connected with us for updates on all our offers\, events\, and cannabis education opportunities
URL:https://www.naturesremedycannabis.com/event/cousins-maine-lobster-food-truck-2/
LOCATION:Nature’s Remedy Cannabis\, 925 E Drayton St\, Ferndale\, MI\, 48220\, United States
CATEGORIES:Food Truck,Party,Sale
ATTACH;FMTTYPE=image/jpeg:https://www.naturesremedycannabis.com/wp-content/uploads/2026/04/DO-NOT-TOUCH-VENDOR-DAY-WEBSITE-GRAPHICS-10-scaled.jpg
ORGANIZER;CN="Nature's Remedy Cannabis":MAILTO:contact@nrcemails.com
END:VEVENT
END:VCALENDAR